BEGIN:VCALENDAR
VERSION:2.0
PRODID:-//Caritas Barcelona - ECPv6.15.18//NONSGML v1.0//EN
CALSCALE:GREGORIAN
METHOD:PUBLISH
X-ORIGINAL-URL:https://caritas.barcelona/es/
X-WR-CALDESC:Eventos para Caritas Barcelona
REFRESH-INTERVAL;VALUE=DURATION:PT1H
X-Robots-Tag:noindex
X-PUBLISHED-TTL:PT1H
BEGIN:VTIMEZONE
TZID:Europe/Madrid
BEGIN:DAYLIGHT
TZOFFSETFROM:+0100
TZOFFSETTO:+0200
TZNAME:CEST
DTSTART:20250330T010000
END:DAYLIGHT
BEGIN:STANDARD
TZOFFSETFROM:+0200
TZOFFSETTO:+0100
TZNAME:CET
DTSTART:20251026T010000
END:STANDARD
BEGIN:DAYLIGHT
TZOFFSETFROM:+0100
TZOFFSETTO:+0200
TZNAME:CEST
DTSTART:20260329T010000
END:DAYLIGHT
BEGIN:STANDARD
TZOFFSETFROM:+0200
TZOFFSETTO:+0100
TZNAME:CET
DTSTART:20261025T010000
END:STANDARD
BEGIN:DAYLIGHT
TZOFFSETFROM:+0100
TZOFFSETTO:+0200
TZNAME:CEST
DTSTART:20270328T010000
END:DAYLIGHT
BEGIN:STANDARD
TZOFFSETFROM:+0200
TZOFFSETTO:+0100
TZNAME:CET
DTSTART:20271031T010000
END:STANDARD
END:VTIMEZONE
BEGIN:VEVENT
DTSTART;TZID=Europe/Madrid:20260416T093000
DTEND;TZID=Europe/Madrid:20260507T130000
DTSTAMP:20260423T172722
CREATED:20260127T125317Z
LAST-MODIFIED:20260217T174724Z
UID:10002199-1776331800-1778158800@caritas.barcelona
SUMMARY:CURSO BÁSICO DE VOLUNTARIADO SOCIAL 2026.04_VOLSBAS03 - Duración 14 horas (4 sesiones)
DESCRIPTION:Curso básico de voluntariado social\nPara comprender y adquirir las competencias básicas a la hora de iniciarse en la acción voluntaria en una entidad social. \nA cargo del profesorado de la Escuela de formación del voluntariado de CDB. \nPersonas destinatarias: personas con sensibilidad social y que se inician o quieren iniciarse en el voluntariado en este ámbito. \nHorario: Curso de 14 horas impartido en 4 sesiones de tres horas y media\, jueves 16\, 23 y 30 de abril y 7 de mayo de 2026\, de 9.30 a 13.00 hs \n Modalidad: PRESENCIAL EN CATALÁN \nInscripción previa. Plazas limitadas. Las personas interesadas se pueden inscribir clicando en este \nFORMULARIO DE INSCRIPCIÓN\nCoste de inscripción: Aportación de 10€. Para las personas que ya forman parte del equipo de voluntariado de Cáritas\, esta aportación es totalmente libre y voluntaria. (Las personas que no puedan asumir este coste\, pueden solicitar la exención del pago). \nCódigo curso: 2026.04_VOLSBAS03 \nCurso reconocido por el Pla de Formació de l’Associacionsime i el Voluntariat de Catalunya (PFAVC) \nCon el soporte de   
URL:https://caritas.barcelona/es/agenda-caritas/curso-basico-de-voluntariado-social-2026-04_volsbas03-duracion-14-horas-4-sesiones/
LOCATION:Seminari Conciliar de Barcelona\, Diputació\, 231\, Barcelona\, Barcelona\, 08007\, Espanya
ATTACH;FMTTYPE=image/jpeg:https://caritas.barcelona/wp-content/uploads/2023/07/VOLSBAS_Proposta.jpg
ORGANIZER;CN="C%C3%A0ritas Barcelona":MAILTO:caritas@caritas.barcelona
GEO:41.3882329;2.1629603
X-APPLE-STRUCTURED-LOCATION;VALUE=URI;X-ADDRESS=Seminari Conciliar de Barcelona Diputació 231 Barcelona Barcelona 08007 Espanya;X-APPLE-RADIUS=500;X-TITLE=Diputació\, 231:geo:2.1629603,41.3882329
END:VEVENT
BEGIN:VEVENT
DTSTART;TZID=Europe/Madrid:20260421T180000
DTEND;TZID=Europe/Madrid:20260526T200000
DTSTAMP:20260423T172722
CREATED:20260216T210350Z
LAST-MODIFIED:20260217T175106Z
UID:10002205-1776794400-1779825600@caritas.barcelona
SUMMARY:2026.04_MIGREF01 - Curso básico en migración y refugio - Presencial (en catalán)
DESCRIPTION:Desde Cáritas Barcelona queremos reflexionar sobre la diversidad cultural en la sociedad actual\, y conocer y adquirir herramientas para la gestión y el tratamiento de sus estereotipos\, prejuicios y rumores. \n \nEl curso irá a cargo de Forn de Teatre Pa’tothom y el equipo de formadores de la Escola de Formació del Voluntariat de CDB y tiene como objetivos: \n• Reflexionar sobre el hecho de la diversidad cultural en nuestra sociedad y adquirir claves interpretativas para comprender la complejidad de nuestra sociedad desde el punto de vista de la diversidad cultural. \n• Conocer algunas herramientas para el trabajo\, la gestión y el tratamiento de estereotipos\, prejuicios y rumores sobre diversidad cultural. \nPersonas destinatarias: Personas interesadas en formarse en el tema de la gestión de la diversidad cultural. Voluntarios y miembros de los grupos de Cáritas y de las comunidades cristianas que colaboren en proyectos de acción social\, de atención y acompañamiento a personas de origen cultural diverso. \nDías: martes 21 y 28 de abril\, 5\, 12\, 19 y 26 de mayo de 2026 \nHorario: de 18.00 a 20.00 h \nLugar: Càritas Diocesana de Barcelona\, Arxiprestat de Llobregat\, Av. Sant Ildefons\, 15 – 08940 Cornellà de Llobregat \nComo llegar: Metro: Sant Ildefons (L5) \nPlazas limitadas. Hace falta inscripción previa a través del siguiente FORMULARI \nCoste de inscripción: Gratuito para las personas que forman parte del equipo de Càritas. Aportación de 10€ para el resto (las personas que no puedan asumir este coste\, pueden solicitar la exención del pago). \nEl CURSO consta de 6 sesiones de dos horas. A las personas que asistan como mínimo al 80% de las sesiones se les expedirá un diploma de asistencia. \nCurso reconocido por el Pla de Formació de l’Associacionsime i el Voluntariat de Catalunya (PFAVC) \nCon el soporte de   
URL:https://caritas.barcelona/es/agenda-caritas/2026-04_migref01-curso-basico-en-migracion-y-refugio-presencial-en-catalan/
LOCATION:Cáritas Diocesana de Barcelona – Zona Pastoral 4\, Av. Sant Ildefons\, 15\, Cornellà de Llobregat\, Barcelona\, 08940\, Espanya
ATTACH;FMTTYPE=image/jpeg:https://caritas.barcelona/wp-content/uploads/2024/02/curs-migracio-1.jpg
ORGANIZER;CN="C%C3%A0ritas Barcelona":MAILTO:caritas@caritas.barcelona
GEO:41.3655204;2.1396855
X-APPLE-STRUCTURED-LOCATION;VALUE=URI;X-ADDRESS=Cáritas Diocesana de Barcelona – Zona Pastoral 4 Av. Sant Ildefons 15 Cornellà de Llobregat Barcelona 08940 Espanya;X-APPLE-RADIUS=500;X-TITLE=Av. Sant Ildefons\, 15:geo:2.1396855,41.3655204
END:VEVENT
BEGIN:VEVENT
DTSTART;TZID=Europe/Madrid:20260513T170000
DTEND;TZID=Europe/Madrid:20260513T183000
DTSTAMP:20260423T172722
CREATED:20260403T110242Z
LAST-MODIFIED:20260410T101649Z
UID:10002221-1778691600-1778697000@caritas.barcelona
SUMMARY:SESIÓN INFORMATIVA SOBRE VOLUNTARIADO - GENERAL -Formato presencial- 13 de mayo a las 17h (en catalán)
DESCRIPTION:Este es el primer paso para ser voluntario o voluntaria de Cáritas. Desde el programa de Voluntariado\, organizamos sesiones informativas periódicas\, para todas aquellas personas que quieran ser voluntarias en nuestra institución.  \nEsta sesión se impartirá en catalán\nSi quieres apuntarte a una sesión informativa sobre el voluntariado de Càritas\, inscríbete a través del siguiente formulario\, indicando la sesión a la cual quieres asistir: \n Hazte voluntario | Caritas Barcelona \nLugar: Centro de Barcelona (Lugar a confirmar)\n  \nEl programa de voluntariat de Càritas Barcelona compta amb el suport de la Generalitat de Catalunya.
URL:https://caritas.barcelona/es/agenda-caritas/sesion-informativa-sobre-voluntariado-general-formato-presencial-13-de-mayo-a-las-17h-en-catalan/
LOCATION:Barcelona
ATTACH;FMTTYPE=image/png:https://caritas.barcelona/wp-content/uploads/2025/08/Fes-voluntariat_generic.png
ORGANIZER;CN="C%C3%A0ritas Barcelona":MAILTO:caritas@caritas.barcelona
END:VEVENT
BEGIN:VEVENT
DTSTART;TZID=Europe/Madrid:20260520T093000
DTEND;TZID=Europe/Madrid:20260610T130000
DTSTAMP:20260423T172722
CREATED:20260223T192523Z
LAST-MODIFIED:20260223T192523Z
UID:10002209-1779269400-1781096400@caritas.barcelona
SUMMARY:CURSO BÁSICO DE VOLUNTARIADO SOCIAL 2026.05_VOLSBAS04 - Duración 14 horas (4 sesiones)
DESCRIPTION:Curso básico de voluntariado social\nPara comprender y adquirir las competencias básicas a la hora de iniciarse en la acción voluntaria en una entidad social. \nA cargo del profesorado de la Escuela de formación del voluntariado de CDB. \nPersonas destinatarias: personas con sensibilidad social y que se inician o quieren iniciarse en el voluntariado en este ámbito. \nHorario: Curso de 14 horas impartido en 4 sesiones de tres horas y media\, miércoles 20 y 27 de mayo y 3 y 10 de junio de 2026\, de 9.30 a 13.00 hs \n Modalidad: PRESENCIAL EN CATALÁN \nInscripción previa. Plazas limitadas. Las personas interesadas se pueden inscribir clicando en este \nFORMULARIO DE INSCRIPCIÓN\nCoste de inscripción: Aportación de 10€. Para las personas que ya forman parte del equipo de voluntariado de Cáritas\, esta aportación es totalmente libre y voluntaria. (Las personas que no puedan asumir este coste\, pueden solicitar la exención del pago). \nCódigo curso: 2026.05_VOLSBAS04 \nCurso reconocido por el Pla de Formació de l’Associacionsime i el Voluntariat de Catalunya (PFAVC) \nCon el soporte de   
URL:https://caritas.barcelona/es/agenda-caritas/curso-basico-de-voluntariado-social-2026-05_volsbas04-duracion-14-horas-4-sesiones/
LOCATION:Seminari Conciliar de Barcelona\, Diputació\, 231\, Barcelona\, Barcelona\, 08007\, Espanya
ATTACH;FMTTYPE=image/jpeg:https://caritas.barcelona/wp-content/uploads/2023/07/VOLSBAS_Proposta.jpg
ORGANIZER;CN="C%C3%A0ritas Barcelona":MAILTO:caritas@caritas.barcelona
GEO:41.3882329;2.1629603
X-APPLE-STRUCTURED-LOCATION;VALUE=URI;X-ADDRESS=Seminari Conciliar de Barcelona Diputació 231 Barcelona Barcelona 08007 Espanya;X-APPLE-RADIUS=500;X-TITLE=Diputació\, 231:geo:2.1629603,41.3882329
END:VEVENT
END:VCALENDAR