BEGIN:VCALENDAR
VERSION:2.0
PRODID:-//Caritas Barcelona - ECPv6.15.18//NONSGML v1.0//EN
CALSCALE:GREGORIAN
METHOD:PUBLISH
X-WR-CALNAME:Caritas Barcelona
X-ORIGINAL-URL:https://caritas.barcelona/es/
X-WR-CALDESC:Eventos para Caritas Barcelona
REFRESH-INTERVAL;VALUE=DURATION:PT1H
X-Robots-Tag:noindex
X-PUBLISHED-TTL:PT1H
BEGIN:VTIMEZONE
TZID:Europe/Madrid
BEGIN:DAYLIGHT
TZOFFSETFROM:+0100
TZOFFSETTO:+0200
TZNAME:CEST
DTSTART:20240331T010000
END:DAYLIGHT
BEGIN:STANDARD
TZOFFSETFROM:+0200
TZOFFSETTO:+0100
TZNAME:CET
DTSTART:20241027T010000
END:STANDARD
BEGIN:DAYLIGHT
TZOFFSETFROM:+0100
TZOFFSETTO:+0200
TZNAME:CEST
DTSTART:20250330T010000
END:DAYLIGHT
BEGIN:STANDARD
TZOFFSETFROM:+0200
TZOFFSETTO:+0100
TZNAME:CET
DTSTART:20251026T010000
END:STANDARD
BEGIN:DAYLIGHT
TZOFFSETFROM:+0100
TZOFFSETTO:+0200
TZNAME:CEST
DTSTART:20260329T010000
END:DAYLIGHT
BEGIN:STANDARD
TZOFFSETFROM:+0200
TZOFFSETTO:+0100
TZNAME:CET
DTSTART:20261025T010000
END:STANDARD
END:VTIMEZONE
BEGIN:VEVENT
DTSTART;TZID=Europe/Madrid:20251006T170000
DTEND;TZID=Europe/Madrid:20251103T200000
DTSTAMP:20260423T231644
CREATED:20250704T072046Z
LAST-MODIFIED:20250724T092156Z
UID:10002121-1759770000-1762200000@caritas.barcelona
SUMMARY:CURSO BÁSICO DE VOLUNTARIADO SOCIAL 2025.10_VOLSBAS07 - Duración 14 horas (5 sesiones)
DESCRIPTION:Curso básico de voluntariado social\nPara comprender y adquirir las competencias básicas a la hora de iniciarse en la acción voluntaria en una entidad social. \nA cargo del profesorado de la Escuela de formación del voluntariado de CDB. \nPersonas destinatarias: personas con sensibilidad social y que se inician o quieren iniciarse en el voluntariado en este ámbito. \nHorario: Curso de 14 horas impartido en 5 sesiones de tres horas\, lunes 6\, 13\, 20\, 27 de octubre i 3 de noviembre d 2025\, de 17:00 a 20:00 h. \n Modalidad: PRESENCIAL EN CATALÁN \nInscripción previa. Plazas limitadas. Las personas interesadas se pueden inscribir clicando en este \nFORMULARIO DE INSCRIPCIÓN\nCoste de inscripción: Gratuito para las personas que forman parte del equipo de Càritas. Aportación de 10€ para el resto (las personas que no puedan asumir este coste\, pueden solicitar la exención del pago). \nCódigo curso: 2025.10_VOLSBAS07 \nCurso reconocido por el Pla de formació de l’associacionsime i el voluntariat de Catalunya (PFAVC) \nEl programa de voluntariado de Cáritas Barcelona cuenta con el soporte de la Generalitat de Catalunya.
URL:https://caritas.barcelona/es/agenda-caritas/curso-basico-de-voluntariado-social-2025-09_volsbas07-duracion-14-horas-4-sesiones/
LOCATION:Seminari Conciliar de Barcelona\, Diputació\, 231\, Barcelona\, Barcelona\, 08007\, Espanya
ATTACH;FMTTYPE=image/jpeg:https://caritas.barcelona/wp-content/uploads/2023/07/VOLSBAS_Proposta.jpg
ORGANIZER;CN="C%C3%A0ritas Barcelona":MAILTO:caritas@caritas.barcelona
GEO:41.3882329;2.1629603
X-APPLE-STRUCTURED-LOCATION;VALUE=URI;X-ADDRESS=Seminari Conciliar de Barcelona Diputació 231 Barcelona Barcelona 08007 Espanya;X-APPLE-RADIUS=500;X-TITLE=Diputació\, 231:geo:2.1629603,41.3882329
END:VEVENT
BEGIN:VEVENT
DTSTART;TZID=Europe/Madrid:20251112T093000
DTEND;TZID=Europe/Madrid:20251203T130000
DTSTAMP:20260423T231644
CREATED:20250704T073552Z
LAST-MODIFIED:20250704T073552Z
UID:10002123-1762939800-1764766800@caritas.barcelona
SUMMARY:CURSO BÁSICO DE VOLUNTARIADO SOCIAL 2025.11_VOLSBAS08 - Duración 14 horas (4 sesiones)
DESCRIPTION:Curso básico de voluntariado social\nPara comprender y adquirir las competencias básicas a la hora de iniciarse en la acción voluntaria en una entidad social. \nA cargo del profesorado de la Escuela de formación del voluntariado de CDB. \nPersonas destinatarias: personas con sensibilidad social y que se inician o quieren iniciarse en el voluntariado en este ámbito. \nHorario: Curso de 14 horas impartido en 4 sesiones de tres horas y media\, miércoles 12\, 19 y 26 de noviembre y 3 de diciembre de 2025\, de 9.30 a 13.00 hs \n Modalidad: PRESENCIAL EN CATALÁN \nInscripción previa. Plazas limitadas. Las personas interesadas se pueden inscribir clicando en este \nFORMULARIO DE INSCRIPCIÓN\nCoste de inscripción: Aportación de 10€. Para las personas que ya forman parte del equipo de voluntariado de Cáritas\, esta aportación es totalmente libre y voluntaria. (Las personas que no puedan asumir este coste\, pueden solicitar la exención del pago). \nCódigo curso: 2025.11_VOLSBAS08 \nCurso reconocido por el Pla de formació de l’associacionsime i el voluntariat de Catalunya (PFAVC) \nEl programa de voluntariado de Cáritas Barcelona cuenta con el soporte de la Generalitat de Catalunya.
URL:https://caritas.barcelona/es/agenda-caritas/curso-basico-de-voluntariado-social-2025-11_volsbas08-duracion-14-horas-4-sesiones/
LOCATION:Seminari Conciliar de Barcelona\, Diputació\, 231\, Barcelona\, Barcelona\, 08007\, Espanya
ATTACH;FMTTYPE=image/jpeg:https://caritas.barcelona/wp-content/uploads/2023/07/VOLSBAS_Proposta.jpg
ORGANIZER;CN="C%C3%A0ritas Barcelona":MAILTO:caritas@caritas.barcelona
GEO:41.3882329;2.1629603
X-APPLE-STRUCTURED-LOCATION;VALUE=URI;X-ADDRESS=Seminari Conciliar de Barcelona Diputació 231 Barcelona Barcelona 08007 Espanya;X-APPLE-RADIUS=500;X-TITLE=Diputació\, 231:geo:2.1629603,41.3882329
END:VEVENT
BEGIN:VEVENT
DTSTART;TZID=Europe/Madrid:20251119T103000
DTEND;TZID=Europe/Madrid:20251119T120000
DTSTAMP:20260423T231644
CREATED:20251028T144713Z
LAST-MODIFIED:20251028T144713Z
UID:10002147-1763548200-1763553600@caritas.barcelona
SUMMARY:SESIÓN INFORMATIVA SOBRE VOLUNTARIADO - GENERAL -Formato presencial- 19 de noviembre a las 10:30h (en catalán)
DESCRIPTION:Este es el primer paso para ser voluntario o voluntaria de Cáritas. Desde el programa de Voluntariado\, organizamos sesiones informativas periódicas\, para todas aquellas personas que quieran ser voluntarias en nuestra institución.  \nEsta sesión se impartirá en catalán\nSi quieres apuntarte a una sesión informativa sobre el voluntariado de Càritas\, inscríbete a través del siguiente formulario\, indicando la sesión a la cual quieres asistir: \n Hazte voluntario | Caritas Barcelona \nLugar: Plaza Nova\, 1 Barcelona (08002)\n  \nEl programa de voluntariat de Càritas Barcelona compta amb el suport de la Generalitat de Catalunya.
URL:https://caritas.barcelona/es/agenda-caritas/sesion-informativa-sobre-voluntariado-general-formato-presencial-19-de-noviembre-a-las-1030h-en-catalan/
LOCATION:Barcelona 1 – Distritos de Ciutat Vella\, Eixample y barrio del Poble-sec\, Plaça Nova\, 1\, Barcelona\, Barcelona\, 08002\, Espanya
ATTACH;FMTTYPE=image/png:https://caritas.barcelona/wp-content/uploads/2025/08/Fes-voluntariat_generic.png
ORGANIZER;CN="C%C3%A0ritas Barcelona":MAILTO:caritas@caritas.barcelona
GEO:41.3840277;2.1751608
X-APPLE-STRUCTURED-LOCATION;VALUE=URI;X-ADDRESS=Barcelona 1 – Distritos de Ciutat Vella Eixample y barrio del Poble-sec Plaça Nova 1 Barcelona Barcelona 08002 Espanya;X-APPLE-RADIUS=500;X-TITLE=Plaça Nova\, 1:geo:2.1751608,41.3840277
END:VEVENT
BEGIN:VEVENT
DTSTART;TZID=Europe/Madrid:20251120T180000
DTEND;TZID=Europe/Madrid:20251120T200000
DTSTAMP:20260423T231644
CREATED:20251114T122009Z
LAST-MODIFIED:20251114T130233Z
UID:10002151-1763661600-1763668800@caritas.barcelona
SUMMARY:Acto de aniversario: 20 años de la plataforma de entidades cristianas con las personas migrantes
DESCRIPTION:Con motivo de los 20 años del nacimiento de la Plataforma de entidades cristianas con las personas Migrantes\, se celebra el acto de conmemoración: “20 años no son suficientes”. \n \nEl próximo jueves 20 de noviembre celebramos los 20 años de la Plataforma de Entidades Cristianas con las Personas Migrantes\, un espacio nacido en 2005 a raíz de los encierros de personas migradas y que desde entonces trabaja por la reflexión\, la coordinación y la incidencia en favor de los derechos de las personas migrantes. \nPara conmemorar esta trayectoria\, os invitamos a un acto abierto a todo el mundo\, con intervenciones\, reflexión compartida y mirada de futuro. \nEl acto\, que tendrá lugar a las 18h en la Sala de Actos de la Facultad de Comunicación Blanquerna (Plaça Joan Coromines\, Barcelona)\, se estructurará de la siguiente manera: \n– Saludo inicial\, a cargo de representantes de la Iglesia y de Instituciones. \n– Mesa redonda \n\nModera: Judit Bonet\, Fundación Camins y miembro de la Coordinadora de la Plataforma.\n\nParticipantes: \n• Blanca Garcés\, investigadora del CIDOB\, experta en políticas migratorias y cambio de narrativas. \n• Miquel Essomba\, catedrático de pedagogía (UAB)\, vinculado al antirracismo y a las políticas interculturales. \n• Pepe Rodado\, sacerdote obrero\, miembro fundador de la Plataforma y autor de Pregar amb la immigració. \nINSCRIPCIONES: https://forms.office.com/e/51d19hhudE
URL:https://caritas.barcelona/es/agenda-caritas/acto-de-aniversario-20-anos-de-la-plataforma-de-entidades-cristianas-con-las-personas-migrantes/
LOCATION:Facultat de Comunicació i RRII Blanquerna-URL\, Plaça Joan Coromines\, Barcelona\, Barcelona\, 08001\, Espanya
ATTACH;FMTTYPE=image/jpeg:https://caritas.barcelona/wp-content/uploads/2025/11/thumbnail_image010-e1763120779107.jpg
END:VEVENT
BEGIN:VEVENT
DTSTART;TZID=Europe/Madrid:20251127T110000
DTEND;TZID=Europe/Madrid:20251127T130000
DTSTAMP:20260423T231644
CREATED:20251121T211723Z
LAST-MODIFIED:20251121T223427Z
UID:10002157-1764241200-1764248400@caritas.barcelona
SUMMARY:Acción de calle “Sin hogar pero con sueños” con motivo del Día Mundial de las Personas Sin Hogar-Pl. Pompeu Fabra
DESCRIPTION:El día 27 de noviembre\, con motivo del Día Mundial de las Personas Sin Hogar\, diversas entidades nos volvemos a unir para dar visibilidad a la realidad que viven muchas personas en nuestro entorno. \nBajo el lema “sin hogar pero con sueños”\, la Campaña Nadie Sin Hogar de este año pone el foco en la importancia de los vínculos y las relaciones en el proceso de recuperación de las personas en situación de sinhogarismo. Este proceso es personal\, pero también comunitario\, y requiere oportunidades reales para formar parte de la sociedad. Cuando la comunidad acompaña\, los sueños se transforman en esperanza. \nEn Badalona\, por la mañana realizaremos una acción de calle a las 11 h en la Plaça Pompeu Fabra\, y por la tarde proponemos un Paseo de sensibilización a las 18 h\, una ruta guiada para mirar la ciudad desde los ojos de quien no tiene hogar. Las plazas son limitadas\, por lo que se requiere inscripción previa. \n¡Os esperamos! \nInscripciones: https://www.taulasensellarbadalona.cat/passejadasensellar-27novembre/
URL:https://caritas.barcelona/es/agenda-caritas/accion-de-calle-sin-hogar-pero-con-suenos-con-motivo-del-dia-mundial-de-las-personas-sin-hogar/
LOCATION:Plaça Pompeu Fabra\, Carrer de la Creu\, 70\, 08912 Badalona\, Barcelona\, Espanya
ATTACH;FMTTYPE=image/jpeg:https://caritas.barcelona/wp-content/uploads/2025/11/WhatsApp-Image-2025-11-21-at-11.05.06-e1763759730574.jpeg
GEO:41.4489732;2.2440985
X-APPLE-STRUCTURED-LOCATION;VALUE=URI;X-ADDRESS=Plaça Pompeu Fabra Carrer de la Creu 70 08912 Badalona Barcelona Espanya;X-APPLE-RADIUS=500;X-TITLE=Carrer de la Creu\, 70\, 08912 Badalona\, Barcelona:geo:2.2440985,41.4489732
END:VEVENT
BEGIN:VEVENT
DTSTART;TZID=Europe/Madrid:20251127T120000
DTEND;TZID=Europe/Madrid:20251127T140000
DTSTAMP:20260423T231644
CREATED:20251121T225857Z
LAST-MODIFIED:20251124T143540Z
UID:10002161-1764244800-1764252000@caritas.barcelona
SUMMARY:Acción de calle “Sin hogar pero con sueños” con motivo del Día Mundial de las Personas Sin Hogar
DESCRIPTION:El día 27 de noviembre\, con motivo del Día Mundial de las Personas Sin Hogar\, diversas entidades nos volvemos a unir para dar visibilidad a la realidad que viven muchas personas en nuestro entorno. \nBajo el lema “sin hogar pero con sueños”\, la Campaña Nadie Sin Hogar de este año destaca la importancia de los vínculos y de la comunidad en el proceso de recuperación de las personas en situación de sinhogarismo. Sin oportunidades reales\, los sueños quedan lejos; pero cuando la sociedad acompaña\, la esperanza es posible. \nBARCELONA \nOs invitamos a una acción de calle a las 12 h en la Plaza Sant Jaume\, para reivindicar derechos\, dignidad y un futuro con sueños posibles para todas las personas. \n \nBADALONA \npor la mañana realizaremos una acción de calle a las 11 h en la Plaça Pompeu Fabra\, y por la tarde proponemos un Paseo de sensibilización a las 18 h\, una ruta guiada para mirar la ciudad desde los ojos de quien no tiene hogar. Las plazas son limitadas\, por lo que se requiere inscripción previa. \n \nHOSPITALET \nOs invitamos a una acción de calle a las 19 h en la Plaza del Repartidor\, que incluirá la lectura del Manifiesto y una actuación Coral\, para poner voz y emoción a esta reivindicación colectiva. \n \n¡Os esperamos!
URL:https://caritas.barcelona/es/agenda-caritas/accion-de-calle-sin-hogar-pero-con-suenos-con-motivo-del-dia-mundial-de-las-personas-sin-hogar-pl-sant-jaume/
LOCATION:Plaça Sant Jaume\, Plaça de Sant Jaume\, 1\, Barcelona\, Barcelona\, 08002\, Espanya
ATTACH;FMTTYPE=image/jpeg:https://caritas.barcelona/wp-content/uploads/2025/11/WhatsApp-Image-2025-11-12-at-17.25.49-e1763765855332.jpeg
GEO:41.3824792;2.1771411
X-APPLE-STRUCTURED-LOCATION;VALUE=URI;X-ADDRESS=Plaça Sant Jaume Plaça de Sant Jaume 1 Barcelona Barcelona 08002 Espanya;X-APPLE-RADIUS=500;X-TITLE=Plaça de Sant Jaume\, 1:geo:2.1771411,41.3824792
END:VEVENT
BEGIN:VEVENT
DTSTART;TZID=Europe/Madrid:20251127T180000
DTEND;TZID=Europe/Madrid:20251127T200000
DTSTAMP:20260423T231644
CREATED:20251121T225046Z
LAST-MODIFIED:20251121T225046Z
UID:10002159-1764266400-1764273600@caritas.barcelona
SUMMARY:Acción de calle “Sin hogar pero con sueños” con motivo del Día Mundial de las Personas Sin Hogar-Pl. del Repartidor
DESCRIPTION:El día 27 de noviembre\, con motivo del Día Mundial de las Personas Sin Hogar\, diversas entidades nos volvemos a unir para dar visibilidad a la realidad que viven muchas personas en nuestro entorno. \nBajo el lema “sin hogar pero con sueños”\, la Campaña Nadie Sin Hogar de este año pone el foco en la importancia de los vínculos y las relaciones en el proceso de recuperación de las personas en situación de sinhogarismo. Este proceso es compartido: cuando la comunidad acompaña\, los sueños toman forma y se transforman en esperanza. \nEn L’Hospitalet\, os invitamos a una acción de calle a las 18 h en la Plaza del Repartidor\, que incluirá la lectura del Manifiesto y una actuación Coral\, para poner voz y emoción a esta reivindicación colectiva. \n¡Os esperamos!
URL:https://caritas.barcelona/es/agenda-caritas/accion-de-calle-sin-hogar-pero-con-suenos-con-motivo-del-dia-mundial-de-las-personas-sin-hogar-pl-del-repartidor/
LOCATION:Plaça del Repartidor\, Plaça del Repartidor\, Hospitalet de Llobregat\, Barcelona\, 08901\, Espanya
ATTACH;FMTTYPE=image/jpeg:https://caritas.barcelona/wp-content/uploads/2025/11/WhatsApp-Image-2025-11-20-at-18.07.18-1.jpeg
END:VEVENT
BEGIN:VEVENT
DTSTART;TZID=Europe/Madrid:20251130T100000
DTEND;TZID=Europe/Madrid:20251130T170000
DTSTAMP:20260423T231644
CREATED:20251118T111008Z
LAST-MODIFIED:20251118T111916Z
UID:10002153-1764496800-1764522000@caritas.barcelona
SUMMARY:Mercado de Navidad Solidario de Pedralbes
DESCRIPTION:Cáritas Diocesana de Barcelona le invitamos a venir al Mercado de Navidad Solidario de Pedralbes\, una jornada llena de solidaridad\, donde encontrará regalos en Navidad y un ambiente festivo. La recaudación se destinará a apoyar a familias en situación de vulnerabilidad. \n \nDÍA: Domingo 30 de noviembre de 2025 \nHORARIO: de 10 a 17 h \nLUGAR: Plaça del Monestir de Pedralbes \nSi no puede venir pero quiere colaborar\, puede hacerlo a través de la Fila 0:\nBizum: 01166
URL:https://caritas.barcelona/es/agenda-caritas/mercado-de-navidad-solidario-de-pedralbes/
LOCATION:Plaça del Monestir de Pedralbes
ATTACH;FMTTYPE=image/jpeg:https://caritas.barcelona/wp-content/uploads/2025/11/Captura-de-pantalla_18-11-2025_113124_web.whatsapp.com_-e1763463514688.jpeg
END:VEVENT
END:VCALENDAR