BEGIN:VCALENDAR
VERSION:2.0
PRODID:-//Caritas Barcelona - ECPv6.15.18//NONSGML v1.0//EN
CALSCALE:GREGORIAN
METHOD:PUBLISH
X-WR-CALNAME:Caritas Barcelona
X-ORIGINAL-URL:https://caritas.barcelona/es/
X-WR-CALDESC:Eventos para Caritas Barcelona
REFRESH-INTERVAL;VALUE=DURATION:PT1H
X-Robots-Tag:noindex
X-PUBLISHED-TTL:PT1H
BEGIN:VTIMEZONE
TZID:Europe/Madrid
BEGIN:DAYLIGHT
TZOFFSETFROM:+0100
TZOFFSETTO:+0200
TZNAME:CEST
DTSTART:20240331T010000
END:DAYLIGHT
BEGIN:STANDARD
TZOFFSETFROM:+0200
TZOFFSETTO:+0100
TZNAME:CET
DTSTART:20241027T010000
END:STANDARD
BEGIN:DAYLIGHT
TZOFFSETFROM:+0100
TZOFFSETTO:+0200
TZNAME:CEST
DTSTART:20250330T010000
END:DAYLIGHT
BEGIN:STANDARD
TZOFFSETFROM:+0200
TZOFFSETTO:+0100
TZNAME:CET
DTSTART:20251026T010000
END:STANDARD
BEGIN:DAYLIGHT
TZOFFSETFROM:+0100
TZOFFSETTO:+0200
TZNAME:CEST
DTSTART:20260329T010000
END:DAYLIGHT
BEGIN:STANDARD
TZOFFSETFROM:+0200
TZOFFSETTO:+0100
TZNAME:CET
DTSTART:20261025T010000
END:STANDARD
END:VTIMEZONE
BEGIN:VEVENT
DTSTART;TZID=Europe/Madrid:20250113T160000
DTEND;TZID=Europe/Madrid:20250113T173000
DTSTAMP:20260424T120810
CREATED:20241120T075303Z
LAST-MODIFIED:20250129T084006Z
UID:10002064-1736784000-1736789400@caritas.barcelona
SUMMARY:SESIÓN INFORMATIVA SOBRE VOLUNTARIADO-Formato presencial -13 de enero a las 16h (en catalán)
DESCRIPTION:Este es el primer paso para ser voluntario o voluntaria de Cáritas. Desde el programa de Voluntariado\, organizamos sesiones informativas periódicas\, para todas aquellas personas que quieran ser voluntarias en nuestra institución.  \nEsta sesión se impartirá en catalán\nSi quieres apuntarte a una sesión informativa sobre el voluntariado en Càritas\, inscríbete a través del siguiente formulario\, indicando la sesión a la cual quieres asistir: \n Hazte voluntario | Caritas Barcelona \nLloc: Seminari Conciliar de Barcelona. C/ de la Diputació\, 231\, Barcelona (08007)\n  \nEl programa de voluntariat de Càritas Barcelona compta amb el suport de la Generalitat de Catalunya.
URL:https://caritas.barcelona/es/agenda-caritas/sessio-informativa-sobre-voluntariat-format-presencial-13-de-gener-a-les-16h-en-catala/
LOCATION:Seminari Conciliar de Barcelona\, Diputació\, 231\, Barcelona\, Barcelona\, 08007\, Espanya
ATTACH;FMTTYPE=image/jpeg:https://caritas.barcelona/wp-content/uploads/2020/06/header-rrhh.jpg
ORGANIZER;CN="C%C3%A0ritas Barcelona":MAILTO:caritas@caritas.barcelona
GEO:41.3882329;2.1629603
X-APPLE-STRUCTURED-LOCATION;VALUE=URI;X-ADDRESS=Seminari Conciliar de Barcelona Diputació 231 Barcelona Barcelona 08007 Espanya;X-APPLE-RADIUS=500;X-TITLE=Diputació\, 231:geo:2.1629603,41.3882329
END:VEVENT
BEGIN:VEVENT
DTSTART;TZID=Europe/Madrid:20250121T103000
DTEND;TZID=Europe/Madrid:20250121T120000
DTSTAMP:20260424T120810
CREATED:20241113T102721Z
LAST-MODIFIED:20250129T084003Z
UID:10002055-1737455400-1737460800@caritas.barcelona
SUMMARY:SESIÓN INFORMATIVA SOBRE VOLUNTARIADO-Formato virtual-21 de enero a las 10.30hs (en castellano)
DESCRIPTION:Este es el primer paso para ser voluntario o voluntaria de Cáritas. Desde el programa de Voluntariado\, organizamos sesiones informativas periódicas\, para todas aquellas personas que quieran ser voluntarias en nuestra institución.  \nEsta sesión se impartirá en castellano\nSi quieres apuntarte a una sesión informativa sobre el voluntariado de Càritas\, inscríbete a través del siguiente formulario\, indicando la sesión a la cual quieres asistir: \n Hazte voluntario | Caritas Barcelona \n  \nEl programa de voluntariado de Cáritas Barcelona cuenta con el soporte de la Generalitat de Catalunya.
URL:https://caritas.barcelona/es/agenda-caritas/sesion-informativa-sobre-voluntariado-formato-virtual-21-de-enero-a-las-10-30hs-en-castellano/
LOCATION:Barcelona
ATTACH;FMTTYPE=image/jpeg:https://caritas.barcelona/wp-content/uploads/2022/07/Foto-per-SI-a-lagenda-web-1.jpg
ORGANIZER;CN="C%C3%A0ritas Barcelona":MAILTO:caritas@caritas.barcelona
END:VEVENT
BEGIN:VEVENT
DTSTART;TZID=Europe/Madrid:20250121T170000
DTEND;TZID=Europe/Madrid:20250218T200000
DTSTAMP:20260424T120810
CREATED:20241120T092133Z
LAST-MODIFIED:20250128T092533Z
UID:10002068-1737478800-1739908800@caritas.barcelona
SUMMARY:CURSO BÁSICO DE VOLUNTARIADO SOCIAL 2025.01_VOLSBAS01 - Duración 14 horas (5 sesiones)
DESCRIPTION:Curso básico de voluntariado social \nPara comprender y adquirir las competencias básicas en la hora de iniciarse en la acción voluntaria en una entidad social. \nA cargo del profesorado de la Escuela de formación del voluntariado de CDB. \nPersonas destinatarias: personas con sensibilidad social y que se inician o quieren iniciarse en el voluntariado en este ámbito. \nHorario: Curso de 14 horas impartido en 5 sesiones de tres horas\, martes 21 y 28 de enero y 4\, 11 y 18 de febrero del 2025\, de 17.00 a 20.00 h. \nModalidad: PRESENCIAL \nHace falta inscripción previa. Plazas limitadas. Personas interesadas inscribíos clicando en este \nFORMULARIO DE INSCRIPCIÓN\nCoste de inscripción: Aportación de 10€. Para las personas que ya forman parte del equipo de voluntariado de Cáritas\, esta aportación es totalmente libre y voluntaria. (Las personas que no puedan asumir este coste\, pueden solicitar exención del pago). \nCódigo curso: 2025.01_VOLSBAS01 \nCurso reconocido por el Pla de formació de l’associacionsime i el voluntariat de Catalunya (PFAVC) \nEl programa de voluntariado de Cáritas Barcelona cuenta con el apoyo de la Generalitat de Cataluña.
URL:https://caritas.barcelona/es/agenda-caritas/curso-basico-de-voluntariado-social-2025-01_volsbas01-duracion-14-horas-5-sesiones/
LOCATION:Seminari Conciliar de Barcelona\, Diputació\, 231\, Barcelona\, Barcelona\, 08007\, Espanya
ATTACH;FMTTYPE=image/jpeg:https://caritas.barcelona/wp-content/uploads/2023/07/VOLSBAS_Proposta.jpg
ORGANIZER;CN="C%C3%A0ritas Barcelona":MAILTO:caritas@caritas.barcelona
GEO:41.3882329;2.1629603
X-APPLE-STRUCTURED-LOCATION;VALUE=URI;X-ADDRESS=Seminari Conciliar de Barcelona Diputació 231 Barcelona Barcelona 08007 Espanya;X-APPLE-RADIUS=500;X-TITLE=Diputació\, 231:geo:2.1629603,41.3882329
END:VEVENT
BEGIN:VEVENT
DTSTART;TZID=Europe/Madrid:20250121T190000
DTEND;TZID=Europe/Madrid:20250121T210000
DTSTAMP:20260424T120810
CREATED:20250110T200852Z
LAST-MODIFIED:20250110T200852Z
UID:10002079-1737486000-1737493200@caritas.barcelona
SUMMARY:Estrena del Documental '13 veus\, una realitat: El Sensellarisme'
DESCRIPTION:Proyectamos el documental de 13 testigos que han vivido diferentes experiencias de exclusión residencial. \nTe invitamos al estreno del documental ’13 veus\, una realitat: El Sensellarisme’\, sobre las diferentes realidades que engloba el sinhogarismo. Porque no tener hogar no es solo dormir en la calle\, sino también vivir en un piso masificado\, estar en riesgo de desahucio o bajo amenaza de violencia. \nInscripción: AQUÍ \nTe esperamos!
URL:https://caritas.barcelona/es/agenda-caritas/estrena-del-documental-13-veus-una-realitat-el-sensellarisme/
LOCATION:Cinemes Girona\, C/ de Girona\, 175\, Barcelona\, Barcelona\, 08037\, Espanya
ATTACH;FMTTYPE=image/png:https://caritas.barcelona/wp-content/uploads/2025/01/Captura-de-pantalla-2025-01-10-210517.png
GEO:41.3996576;2.1645592
X-APPLE-STRUCTURED-LOCATION;VALUE=URI;X-ADDRESS=Cinemes Girona C/ de Girona 175 Barcelona Barcelona 08037 Espanya;X-APPLE-RADIUS=500;X-TITLE=C/ de Girona\, 175:geo:2.1645592,41.3996576
END:VEVENT
END:VCALENDAR