BEGIN:VCALENDAR
VERSION:2.0
PRODID:-//Caritas Barcelona - ECPv6.15.18//NONSGML v1.0//EN
CALSCALE:GREGORIAN
METHOD:PUBLISH
X-WR-CALNAME:Caritas Barcelona
X-ORIGINAL-URL:https://caritas.barcelona/es/
X-WR-CALDESC:Eventos para Caritas Barcelona
REFRESH-INTERVAL;VALUE=DURATION:PT1H
X-Robots-Tag:noindex
X-PUBLISHED-TTL:PT1H
BEGIN:VTIMEZONE
TZID:Europe/Madrid
BEGIN:DAYLIGHT
TZOFFSETFROM:+0100
TZOFFSETTO:+0200
TZNAME:CEST
DTSTART:20230326T010000
END:DAYLIGHT
BEGIN:STANDARD
TZOFFSETFROM:+0200
TZOFFSETTO:+0100
TZNAME:CET
DTSTART:20231029T010000
END:STANDARD
BEGIN:DAYLIGHT
TZOFFSETFROM:+0100
TZOFFSETTO:+0200
TZNAME:CEST
DTSTART:20240331T010000
END:DAYLIGHT
BEGIN:STANDARD
TZOFFSETFROM:+0200
TZOFFSETTO:+0100
TZNAME:CET
DTSTART:20241027T010000
END:STANDARD
BEGIN:DAYLIGHT
TZOFFSETFROM:+0100
TZOFFSETTO:+0200
TZNAME:CEST
DTSTART:20250330T010000
END:DAYLIGHT
BEGIN:STANDARD
TZOFFSETFROM:+0200
TZOFFSETTO:+0100
TZNAME:CET
DTSTART:20251026T010000
END:STANDARD
END:VTIMEZONE
BEGIN:VEVENT
DTSTART;TZID=Europe/Madrid:20241120T093000
DTEND;TZID=Europe/Madrid:20241211T130000
DTSTAMP:20260424T133227
CREATED:20240807T074132Z
LAST-MODIFIED:20240819T101154Z
UID:10002032-1732095000-1733922000@caritas.barcelona
SUMMARY:CURSO BÁSICO DE VOLUNTARIADO SOCIAL 2024.11_VOLSBAS09 - Duración 14 horas (4 sesiones)
DESCRIPTION:Curso básico de voluntariado social\nPara comprender y adquirir las competencias básicas a la hora de iniciarse en la acción voluntaria en una entidad social. \nA cargo del profesorado de la Escuela de formación del voluntariado de CDB. \nPersonas destinatarias: personas con sensibilidad social y que se inician o quieren iniciarse en el voluntariado en este ámbito. \nHorario: Curso de 14 horas impartido en 4 sesiones de cuatro horas\, miércoles 20 y 27 de noviembre y 4 y 11 de diciembre\, de 9.30 a 13.00 hs \n Modalidad: PRESENCIAL EN CATALÁN \nInscripción previa. Plazas limitadas. Las personas interesadas se pueden inscribir clicando en este \nFORMULARIO DE INSCRIPCIÓN\nCoste de inscripción: Aportación de 10€. Para las personas que ya forman parte del equipo de voluntariado de Cáritas\, esta aportación es totalmente libre y voluntaria. (Las personas que no puedan asumir este coste\, pueden solicitar la exención del pago). \nCódigo curso: 2024.11_VOLSBAS09 \nCurso reconocido por el Pla de formació de l’associacionsime i el voluntariat de Catalunya (PFAVC) \nEl programa de voluntariado de Cáritas Barcelona cuenta con el soporte de la Generalitat de Catalunya.
URL:https://caritas.barcelona/es/agenda-caritas/curso-basico-de-voluntariado-social-2024-11_volsbas10-duracion-14-horas-4-sesiones/
LOCATION:Seminari Conciliar de Barcelona\, Diputació\, 231\, Barcelona\, Barcelona\, 08007\, Espanya
ATTACH;FMTTYPE=image/jpeg:https://caritas.barcelona/wp-content/uploads/2023/07/VOLSBAS_Proposta.jpg
ORGANIZER;CN="C%C3%A0ritas Barcelona":MAILTO:caritas@caritas.barcelona
GEO:41.3882329;2.1629603
X-APPLE-STRUCTURED-LOCATION;VALUE=URI;X-ADDRESS=Seminari Conciliar de Barcelona Diputació 231 Barcelona Barcelona 08007 Espanya;X-APPLE-RADIUS=500;X-TITLE=Diputació\, 231:geo:2.1629603,41.3882329
END:VEVENT
BEGIN:VEVENT
DTSTART;TZID=Europe/Madrid:20241211T173000
DTEND;TZID=Europe/Madrid:20241211T193000
DTSTAMP:20260424T133227
CREATED:20241120T083345Z
LAST-MODIFIED:20241120T083345Z
UID:10002066-1733938200-1733945400@caritas.barcelona
SUMMARY:14è Cicle de reflexions - Abrimos las puertas: construimos comunidad
DESCRIPTION:Reflexionaremos juntos e intercambiaremos experiencias para ver qué cambios podemos hacer en los espacios de atención de Cáritas (espacios parroquiales\, despachos de las zonas pastorales\, proyectos…) para establecer relaciones de proximidad y de igualdad entre personas participantes\, voluntarias\, la comunidad\, otras entidades… en la línea de nuestro actual Modelo de Acción Social (MAS) \nA cargo del equipo de la zona pastoral 3 \nSesión dirigida a todo el equipo humano de CDB \nFecha: Dimecres 11 de diciembre de 17.30 a 19.30 h \nLugar: Sede de Cáritas Diocesana de Barcelona en la zona pastoral 2. Calle Alexandre Galí 46-48 \nHace falta inscripción previa a través de este FORMULARIO \nOrganiza: equipo de zona pastoral 3 de CDB
URL:https://caritas.barcelona/es/agenda-caritas/14e-cicle-de-reflexions-abrimos-las-puertas-construimos-comunidad/
LOCATION:Barcelona 3 – Distritos de Sant Andreu\, Sant Martí y Nou Barris\, Calle de Ramón Albó\, 44\, Barcelona\, Barcelona\, 08027\, Espanya
ATTACH;FMTTYPE=image/png:https://caritas.barcelona/wp-content/uploads/2024/11/obrim-portes.png
ORGANIZER;CN="C%C3%A0ritas Barcelona":MAILTO:caritas@caritas.barcelona
GEO:41.4260473;2.1789145
X-APPLE-STRUCTURED-LOCATION;VALUE=URI;X-ADDRESS=Barcelona 3 – Distritos de Sant Andreu Sant Martí y Nou Barris Calle de Ramón Albó 44 Barcelona Barcelona 08027 Espanya;X-APPLE-RADIUS=500;X-TITLE=Calle de Ramón Albó\, 44:geo:2.1789145,41.4260473
END:VEVENT
END:VCALENDAR