BEGIN:VCALENDAR
VERSION:2.0
PRODID:-//Caritas Barcelona - ECPv6.15.18//NONSGML v1.0//EN
CALSCALE:GREGORIAN
METHOD:PUBLISH
X-ORIGINAL-URL:https://caritas.barcelona/es/
X-WR-CALDESC:Eventos para Caritas Barcelona
REFRESH-INTERVAL;VALUE=DURATION:PT1H
X-Robots-Tag:noindex
X-PUBLISHED-TTL:PT1H
BEGIN:VTIMEZONE
TZID:Europe/Madrid
BEGIN:DAYLIGHT
TZOFFSETFROM:+0100
TZOFFSETTO:+0200
TZNAME:CEST
DTSTART:20230326T010000
END:DAYLIGHT
BEGIN:STANDARD
TZOFFSETFROM:+0200
TZOFFSETTO:+0100
TZNAME:CET
DTSTART:20231029T010000
END:STANDARD
BEGIN:DAYLIGHT
TZOFFSETFROM:+0100
TZOFFSETTO:+0200
TZNAME:CEST
DTSTART:20240331T010000
END:DAYLIGHT
BEGIN:STANDARD
TZOFFSETFROM:+0200
TZOFFSETTO:+0100
TZNAME:CET
DTSTART:20241027T010000
END:STANDARD
BEGIN:DAYLIGHT
TZOFFSETFROM:+0100
TZOFFSETTO:+0200
TZNAME:CEST
DTSTART:20250330T010000
END:DAYLIGHT
BEGIN:STANDARD
TZOFFSETFROM:+0200
TZOFFSETTO:+0100
TZNAME:CET
DTSTART:20251026T010000
END:STANDARD
END:VTIMEZONE
BEGIN:VEVENT
DTSTART;VALUE=DATE:20240902
DTEND;VALUE=DATE:20241103
DTSTAMP:20260424T145229
CREATED:20241114T192944Z
LAST-MODIFIED:20241114T192944Z
UID:10002051-1725235200-1730591999@caritas.barcelona
SUMMARY:Concurso fotográfico "Sense Claus"
DESCRIPTION:Cáritas Barcelona organiza el primer concurso fotográfico ‘Sin Claus’ sobre el sinhogarismo abierto a todas las persones participantes de nuestros proyectos mayores de 16 años. \nEste certamen se organiza con el objetivo de visibilizar en primera persona que supone y que se siente al vivir una situación de exclusión residencial\, conscientes que una imagen vale más que mil palabras. \nSi participas en alguno de nuestros proyectos y tienes más de 16 años\, ¡te animamos a participar del concurso! \n¡Te esperan tres fantásticos premios! Además\, las 30 mejores fotografías se expondrán al Casal de barrio del Pozo de la Figuera.
URL:https://caritas.barcelona/es/agenda-caritas/concurso-fotografico-sense-claus/
LOCATION:Barcelona
ATTACH;FMTTYPE=image/png:https://caritas.barcelona/wp-content/uploads/2024/11/giglulfj.png
ORGANIZER;CN="C%C3%A0ritas Barcelona":MAILTO:caritas@caritas.barcelona
END:VEVENT
BEGIN:VEVENT
DTSTART;TZID=Europe/Madrid:20241021T170000
DTEND;TZID=Europe/Madrid:20241118T190000
DTSTAMP:20260424T145229
CREATED:20240807T072047Z
LAST-MODIFIED:20240819T101026Z
UID:10002030-1729530000-1731956400@caritas.barcelona
SUMMARY:CURSO BÁSICO DE VOLUNTARIADO SOCIAL 2024.10_VOLSBAS08 - Duración 14 horas (4 sesiones)
DESCRIPTION:Curso básico de voluntariado social\nPara comprender y adquirir las competencias básicas a la hora de iniciarse en la acción voluntaria en una entidad social. \nA cargo del profesorado de la Escuela de formación del voluntariado de CDB. \nPersonas destinatarias: personas con sensibilidad social y que se inician o quieren iniciarse en el voluntariado en este ámbito. \nHorario: Curso de 14 horas impartido en 4 sesiones de cuatro horas\, lunes 21 y 28 de octubre y 4 y 11 de noviembre\, de 17.00 a 20.00 hs\, y 18 de noviembre\, de 17.00 a 19.00 hs \n Modalidad: PRESENCIAL EN CATALÁN \nInscripción previa. Plazas limitadas. Las personas interesadas se pueden inscribir clicando en este \nFORMULARIO DE INSCRIPCIÓN\nCoste de inscripción: Aportación de 10€. Para las personas que ya forman parte del equipo de voluntariado de Cáritas\, esta aportación es totalmente libre y voluntaria. (Las personas que no puedan asumir este coste\, pueden solicitar la exención del pago). \nCódigo curso: 2024.10_VOLSBAS08 \nCurso reconocido por el Pla de formació de l’associacionsime i el voluntariat de Catalunya (PFAVC) \nEl programa de voluntariado de Cáritas Barcelona cuenta con el soporte de la Generalitat de Catalunya.
URL:https://caritas.barcelona/es/agenda-caritas/curso-basico-de-voluntariado-social-2024-10_volsbas09-duracion-14-horas-4-sesiones/
LOCATION:Seminari Conciliar de Barcelona\, Diputació\, 231\, Barcelona\, Barcelona\, 08007\, Espanya
ATTACH;FMTTYPE=image/jpeg:https://caritas.barcelona/wp-content/uploads/2023/07/VOLSBAS_Proposta.jpg
ORGANIZER;CN="C%C3%A0ritas Barcelona":MAILTO:caritas@caritas.barcelona
GEO:41.3882329;2.1629603
X-APPLE-STRUCTURED-LOCATION;VALUE=URI;X-ADDRESS=Seminari Conciliar de Barcelona Diputació 231 Barcelona Barcelona 08007 Espanya;X-APPLE-RADIUS=500;X-TITLE=Diputació\, 231:geo:2.1629603,41.3882329
END:VEVENT
BEGIN:VEVENT
DTSTART;TZID=Europe/Madrid:20241030T153000
DTEND;TZID=Europe/Madrid:20241120T173000
DTSTAMP:20260424T145229
CREATED:20241011T103053Z
LAST-MODIFIED:20241011T104210Z
UID:10002043-1730302200-1732123800@caritas.barcelona
SUMMARY:Curso Elementos clave de la propuesta social de la Iglesia TARDES
DESCRIPTION:Formación inicial\nOctava y novena edición (octubre-noviembre de 2024) \nObjetivos del curso\n• Reconocer que la misión de Cáritas conecta con los principios básicos de la propuesta social de la Iglesia.\n• Reconocer los elementos clave de la Propuesta (Doctrina) social de la Iglesia.\n• Desvelar el interés por la cuestión social en el seno de la Iglesia. \nProfesorado: Mn. Joan Costa\, Míriam Feudo\, Josep Matías i Domènech Valls. \nOpción a) octubre-noviembre de 2024. TARDAS\nMiércoles 30 de octubre y 6\, 13 y 20 de noviembre de 15.30 a 17.30 h\nInscripción clicando en este código de curso: 2024.10.DOCESGL.01 \n  \nLugar: Seminario Conciliar de Barcelona. Calle Diputación\, 231\, Barcelona.\nPersonas destinatarias: personal contratado y voluntario de Cáritas Diocesana de Barcelona
URL:https://caritas.barcelona/es/agenda-caritas/curso-elementos-clave-de-la-propuesta-social-de-la-iglesia/
LOCATION:Seminari Conciliar de Barcelona\, Diputació\, 231\, Barcelona\, Barcelona\, 08007\, Espanya
ATTACH;FMTTYPE=image/jpeg:https://caritas.barcelona/wp-content/uploads/2024/10/foto-papa-1.jpg
ORGANIZER;CN="C%C3%A0ritas Barcelona":MAILTO:caritas@caritas.barcelona
GEO:41.3882329;2.1629603
X-APPLE-STRUCTURED-LOCATION;VALUE=URI;X-ADDRESS=Seminari Conciliar de Barcelona Diputació 231 Barcelona Barcelona 08007 Espanya;X-APPLE-RADIUS=500;X-TITLE=Diputació\, 231:geo:2.1629603,41.3882329
END:VEVENT
BEGIN:VEVENT
DTSTART;TZID=Europe/Madrid:20241105T120000
DTEND;TZID=Europe/Madrid:20241126T140000
DTSTAMP:20260424T145229
CREATED:20241011T103946Z
LAST-MODIFIED:20241011T103946Z
UID:10002045-1730808000-1732629600@caritas.barcelona
SUMMARY:Curso Elementos clave de la propuesta social de la Iglesia MAÑANAS
DESCRIPTION:Formación inicial\nOctava y novena edición (octubre-noviembre de 2024) \nObjetivos del curso\n• Reconocer que la misión de Cáritas conecta con los principios básicos de la propuesta social de la Iglesia.\n• Reconocer los elementos clave de la Propuesta (Doctrina) social de la Iglesia.\n• Desvelar el interés por la cuestión social en el seno de la Iglesia. \nProfesorado: Mn. Joan Costa\, Míriam Feudo\, Josep Matías i Domènech Valls. \nOpción b) Noviembre de 2024. MAÑANAS\nMartes 5\, 12\, 19 y 26 de noviembre de 2024 de 12.00 a 14.00 h\nInscripción clicando en este código de curso: 2024.11.DOCESGL.02 \n  \nLugar: Seminario Conciliar de Barcelona. Calle Diputación\, 231\, Barcelona.\nPersonas destinatarias: personal contratado y voluntario de Cáritas Diocesana de Barcelona
URL:https://caritas.barcelona/es/agenda-caritas/curso-elementos-clave-de-la-propuesta-social-de-la-iglesia-mananas/
LOCATION:Seminari Conciliar de Barcelona\, Diputació\, 231\, Barcelona\, Barcelona\, 08007\, Espanya
ATTACH;FMTTYPE=image/jpeg:https://caritas.barcelona/wp-content/uploads/2024/10/foto-papa-1.jpg
ORGANIZER;CN="C%C3%A0ritas Barcelona":MAILTO:caritas@caritas.barcelona
GEO:41.3882329;2.1629603
X-APPLE-STRUCTURED-LOCATION;VALUE=URI;X-ADDRESS=Seminari Conciliar de Barcelona Diputació 231 Barcelona Barcelona 08007 Espanya;X-APPLE-RADIUS=500;X-TITLE=Diputació\, 231:geo:2.1629603,41.3882329
END:VEVENT
BEGIN:VEVENT
DTSTART;TZID=Europe/Madrid:20241106T170000
DTEND;TZID=Europe/Madrid:20241106T193000
DTSTAMP:20260424T145229
CREATED:20241011T102204Z
LAST-MODIFIED:20241011T102204Z
UID:10002041-1730912400-1730921400@caritas.barcelona
SUMMARY:14.º Ciclo de reflexiones - La cura emocional de las personas en situación de vulnerabilidad
DESCRIPTION:Un espacio que nos ayudará a poder identificar y reflexionar sobre los principales aspectos que forman parte de la cura emocional cuando nos sentimos en una situación de vulnerabilidad\, especialmente cuando se cronifica en el tiempo. \nA cargo de Marta Sanchís\, psicóloga y miembro del equipo de Salud mental y emocional de Cáritas Diocesana de Barcelona \nSesión dirigida a todo el equipo humano de CDB. \nFecha: Miércoles 6 de noviembre de 17.00 a 19.30 h \nLugar: Parroquia Pío X. Calle Cardenal Tedeschini 52. Barcelona\nMetro L5: Congreso \nHace falta inscripción previa a través de este FORMULARIO \nOrganiza: equipo de zona pastoral 2 y equipo de Salud mental y emocional de *CDB
URL:https://caritas.barcelona/es/agenda-caritas/14-o-ciclo-de-reflexiones-la-cura-emocional-de-las-personas-en-situacion-de-vulnerabilidad/
LOCATION:Barcelona
ATTACH;FMTTYPE=image/png:https://caritas.barcelona/wp-content/uploads/2024/10/cicle-de-reflexions-14-2.png
ORGANIZER;CN="C%C3%A0ritas Barcelona":MAILTO:caritas@caritas.barcelona
END:VEVENT
BEGIN:VEVENT
DTSTART;TZID=Europe/Madrid:20241113T170000
DTEND;TZID=Europe/Madrid:20241113T183000
DTSTAMP:20260424T145229
CREATED:20241015T112644Z
LAST-MODIFIED:20241015T112820Z
UID:10002047-1731517200-1731522600@caritas.barcelona
SUMMARY:SESIÓN INFORMATIVA SOBRE VOLUNTARIADO-Formato virtual-13 de noviembre a las 17hs (en castellano)
DESCRIPTION:Este es el primer paso para ser voluntario o voluntaria de Cáritas. Desde el programa de Voluntariado\, organizamos sesiones informativas periódicas\, para todas aquellas personas que quieran ser voluntarias en nuestra institución.  \nEsta sesión se impartirá en castellano\nSi quieres apuntarte a una sesión informativa sobre el voluntariado de Càritas\, inscríbete a través del siguiente formulario\, indicando la sesión a la cual quieres asistir: \n Hazte voluntario | Caritas Barcelona \n  \nEl programa de voluntariado de Cáritas Barcelona cuenta con el soporte de la Generalitat de Catalunya.
URL:https://caritas.barcelona/es/agenda-caritas/sesion-informativa-sobre-voluntariado-formato-virtual-13-de-noviembre-a-las-17hs-en-castellano/
LOCATION:Barcelona
ATTACH;FMTTYPE=image/jpeg:https://caritas.barcelona/wp-content/uploads/2022/07/Foto-per-SI-a-lagenda-web-1.jpg
ORGANIZER;CN="C%C3%A0ritas Barcelona":MAILTO:caritas@caritas.barcelona
END:VEVENT
BEGIN:VEVENT
DTSTART;TZID=Europe/Madrid:20241117T120000
DTEND;TZID=Europe/Madrid:20241117T150000
DTSTAMP:20260424T145229
CREATED:20241104T085344Z
LAST-MODIFIED:20241104T085344Z
UID:10002049-1731844800-1731855600@caritas.barcelona
SUMMARY:VIII Jornada Mundial de los Pobres
DESCRIPTION:El domingo 17 de noviembre te invitamos a la VIII Jornada Mundial de los Pobres que este año se celebra bajo el lema “La oración del pobre sube hasta Dios”. \n \nA partir de las 12h nos reuniremos A Santo Pau del Camp\, en Barcelona (Calle de Sant Pau\, 99)\, en una misa y una comida de hermandad para celebrarla. También disfrutaremos de los conciertos de dos corazones de Gòspel. \n“Este año dedicado a la plegaria\, necesitamos hacer nuestra la plegaria de los pobres y rezar con ellos. Es un desafío que hay que acoger y una acción pastoral que necesita ser alimentada” reza el Santo Padre Francesc en su mensaje para la VIII Jornada Mundial de los Pobres\, que podéis leer entero AQUÍ. \nInscripcions: 93 317 63 97 o sdmarginacio@arqbcn.cat \n 
URL:https://caritas.barcelona/es/agenda-caritas/viii-jornada-mundial-de-los-pobres/
LOCATION:Antic Monestir de Sant Pau del Camp\, C/ Sant Pau\, 99\, Ciutat Vella\, Barcelona\, Barcelona\, 08001\, Espanya
ATTACH;FMTTYPE=image/jpeg:https://caritas.barcelona/wp-content/uploads/2024/11/fotonoticia_20151217143147_1200.jpg
ORGANIZER;CN="Arquebisbat de Barcelona":MAILTO:secgral@arqbcn.cat
GEO:41.3763453;2.1694481
X-APPLE-STRUCTURED-LOCATION;VALUE=URI;X-ADDRESS=Antic Monestir de Sant Pau del Camp C/ Sant Pau 99 Ciutat Vella Barcelona Barcelona 08001 Espanya;X-APPLE-RADIUS=500;X-TITLE=C/ Sant Pau\, 99\, Ciutat Vella:geo:2.1694481,41.3763453
END:VEVENT
BEGIN:VEVENT
DTSTART;TZID=Europe/Madrid:20241120T093000
DTEND;TZID=Europe/Madrid:20241211T130000
DTSTAMP:20260424T145229
CREATED:20240807T074132Z
LAST-MODIFIED:20240819T101154Z
UID:10002032-1732095000-1733922000@caritas.barcelona
SUMMARY:CURSO BÁSICO DE VOLUNTARIADO SOCIAL 2024.11_VOLSBAS09 - Duración 14 horas (4 sesiones)
DESCRIPTION:Curso básico de voluntariado social\nPara comprender y adquirir las competencias básicas a la hora de iniciarse en la acción voluntaria en una entidad social. \nA cargo del profesorado de la Escuela de formación del voluntariado de CDB. \nPersonas destinatarias: personas con sensibilidad social y que se inician o quieren iniciarse en el voluntariado en este ámbito. \nHorario: Curso de 14 horas impartido en 4 sesiones de cuatro horas\, miércoles 20 y 27 de noviembre y 4 y 11 de diciembre\, de 9.30 a 13.00 hs \n Modalidad: PRESENCIAL EN CATALÁN \nInscripción previa. Plazas limitadas. Las personas interesadas se pueden inscribir clicando en este \nFORMULARIO DE INSCRIPCIÓN\nCoste de inscripción: Aportación de 10€. Para las personas que ya forman parte del equipo de voluntariado de Cáritas\, esta aportación es totalmente libre y voluntaria. (Las personas que no puedan asumir este coste\, pueden solicitar la exención del pago). \nCódigo curso: 2024.11_VOLSBAS09 \nCurso reconocido por el Pla de formació de l’associacionsime i el voluntariat de Catalunya (PFAVC) \nEl programa de voluntariado de Cáritas Barcelona cuenta con el soporte de la Generalitat de Catalunya.
URL:https://caritas.barcelona/es/agenda-caritas/curso-basico-de-voluntariado-social-2024-11_volsbas10-duracion-14-horas-4-sesiones/
LOCATION:Seminari Conciliar de Barcelona\, Diputació\, 231\, Barcelona\, Barcelona\, 08007\, Espanya
ATTACH;FMTTYPE=image/jpeg:https://caritas.barcelona/wp-content/uploads/2023/07/VOLSBAS_Proposta.jpg
ORGANIZER;CN="C%C3%A0ritas Barcelona":MAILTO:caritas@caritas.barcelona
GEO:41.3882329;2.1629603
X-APPLE-STRUCTURED-LOCATION;VALUE=URI;X-ADDRESS=Seminari Conciliar de Barcelona Diputació 231 Barcelona Barcelona 08007 Espanya;X-APPLE-RADIUS=500;X-TITLE=Diputació\, 231:geo:2.1629603,41.3882329
END:VEVENT
BEGIN:VEVENT
DTSTART;TZID=Europe/Madrid:20241121T173000
DTEND;TZID=Europe/Madrid:20241121T190000
DTSTAMP:20260424T145229
CREATED:20241114T192903Z
LAST-MODIFIED:20241114T192903Z
UID:10002057-1732210200-1732215600@caritas.barcelona
SUMMARY:Charla sobre el Pacto Europeo de Migración y Asilo (PEMA)
DESCRIPTION:La “Plataforma d’entitats cristianes amb les persones migrants” organiza una charla alrededor del Pacto europeo de migraciones y asilo\, a cargo de Anna Figueras\, responsable de CEAR Cataluña y Blanca Garcés\, Coordinadora de Migraciones al CIDOB. \nSe hablará sobre cómo afectará a los derechos de las personas migrantes y refugiadas y qué retos plantea a la sociedad acogida. \n 
URL:https://caritas.barcelona/es/agenda-caritas/charla-sobre-el-pacto-europeo-de-migracion-y-asilo-pema/
LOCATION:Sant Pau del Camp\, Carrer de Sant Pau\, 101\, Barcelona\, Barcelona\, 08001\, Espanya
ATTACH;FMTTYPE=image/png:https://caritas.barcelona/wp-content/uploads/2024/11/atajwdr7.png
GEO:41.3759322;2.1691632
X-APPLE-STRUCTURED-LOCATION;VALUE=URI;X-ADDRESS=Sant Pau del Camp Carrer de Sant Pau 101 Barcelona Barcelona 08001 Espanya;X-APPLE-RADIUS=500;X-TITLE=Carrer de Sant Pau\, 101:geo:2.1691632,41.3759322
END:VEVENT
BEGIN:VEVENT
DTSTART;TZID=Europe/Madrid:20241124T110000
DTEND;TZID=Europe/Madrid:20241124T190000
DTSTAMP:20260424T145229
CREATED:20241118T101211Z
LAST-MODIFIED:20241118T125840Z
UID:10002061-1732446000-1732474800@caritas.barcelona
SUMMARY:Encuentro BCN Ciudad Diversa
DESCRIPTION:Una año mas\, el Consejo Municipal de Inmigración de Barcelona (CMIB) y las entidades que lo componen organizan una nueva edición del Encuentro BCN Ciudad Diversa\, una fiesta festiva y reivindicativa dirigida a toda la ciudadanía con el objetivo de mostrar\, compartir y disfrutar de la diversidad de nuestra ciudad. \nLa celebración tendrá lugar el próximo 24 de noviembre en el paseo de Lluís Companys\, con el tema central “Jóvenes de origen diverso en Barcelona”\, una realidad encara relativamente nueva\, pero que emerge con fuerza y hay que conocer y abordar. \nComo cada año\, al escenario y a los varios espacios y carpas\, encontraréis numerosas actividades\, como por ejemplo talleres\, charlas\, exposiciones\, desfiles y juegos tradicionales\, tanto para niños como para adultos. También habrá una biblioteca y un set de radio de la red de radios comunitarias de Barcelona\, y se harán coloquios relacionados con el hecho migratorio\, la interculturalidad o el antirracismo\, entre otros. \nComo Cáritas Diocesana Barcelona participaremos en el espacio radial (14:30 a 15:30)\, entrevistando a acciones comunitarias con jóvenes que innovadoras como el del espacio Polivalente de santa Maria Magdalena (Mural comunitario) y La liga de fútbol que se hace en el espacio polivalente del Hospitalet. ” Así mismo\, como cada año\, nos podréis encontrar al  estand de CD Barcelona” de 11 h a 18 horas. \n 
URL:https://caritas.barcelona/es/agenda-caritas/encuentro-bcn-ciudad-diversa-2/
LOCATION:Passeig de Lluís Companys\, Passeig de Lluís Companys\, Barcelona\, Barcelona\, 08003\, Espanya
ATTACH;FMTTYPE=image/jpeg:https://caritas.barcelona/wp-content/uploads/2024/11/A01.1.760x428.3020da3f.jpg
GEO:41.3899675;2.1813332
X-APPLE-STRUCTURED-LOCATION;VALUE=URI;X-ADDRESS=Passeig de Lluís Companys Passeig de Lluís Companys Barcelona Barcelona 08003 Espanya;X-APPLE-RADIUS=500;X-TITLE=Passeig de Lluís Companys:geo:2.1813332,41.3899675
END:VEVENT
BEGIN:VEVENT
DTSTART;TZID=Europe/Madrid:20241127T180000
DTEND;TZID=Europe/Madrid:20241127T220000
DTSTAMP:20260424T145229
CREATED:20241115T192755Z
LAST-MODIFIED:20241126T183426Z
UID:10002059-1732730400-1732744800@caritas.barcelona
SUMMARY:Exposición del concurso fotográfico "Sense Claus"
DESCRIPTION:Os invitamos al acto de inauguración y entrega de premios del primer concurso fotográfico “Sin Claus” sobre la problemática del sinhogarismo de Cáritas Barcelona que tendrá lugar en el “Centre Cívic del Pou de la Figuera”. \nCáritas Barcelona hemos organizado el primer concurso fotográfico ‘Sense Claus’ sobre el sinhogarismo abierto a todas las persones participantes de nuestros proyectos con el objetivo de visibilizar en primera persona que supone y que se siente al vivir una situación de exclusión residencial\, conscientes que una imagen vale más que mil palabras. \nLa exposición de las fotografías guanaydores estará disponible del 28 de noviembre hasta el 24 de diciembre en el “Centre Cívic del Pou de la Figuera” de 10 a 22h. \nEl camino es largo y pleno de obstáculos\, ¿andamos juntos? \n¡No os la perdéis!
URL:https://caritas.barcelona/es/agenda-caritas/exposicion-del-concurso-fotografico-sense-claus/
LOCATION:Centre Cívic del Pou de la Figuera\, Carrer de Sant Pere Més Baix 70\, Barcelona\, Barcelona\, 08003\, Spain
ATTACH;FMTTYPE=image/png:https://caritas.barcelona/wp-content/uploads/2024/11/giglulfj.png
ORGANIZER;CN="C%C3%A0ritas Barcelona":MAILTO:caritas@caritas.barcelona
GEO:41.388133;2.1788569
X-APPLE-STRUCTURED-LOCATION;VALUE=URI;X-ADDRESS=Centre Cívic del Pou de la Figuera Carrer de Sant Pere Més Baix 70 Barcelona Barcelona 08003 Spain;X-APPLE-RADIUS=500;X-TITLE=Carrer de Sant Pere Més Baix 70:geo:2.1788569,41.388133
END:VEVENT
BEGIN:VEVENT
DTSTART;TZID=Europe/Madrid:20241128T120000
DTEND;TZID=Europe/Madrid:20241128T130000
DTSTAMP:20260424T145229
CREATED:20241113T100941Z
LAST-MODIFIED:20241114T193458Z
UID:10002053-1732795200-1732798800@caritas.barcelona
SUMMARY:Acción de calle "Caminamos Juntos" con motivo del Día Mundial de Las Personas Sin Hogar
DESCRIPTION:El día 28 de noviembre con motivo del Día Mundial de Las Personas Sin Hogar\, junto con diversas entidades\, hemos organizado una Acción de Calle para denunciar la situación que viven muchas personas a nuestro alrededor.  \nEl camino de las personas sin hogar es largo y está lleno de obstáculos por superar. Enfrentan numerosas dificultades para acceder a una vivienda\, a una ocupación o\, simplemente\, para salir de la invisibilidad a la que como sociedad les relegamos habitualmente. La Campaña Nadie Sin Hogar de este año\, bajo el lema ‘Caminamos Juntos’\, reivindica que toda persona y familia pueda disfrutar de un hogar digno y adecuado\, permanente y en paz.  \nEl acto será a las 12 h en la Plaza Sant Jaume.  ¡Os esperamos! \n \n 
URL:https://caritas.barcelona/es/agenda-caritas/accion-de-calle-caminamos-juntos-con-motivo-del-dia-mundial-de-las-personas-sin-hogar/
LOCATION:Plaça Sant Jaume\, Plaça de Sant Jaume\, 1\, Barcelona\, Barcelona\, 08002\, Espanya
ATTACH;FMTTYPE=image/png:https://caritas.barcelona/wp-content/uploads/2024/11/4x5qo0ld.png
ORGANIZER;CN="C%C3%A0ritas Barcelona":MAILTO:caritas@caritas.barcelona
GEO:41.3824792;2.1771411
X-APPLE-STRUCTURED-LOCATION;VALUE=URI;X-ADDRESS=Plaça Sant Jaume Plaça de Sant Jaume 1 Barcelona Barcelona 08002 Espanya;X-APPLE-RADIUS=500;X-TITLE=Plaça de Sant Jaume\, 1:geo:2.1771411,41.3824792
END:VEVENT
BEGIN:VEVENT
DTSTART;TZID=Europe/Madrid:20241130T173000
DTEND;TZID=Europe/Madrid:20241130T200000
DTSTAMP:20260424T145229
CREATED:20241120T103738Z
LAST-MODIFIED:20241120T103738Z
UID:10002073-1732987800-1732996800@caritas.barcelona
SUMMARY:Concierto de Navidad de Cáritas
DESCRIPTION:Concierto benéfico de la orquestra de Mataró. \nAportaciones voluntarias a beneficio de la residencia “Torre Llauder”. \n \n¡Ayúdanos a ayudar!
URL:https://caritas.barcelona/es/agenda-caritas/concierto-de-navidad-de-caritas/
LOCATION:Església santa Anna de Mataró\, Plaça de Santa Anna 21\, Mataró\, Barcelona\, 08302\, Spain
ATTACH;FMTTYPE=image/png:https://caritas.barcelona/wp-content/uploads/2024/11/x4vyi6ak.png
ORGANIZER;CN="C%C3%A0ritas Barcelona":MAILTO:caritas@caritas.barcelona
GEO:41.537406;2.4446415
X-APPLE-STRUCTURED-LOCATION;VALUE=URI;X-ADDRESS=Església santa Anna de Mataró Plaça de Santa Anna 21 Mataró Barcelona 08302 Spain;X-APPLE-RADIUS=500;X-TITLE=Plaça de Santa Anna 21:geo:2.4446415,41.537406
END:VEVENT
END:VCALENDAR