BEGIN:VCALENDAR
VERSION:2.0
PRODID:-//Caritas Barcelona - ECPv6.15.18//NONSGML v1.0//EN
CALSCALE:GREGORIAN
METHOD:PUBLISH
X-WR-CALNAME:Caritas Barcelona
X-ORIGINAL-URL:https://caritas.barcelona/es/
X-WR-CALDESC:Eventos para Caritas Barcelona
REFRESH-INTERVAL;VALUE=DURATION:PT1H
X-Robots-Tag:noindex
X-PUBLISHED-TTL:PT1H
BEGIN:VTIMEZONE
TZID:Europe/Madrid
BEGIN:DAYLIGHT
TZOFFSETFROM:+0100
TZOFFSETTO:+0200
TZNAME:CEST
DTSTART:20230326T010000
END:DAYLIGHT
BEGIN:STANDARD
TZOFFSETFROM:+0200
TZOFFSETTO:+0100
TZNAME:CET
DTSTART:20231029T010000
END:STANDARD
BEGIN:DAYLIGHT
TZOFFSETFROM:+0100
TZOFFSETTO:+0200
TZNAME:CEST
DTSTART:20240331T010000
END:DAYLIGHT
BEGIN:STANDARD
TZOFFSETFROM:+0200
TZOFFSETTO:+0100
TZNAME:CET
DTSTART:20241027T010000
END:STANDARD
BEGIN:DAYLIGHT
TZOFFSETFROM:+0100
TZOFFSETTO:+0200
TZNAME:CEST
DTSTART:20250330T010000
END:DAYLIGHT
BEGIN:STANDARD
TZOFFSETFROM:+0200
TZOFFSETTO:+0100
TZNAME:CET
DTSTART:20251026T010000
END:STANDARD
END:VTIMEZONE
BEGIN:VEVENT
DTSTART;VALUE=DATE:20240902
DTEND;VALUE=DATE:20241103
DTSTAMP:20260424T160337
CREATED:20241114T192944Z
LAST-MODIFIED:20241114T192944Z
UID:10002051-1725235200-1730591999@caritas.barcelona
SUMMARY:Concurso fotográfico "Sense Claus"
DESCRIPTION:Cáritas Barcelona organiza el primer concurso fotográfico ‘Sin Claus’ sobre el sinhogarismo abierto a todas las persones participantes de nuestros proyectos mayores de 16 años. \nEste certamen se organiza con el objetivo de visibilizar en primera persona que supone y que se siente al vivir una situación de exclusión residencial\, conscientes que una imagen vale más que mil palabras. \nSi participas en alguno de nuestros proyectos y tienes más de 16 años\, ¡te animamos a participar del concurso! \n¡Te esperan tres fantásticos premios! Además\, las 30 mejores fotografías se expondrán al Casal de barrio del Pozo de la Figuera.
URL:https://caritas.barcelona/es/agenda-caritas/concurso-fotografico-sense-claus/
LOCATION:Barcelona
ATTACH;FMTTYPE=image/png:https://caritas.barcelona/wp-content/uploads/2024/11/giglulfj.png
ORGANIZER;CN="C%C3%A0ritas Barcelona":MAILTO:caritas@caritas.barcelona
END:VEVENT
BEGIN:VEVENT
DTSTART;TZID=Europe/Madrid:20240918T093000
DTEND;TZID=Europe/Madrid:20241009T130000
DTSTAMP:20260424T160337
CREATED:20240807T064812Z
LAST-MODIFIED:20240807T064812Z
UID:10002028-1726651800-1728478800@caritas.barcelona
SUMMARY:CURSO BÁSICO DE VOLUNTARIADO SOCIAL 2024.09_VOLSBAS07 - Duración 14 horas (4 sesiones)
DESCRIPTION:Curso básico de voluntariado social\nPara comprender y adquirir las competencias básicas a la hora de iniciarse en la acción voluntaria en una entidad social. \nA cargo del profesorado de la Escuela de formación del voluntariado de CDB. \nPersonas destinatarias: personas con sensibilidad social y que se inician o quieren iniciarse en el voluntariado en este ámbito. \nHorario: Curso de 14 horas impartido en 4 sesiones de cuatro horas\, miércoles 18 y 25 de septiembre y 2 y 9 de octubre\, de 9.30 a 13.00 hs. \n Modalidad: PRESENCIAL EN CATALÁN \nInscripción previa. Plazas limitadas. Las personas interesadas se pueden inscribir clicando en este \nFORMULARIO DE INSCRIPCIÓN\nCoste de inscripción: Aportación de 10€. Para las personas que ya forman parte del equipo de voluntariado de Cáritas\, esta aportación es totalmente libre y voluntaria. (Las personas que no puedan asumir este coste\, pueden solicitar la exención del pago). \nCódigo curso: 2024.09_VOLSBAS07 \nCurso reconocido por el Pla de formació de l’associacionsime i el voluntariat de Catalunya (PFAVC) \nEl programa de voluntariado de Cáritas Barcelona cuenta con el soporte de la Generalitat de Catalunya.
URL:https://caritas.barcelona/es/agenda-caritas/curso-basico-de-voluntariado-social-2024-09_volsbas07-duracion-14-horas-4-sesiones/
LOCATION:Seminari Conciliar de Barcelona\, Diputació\, 231\, Barcelona\, Barcelona\, 08007\, Espanya
ATTACH;FMTTYPE=image/jpeg:https://caritas.barcelona/wp-content/uploads/2023/07/VOLSBAS_Proposta.jpg
ORGANIZER;CN="C%C3%A0ritas Barcelona":MAILTO:caritas@caritas.barcelona
GEO:41.3882329;2.1629603
X-APPLE-STRUCTURED-LOCATION;VALUE=URI;X-ADDRESS=Seminari Conciliar de Barcelona Diputació 231 Barcelona Barcelona 08007 Espanya;X-APPLE-RADIUS=500;X-TITLE=Diputació\, 231:geo:2.1629603,41.3882329
END:VEVENT
BEGIN:VEVENT
DTSTART;TZID=Europe/Madrid:20241002T160000
DTEND;TZID=Europe/Madrid:20241002T190000
DTSTAMP:20260424T160337
CREATED:20230921T113018Z
LAST-MODIFIED:20240913T114630Z
UID:10001702-1727884800-1727895600@caritas.barcelona
SUMMARY:Obrim camins a l'esperança: fem comunitat
DESCRIPTION:Acte inaugural del curs 2024-2025 de la família Càritas: Obrim camins a l’esperança: fem comunitat \n \nDesprés del període de vacances\, les persones que formem part de la família Càritas tenim nous reptes per endavant. Ens retrobarem en l’acte inaugural en el qual reflexionarem sobre la nostra acció comunitària i exposarem les principals línies d’acció de futur. \nDurant la inauguració del curs\, es comptarà amb la participació de Juan José López Jiménez\, company de Cáritas Española\, així com de tot l’equip directiu de Càritas Diocesana de Barcelona. \nHorari: dimecres 2 d’octubre de 16h a 19h. \nLloc: Seminari Conciliar de Barcelona. \n 
URL:https://caritas.barcelona/es/agenda-caritas/gestando-caminos-para-caritas-presente-y-futuro-de-caritas-en-una-realidad-social-compleja/
LOCATION:Seminari Conciliar de Barcelona\, Diputació\, 231\, Barcelona\, Barcelona\, 08007\, Espanya
ATTACH;FMTTYPE=image/jpeg:https://caritas.barcelona/wp-content/uploads/2023/09/WhatsApp-Image-2024-09-09-at-14.01.49.jpeg
ORGANIZER;CN="C%C3%A0ritas Barcelona":MAILTO:caritas@caritas.barcelona
GEO:41.3882329;2.1629603
X-APPLE-STRUCTURED-LOCATION;VALUE=URI;X-ADDRESS=Seminari Conciliar de Barcelona Diputació 231 Barcelona Barcelona 08007 Espanya;X-APPLE-RADIUS=500;X-TITLE=Diputació\, 231:geo:2.1629603,41.3882329
END:VEVENT
BEGIN:VEVENT
DTSTART;TZID=Europe/Madrid:20241013T173000
DTEND;TZID=Europe/Madrid:20241013T183000
DTSTAMP:20260424T160337
CREATED:20241008T120558Z
LAST-MODIFIED:20241008T120558Z
UID:10002038-1728840600-1728844200@caritas.barcelona
SUMMARY:Concierto para Cáritas
DESCRIPTION:Te invitamos a venir a concierto en beneficio de Cáritas en la Iglesia de Santa Anna en Mataró. \n \nEl concierto se llevará a cabo el domingo 13 de octubre a las 17.30h en la iglesia de Santa Anna (Plaza de Santa Anna\, 21\, Mataró) y contará con la participación de la Coral Infantil Rodasons y la Coral Primavera per la Pau. Las aportaciones voluntarias irán destinadas a los proyectos de Cáritas.
URL:https://caritas.barcelona/es/agenda-caritas/concierto-para-caritas/
LOCATION:Barcelona
ATTACH;FMTTYPE=image/jpeg:https://caritas.barcelona/wp-content/uploads/2024/10/AAFF_CARTELL_CONCERT_MATARO_OK_web-scaled-e1728388690761.jpg
END:VEVENT
BEGIN:VEVENT
DTSTART;TZID=Europe/Madrid:20241014T170000
DTEND;TZID=Europe/Madrid:20241014T183000
DTSTAMP:20260424T160337
CREATED:20240731T113036Z
LAST-MODIFIED:20241015T111855Z
UID:10002026-1728925200-1728930600@caritas.barcelona
SUMMARY:SESIÓN INFORMATIVA SOBRE VOLUNTARIADO-Formato virtual-14 de octubre a las 17hs (en castellano)
DESCRIPTION:Este es el primer paso para ser voluntario o voluntaria de Cáritas. Desde el programa de Voluntariado\, organizamos sesiones informativas periódicas\, para todas aquellas personas que quieran ser voluntarias en nuestra institución.  \nEsta sesión se impartirá en castellano\nSi quieres apuntarte a una sesión informativa sobre el voluntariado de Càritas\, inscríbete a través del siguiente formulario\, indicando la sesión a la cual quieres asistir: \n Hazte voluntario | Caritas Barcelona \n  \nEl programa de voluntariado de Cáritas Barcelona cuenta con el soporte de la Generalitat de Catalunya.
URL:https://caritas.barcelona/es/agenda-caritas/sesion-informativa-sobre-voluntariado-formato-virtual-14-de-octubre-a-las-17hs-en-castellano/
LOCATION:Barcelona
ATTACH;FMTTYPE=image/jpeg:https://caritas.barcelona/wp-content/uploads/2022/11/SESSIO-INFORM-VOLUNT.jpg
ORGANIZER;CN="C%C3%A0ritas Barcelona":MAILTO:caritas@caritas.barcelona
END:VEVENT
BEGIN:VEVENT
DTSTART;TZID=Europe/Madrid:20241021T170000
DTEND;TZID=Europe/Madrid:20241118T190000
DTSTAMP:20260424T160337
CREATED:20240807T072047Z
LAST-MODIFIED:20240819T101026Z
UID:10002030-1729530000-1731956400@caritas.barcelona
SUMMARY:CURSO BÁSICO DE VOLUNTARIADO SOCIAL 2024.10_VOLSBAS08 - Duración 14 horas (4 sesiones)
DESCRIPTION:Curso básico de voluntariado social\nPara comprender y adquirir las competencias básicas a la hora de iniciarse en la acción voluntaria en una entidad social. \nA cargo del profesorado de la Escuela de formación del voluntariado de CDB. \nPersonas destinatarias: personas con sensibilidad social y que se inician o quieren iniciarse en el voluntariado en este ámbito. \nHorario: Curso de 14 horas impartido en 4 sesiones de cuatro horas\, lunes 21 y 28 de octubre y 4 y 11 de noviembre\, de 17.00 a 20.00 hs\, y 18 de noviembre\, de 17.00 a 19.00 hs \n Modalidad: PRESENCIAL EN CATALÁN \nInscripción previa. Plazas limitadas. Las personas interesadas se pueden inscribir clicando en este \nFORMULARIO DE INSCRIPCIÓN\nCoste de inscripción: Aportación de 10€. Para las personas que ya forman parte del equipo de voluntariado de Cáritas\, esta aportación es totalmente libre y voluntaria. (Las personas que no puedan asumir este coste\, pueden solicitar la exención del pago). \nCódigo curso: 2024.10_VOLSBAS08 \nCurso reconocido por el Pla de formació de l’associacionsime i el voluntariat de Catalunya (PFAVC) \nEl programa de voluntariado de Cáritas Barcelona cuenta con el soporte de la Generalitat de Catalunya.
URL:https://caritas.barcelona/es/agenda-caritas/curso-basico-de-voluntariado-social-2024-10_volsbas09-duracion-14-horas-4-sesiones/
LOCATION:Seminari Conciliar de Barcelona\, Diputació\, 231\, Barcelona\, Barcelona\, 08007\, Espanya
ATTACH;FMTTYPE=image/jpeg:https://caritas.barcelona/wp-content/uploads/2023/07/VOLSBAS_Proposta.jpg
ORGANIZER;CN="C%C3%A0ritas Barcelona":MAILTO:caritas@caritas.barcelona
GEO:41.3882329;2.1629603
X-APPLE-STRUCTURED-LOCATION;VALUE=URI;X-ADDRESS=Seminari Conciliar de Barcelona Diputació 231 Barcelona Barcelona 08007 Espanya;X-APPLE-RADIUS=500;X-TITLE=Diputació\, 231:geo:2.1629603,41.3882329
END:VEVENT
BEGIN:VEVENT
DTSTART;TZID=Europe/Madrid:20241030T100000
DTEND;TZID=Europe/Madrid:20241030T113000
DTSTAMP:20260424T160337
CREATED:20241001T065530Z
LAST-MODIFIED:20241001T065530Z
UID:10002036-1730282400-1730287800@caritas.barcelona
SUMMARY:SESIÓN INFORMATIVA SOBRE VOLUNTARIADO -Formato presencial- 30 de octubre a las 10hs (en catalán)
DESCRIPTION:Este es el primer paso para ser voluntario o voluntaria de Cáritas. Desde el programa de Voluntariado\, organizamos sesiones informativas periódicas\, para todas aquellas personas que quieran ser voluntarias en nuestra institución.  \nEsta sesión se impartirá en catalán\nSi quieres apuntarte a una sesión informativa sobre el voluntariado en Càritas\, inscríbete a través del siguiente formulario\, indicando la sesión a la cual quieres asistir: \n Hazte voluntario | Caritas Barcelona \nLugar: Seminari Conciliar de Barcelona. C/ de la Diputació\, 231\, Barcelona (08007)\n  \nEl programa de voluntariado de Cáritas Barcelona cuenta con el soporte de la Generalitat de Catalunya.
URL:https://caritas.barcelona/es/agenda-caritas/sesion-informativa-sobre-voluntariado-formato-presencial-30-de-octubre-a-las-10hs-en-catalan/
LOCATION:Seminari Conciliar de Barcelona\, Diputació\, 231\, Barcelona\, Barcelona\, 08007\, Espanya
ATTACH;FMTTYPE=image/jpeg:https://caritas.barcelona/wp-content/uploads/2022/07/Foto-per-SI-a-lagenda-web-1.jpg
ORGANIZER;CN="C%C3%A0ritas Barcelona":MAILTO:caritas@caritas.barcelona
GEO:41.3882329;2.1629603
X-APPLE-STRUCTURED-LOCATION;VALUE=URI;X-ADDRESS=Seminari Conciliar de Barcelona Diputació 231 Barcelona Barcelona 08007 Espanya;X-APPLE-RADIUS=500;X-TITLE=Diputació\, 231:geo:2.1629603,41.3882329
END:VEVENT
BEGIN:VEVENT
DTSTART;TZID=Europe/Madrid:20241030T153000
DTEND;TZID=Europe/Madrid:20241120T173000
DTSTAMP:20260424T160337
CREATED:20241011T103053Z
LAST-MODIFIED:20241011T104210Z
UID:10002043-1730302200-1732123800@caritas.barcelona
SUMMARY:Curso Elementos clave de la propuesta social de la Iglesia TARDES
DESCRIPTION:Formación inicial\nOctava y novena edición (octubre-noviembre de 2024) \nObjetivos del curso\n• Reconocer que la misión de Cáritas conecta con los principios básicos de la propuesta social de la Iglesia.\n• Reconocer los elementos clave de la Propuesta (Doctrina) social de la Iglesia.\n• Desvelar el interés por la cuestión social en el seno de la Iglesia. \nProfesorado: Mn. Joan Costa\, Míriam Feudo\, Josep Matías i Domènech Valls. \nOpción a) octubre-noviembre de 2024. TARDAS\nMiércoles 30 de octubre y 6\, 13 y 20 de noviembre de 15.30 a 17.30 h\nInscripción clicando en este código de curso: 2024.10.DOCESGL.01 \n  \nLugar: Seminario Conciliar de Barcelona. Calle Diputación\, 231\, Barcelona.\nPersonas destinatarias: personal contratado y voluntario de Cáritas Diocesana de Barcelona
URL:https://caritas.barcelona/es/agenda-caritas/curso-elementos-clave-de-la-propuesta-social-de-la-iglesia/
LOCATION:Seminari Conciliar de Barcelona\, Diputació\, 231\, Barcelona\, Barcelona\, 08007\, Espanya
ATTACH;FMTTYPE=image/jpeg:https://caritas.barcelona/wp-content/uploads/2024/10/foto-papa-1.jpg
ORGANIZER;CN="C%C3%A0ritas Barcelona":MAILTO:caritas@caritas.barcelona
GEO:41.3882329;2.1629603
X-APPLE-STRUCTURED-LOCATION;VALUE=URI;X-ADDRESS=Seminari Conciliar de Barcelona Diputació 231 Barcelona Barcelona 08007 Espanya;X-APPLE-RADIUS=500;X-TITLE=Diputació\, 231:geo:2.1629603,41.3882329
END:VEVENT
END:VCALENDAR