BEGIN:VCALENDAR
VERSION:2.0
PRODID:-//Caritas Barcelona - ECPv6.15.18//NONSGML v1.0//EN
CALSCALE:GREGORIAN
METHOD:PUBLISH
X-WR-CALNAME:Caritas Barcelona
X-ORIGINAL-URL:https://caritas.barcelona/es/
X-WR-CALDESC:Eventos para Caritas Barcelona
REFRESH-INTERVAL;VALUE=DURATION:PT1H
X-Robots-Tag:noindex
X-PUBLISHED-TTL:PT1H
BEGIN:VTIMEZONE
TZID:Europe/Madrid
BEGIN:DAYLIGHT
TZOFFSETFROM:+0100
TZOFFSETTO:+0200
TZNAME:CEST
DTSTART:20190331T010000
END:DAYLIGHT
BEGIN:STANDARD
TZOFFSETFROM:+0200
TZOFFSETTO:+0100
TZNAME:CET
DTSTART:20191027T010000
END:STANDARD
BEGIN:DAYLIGHT
TZOFFSETFROM:+0100
TZOFFSETTO:+0200
TZNAME:CEST
DTSTART:20200329T010000
END:DAYLIGHT
BEGIN:STANDARD
TZOFFSETFROM:+0200
TZOFFSETTO:+0100
TZNAME:CET
DTSTART:20201025T010000
END:STANDARD
BEGIN:DAYLIGHT
TZOFFSETFROM:+0100
TZOFFSETTO:+0200
TZNAME:CEST
DTSTART:20210328T010000
END:DAYLIGHT
BEGIN:STANDARD
TZOFFSETFROM:+0200
TZOFFSETTO:+0100
TZNAME:CET
DTSTART:20211031T010000
END:STANDARD
END:VTIMEZONE
BEGIN:VEVENT
DTSTART;TZID=Europe/Madrid:20200515T173000
DTEND;TZID=Europe/Madrid:20200515T190000
DTSTAMP:20260422T133305
CREATED:20191220T124445Z
LAST-MODIFIED:20200429T141150Z
UID:10001500-1589563800-1589569200@caritas.barcelona
SUMMARY:Sesión Informativa sobre Voluntariado (15 de mayo).
DESCRIPTION:Este es el primer paso para ser voluntario o voluntaria de Cáritas. Desde el programa de Voluntariado\, organizamos sesiones informativas periódicas\, para todas aquellas personas que deseen ser voluntarias en nuestra institución. \nSi quieres ser voluntario o recibir más información sobre el voluntariado en Cáritas\, inscríbete en el siguiente formulario.
URL:https://caritas.barcelona/es/agenda-caritas/sesion-informativa-sobre-voluntariado-15-de-mayo/
LOCATION:PENDIENTE DE CONFIRMACIÓN\, Espanya
ORGANIZER;CN="C%C3%A0ritas Barcelona":MAILTO:caritas@caritas.barcelona
END:VEVENT
BEGIN:VEVENT
DTSTART;TZID=Europe/Madrid:20200520T183000
DTEND;TZID=Europe/Madrid:20200520T200000
DTSTAMP:20260422T133305
CREATED:20170825T071614Z
LAST-MODIFIED:20200429T115152Z
UID:10001288-1589999400-1590004800@caritas.barcelona
SUMMARY:Cómo acompañamos desde la alegría y la celebración.
DESCRIPTION:Cómo acompañamos desde la alegría y la celebración \nDentro del 9º ciclo  de Reflexiones en torno al voluntariado\, la Loli Ibáñez y la Águeda Fernández\, trabajadoras sociales de CDB\,  nos acompañarán en esta sesión sobre Cómo acompañamos desde la alegría y la celebración. \nEsta sesión es prioritaria para voluntarios de Càritas (aunque la entrada es libre\, hay que inscribirse). Para voluntarios de otras entidades\, esperar confirmación. \nApúntate a través del siguiente formulario en esta sesión! Te esperamos! \nPuedes informarte de todas las conferencias del Ciclo de Reflexiones del curso 2019 – 2020 clicando AQUÍ.
URL:https://caritas.barcelona/es/agenda-caritas/9o-ciclo-de-reflexiones-en-torno-al-voluntariado-como-acompanamos-desde-la-alegria-y-la-celebracion/
LOCATION:FORMACIÓN EN LÍNEA. PENDIENTE DE CONFIRMACIÓN.\, Espanya
ATTACH;FMTTYPE=image/jpeg:https://caritas.barcelona/wp-content/uploads/2017/08/Diapositiva1.jpg
ORGANIZER;CN="C%C3%A0ritas Barcelona":MAILTO:caritas@caritas.barcelona
END:VEVENT
END:VCALENDAR