BEGIN:VCALENDAR
VERSION:2.0
PRODID:-//Caritas Barcelona - ECPv6.15.18//NONSGML v1.0//EN
CALSCALE:GREGORIAN
METHOD:PUBLISH
X-ORIGINAL-URL:https://caritas.barcelona/es/
X-WR-CALDESC:Eventos para Caritas Barcelona
REFRESH-INTERVAL;VALUE=DURATION:PT1H
X-Robots-Tag:noindex
X-PUBLISHED-TTL:PT1H
BEGIN:VTIMEZONE
TZID:Europe/Madrid
BEGIN:DAYLIGHT
TZOFFSETFROM:+0100
TZOFFSETTO:+0200
TZNAME:CEST
DTSTART:20190331T010000
END:DAYLIGHT
BEGIN:STANDARD
TZOFFSETFROM:+0200
TZOFFSETTO:+0100
TZNAME:CET
DTSTART:20191027T010000
END:STANDARD
BEGIN:DAYLIGHT
TZOFFSETFROM:+0100
TZOFFSETTO:+0200
TZNAME:CEST
DTSTART:20200329T010000
END:DAYLIGHT
BEGIN:STANDARD
TZOFFSETFROM:+0200
TZOFFSETTO:+0100
TZNAME:CET
DTSTART:20201025T010000
END:STANDARD
BEGIN:DAYLIGHT
TZOFFSETFROM:+0100
TZOFFSETTO:+0200
TZNAME:CEST
DTSTART:20210328T010000
END:DAYLIGHT
BEGIN:STANDARD
TZOFFSETFROM:+0200
TZOFFSETTO:+0100
TZNAME:CET
DTSTART:20211031T010000
END:STANDARD
END:VTIMEZONE
BEGIN:VEVENT
DTSTART;TZID=Europe/Madrid:20200429T183000
DTEND;TZID=Europe/Madrid:20200429T200000
DTSTAMP:20260422T145231
CREATED:20170825T071614Z
LAST-MODIFIED:20200429T120633Z
UID:10001286-1588185000-1588190400@caritas.barcelona
SUMMARY:Vivir el estrés que me genera la acción con los otros.
DESCRIPTION:Herramientas y estrategias para un equilibrio saludable entre cuerpo\, mente y espíritu \nDentro del 9º ciclo  de Reflexiones en torno al voluntariado\, la Consol García Blanque\, doctora en medicina\, será la encargada de llevar a cabo la charla\, Herramientas y estrategias para un equilibrio saludable entre cuerpo\, mente y espíritu. \nEsta sesión es prioritaria para voluntarios de Càritas (aunque la entrada es libre\, hay que inscribirse). Para voluntarios de otras entidades\, esperar confirmación. \nApúntate a través del siguiente formulario en esta sesión! Te esperamos! \nPuedes informarte de todas las conferencias del Ciclo de Reflexiones del curso 2019 – 2020 clicando AQUÍ.
URL:https://caritas.barcelona/es/agenda-caritas/9o-ciclo-de-reflexiones-en-torno-al-voluntariado-vivir-el-estres-que-me-genera-la-accion-con-los-otros/
LOCATION:FORMACIÓN EN LÍNEA\, Espanya
ATTACH;FMTTYPE=image/jpeg:https://caritas.barcelona/wp-content/uploads/2017/08/Diapositiva1.jpg
ORGANIZER;CN="C%C3%A0ritas Barcelona":MAILTO:caritas@caritas.barcelona
END:VEVENT
END:VCALENDAR