BEGIN:VCALENDAR
VERSION:2.0
PRODID:-//Caritas Barcelona - ECPv6.15.18//NONSGML v1.0//EN
CALSCALE:GREGORIAN
METHOD:PUBLISH
X-ORIGINAL-URL:https://caritas.barcelona/es/
X-WR-CALDESC:Eventos para Caritas Barcelona
REFRESH-INTERVAL;VALUE=DURATION:PT1H
X-Robots-Tag:noindex
X-PUBLISHED-TTL:PT1H
BEGIN:VTIMEZONE
TZID:Europe/Madrid
BEGIN:DAYLIGHT
TZOFFSETFROM:+0100
TZOFFSETTO:+0200
TZNAME:CEST
DTSTART:20190331T010000
END:DAYLIGHT
BEGIN:STANDARD
TZOFFSETFROM:+0200
TZOFFSETTO:+0100
TZNAME:CET
DTSTART:20191027T010000
END:STANDARD
BEGIN:DAYLIGHT
TZOFFSETFROM:+0100
TZOFFSETTO:+0200
TZNAME:CEST
DTSTART:20200329T010000
END:DAYLIGHT
BEGIN:STANDARD
TZOFFSETFROM:+0200
TZOFFSETTO:+0100
TZNAME:CET
DTSTART:20201025T010000
END:STANDARD
BEGIN:DAYLIGHT
TZOFFSETFROM:+0100
TZOFFSETTO:+0200
TZNAME:CEST
DTSTART:20210328T010000
END:DAYLIGHT
BEGIN:STANDARD
TZOFFSETFROM:+0200
TZOFFSETTO:+0100
TZNAME:CET
DTSTART:20211031T010000
END:STANDARD
END:VTIMEZONE
BEGIN:VEVENT
DTSTART;TZID=Europe/Madrid:20200113T190000
DTEND;TZID=Europe/Madrid:20200113T193000
DTSTAMP:20260422T191913
CREATED:20191029T133642Z
LAST-MODIFIED:20191029T161429Z
UID:10001476-1578942000-1578943800@caritas.barcelona
SUMMARY:Fundamentalismos cristianos y autoritarismos
DESCRIPTION:Fenómenos como Salvini\, Orban\, Bolsonaro\, Trump o Vox han irrumpido en la escena política en todo el mundo. \nEl ascenso al poder de la extrema derecha ha ido acompañado de un discurso marcadamente retrógrado\, que apuesta por un retorno a valores pretendidamente cristianos. Esta sesión busca profunditzar sobre la instrumentalización del cristianismo que ha servido para justificar autoritarismos y de qué manera es posible darle una respuesta desde la propia religión. \nPonentes: \nMar Griera\, profesora de sociología a la UAB y directora del grupo de investigación ISOR.\nVíctor Codina\, Jesuita. Doctor en teología\, profesor en la Universidad Católica de Bolivia. Miembro del equipo de Cristianismo y Justicia. \nModeración: \nJoan Carles Peris\, cabe de la sección Internacional de TV3.
URL:https://caritas.barcelona/es/agenda-caritas/fundamentalismos-cristianos-y-autoritarismos/
LOCATION:Cristianisme i Justícia\, Roger de Llúria\, 13\, Barcelona\, Espanya\, 08010\, Espanya
ATTACH;FMTTYPE=image/jpeg:https://caritas.barcelona/wp-content/uploads/2019/10/dillluns-ddhh.jpg
GEO:41.3906452;2.1719173
X-APPLE-STRUCTURED-LOCATION;VALUE=URI;X-ADDRESS=Cristianisme i Justícia Roger de Llúria 13 Barcelona Espanya 08010 Espanya;X-APPLE-RADIUS=500;X-TITLE=Roger de Llúria\, 13:geo:2.1719173,41.3906452
END:VEVENT
BEGIN:VEVENT
DTSTART;TZID=Europe/Madrid:20200116T100000
DTEND;TZID=Europe/Madrid:20200116T113000
DTSTAMP:20260422T191913
CREATED:20191220T125729Z
LAST-MODIFIED:20191220T125729Z
UID:10001503-1579168800-1579174200@caritas.barcelona
SUMMARY:Sesión Informativa sobre Voluntariado (16 de enero)
DESCRIPTION:Este es el primer paso para ser voluntario o voluntaria de Cáritas. Desde el programa de Voluntariado\, organizamos sesiones informativas periódicas\, para todas aquellas personas que deseen ser voluntarias en nuestra institución. \nSi quieres ser voluntario o recibir más información sobre el voluntariado en Cáritas\, inscríbete en el siguiente formulario.
URL:https://caritas.barcelona/es/agenda-caritas/sesion-informativa-sobre-voluntariado-16-de-enero/
LOCATION:Barcelona 1 – Distritos de Ciutat Vella\, Eixample y barrio del Poble-sec\, Plaça Nova\, 1\, Barcelona\, Barcelona\, 08002\, Espanya
ORGANIZER;CN="C%C3%A0ritas Barcelona":MAILTO:caritas@caritas.barcelona
GEO:41.3840277;2.1751608
X-APPLE-STRUCTURED-LOCATION;VALUE=URI;X-ADDRESS=Barcelona 1 – Distritos de Ciutat Vella Eixample y barrio del Poble-sec Plaça Nova 1 Barcelona Barcelona 08002 Espanya;X-APPLE-RADIUS=500;X-TITLE=Plaça Nova\, 1:geo:2.1751608,41.3840277
END:VEVENT
BEGIN:VEVENT
DTSTART;TZID=Europe/Madrid:20200118T180000
DTEND;TZID=Europe/Madrid:20200118T190000
DTSTAMP:20260422T191913
CREATED:20200113T102509Z
LAST-MODIFIED:20200113T103038Z
UID:10001505-1579370400-1579374000@caritas.barcelona
SUMMARY:'Vetlla de pregària' delante del CIE de Barcelona
DESCRIPTION:Por sexto año consecutivo\, y con el lema “no estáis solos\, basta hostilidad” el grupo de visitas de la Fundación Migra Studium – SJM\, junto con una treintena de entidades\, organiza una ‘vetlla der pregària’ delante del Centro de Internamiento de Extranjeros de la Zona Franca para denunciar su existencia y mostrar nuestra solidaridad con las personas internadas.
URL:https://caritas.barcelona/es/agenda-caritas/vetlla-de-pregaria-delante-del-cie-de-barcelona/
LOCATION:CIE de Barcelona\, Carrer E Zona Franca nº40\, Barcelona\, Barcelona\, 08040\, Espanya
ATTACH;FMTTYPE=image/jpeg:https://caritas.barcelona/wp-content/uploads/2020/01/Vetlla-CIE-2020-Cartell_sm.jpeg
GEO:41.327744;2.1248074
X-APPLE-STRUCTURED-LOCATION;VALUE=URI;X-ADDRESS=CIE de Barcelona Carrer E Zona Franca nº40 Barcelona Barcelona 08040 Espanya;X-APPLE-RADIUS=500;X-TITLE=Carrer E Zona Franca nº40:geo:2.1248074,41.327744
END:VEVENT
BEGIN:VEVENT
DTSTART;TZID=Europe/Madrid:20200122T093000
DTEND;TZID=Europe/Madrid:20200205T133000
DTSTAMP:20260422T191913
CREATED:20200114T104000Z
LAST-MODIFIED:20200120T104321Z
UID:10001511-1579685400-1580909400@caritas.barcelona
SUMMARY:Curso básico de voluntariado social (22\, 29 de enero y 5 de febrero)
DESCRIPTION:Curso Básico de Voluntariado Social de 12 horas de duración dirigido a personas a partir de 16 años que tengan interés por acercarse a la acción voluntaria o iniciar un proceso de formación en el ámbito del voluntariado social. \nLos objetivos del curso son:\nConocer y comprender qué implica la acción voluntaria.\nComprender y aplicar los elementos esenciales del trabajo en equipo.\nConocer y comprender los principales valores que fundamentan la acción social.\nIniciarse en la capacidad de análisis crítico de la realidad social actual.\nComprender los principales factores que intervienen en la relación de ayuda\nConocer los principales ámbitos de intervención del voluntariado social. \nEl curso consta de 3 sesiones de 4 horas cada una los días:\nmiércoles 22\, 29 de enero de 9:30h a 13:30h\nmiércoles 5 de febrero de 9:30h a 13:30h \nCoste de la inscripción: donativo de 10€ (las personas que no puedan asumir este coste pueden solicitar la exención del pago). \nMás información. AQUÍ \nLas plazas son limitadas y es necesario inscripción previa en el siguiente formulario. Se debe recibir correo de confirmación.
URL:https://caritas.barcelona/es/agenda-caritas/curso-basico-de-voluntariado-social-22-29-de-enero-y-5-de-febrero/
LOCATION:Barcelona 1 – Distritos de Ciutat Vella\, Eixample y barrio del Poble-sec\, Plaça Nova\, 1\, Barcelona\, Barcelona\, 08002\, Espanya
ATTACH;FMTTYPE=image/jpeg:https://caritas.barcelona/wp-content/uploads/2020/01/20170214_174105.jpg
ORGANIZER;CN="C%C3%A0ritas Barcelona":MAILTO:caritas@caritas.barcelona
GEO:41.3840277;2.1751608
X-APPLE-STRUCTURED-LOCATION;VALUE=URI;X-ADDRESS=Barcelona 1 – Distritos de Ciutat Vella Eixample y barrio del Poble-sec Plaça Nova 1 Barcelona Barcelona 08002 Espanya;X-APPLE-RADIUS=500;X-TITLE=Plaça Nova\, 1:geo:2.1751608,41.3840277
END:VEVENT
BEGIN:VEVENT
DTSTART;TZID=Europe/Madrid:20200129T183000
DTEND;TZID=Europe/Madrid:20200129T200000
DTSTAMP:20260422T191913
CREATED:20170825T071614Z
LAST-MODIFIED:20200115T110927Z
UID:10001283-1580322600-1580328000@caritas.barcelona
SUMMARY:9º Ciclo de reflexiones en torno al voluntariado - Vivir los colores de la comunión eclesiástica
DESCRIPTION:estimonio y reflexión sobre la misión compartida del voluntariado de Càritas \nDentro del 9º Ciclo de Reflexiones en torno al voluntariado\, Sergi Gordo\, obispo auxiliar de Barcelona\, compartirá el testimonio y reflexión sobre la misión compartida del voluntariado de Càritas el 29 de enero a las 18:30 en la sala Sant Jordi del Seminario Conciliar de Barcelona. \nEsta sesión es prioritaria para voluntarios de Càritas (aunque la entrada es libre\, hay que inscribirse). Para voluntarios de otras entidades\, esperar confirmación. \nApúntate a través del siguiente formulario en esta sesión! Te esperamos! \nPuedes informarte de todas las conferencias del Ciclo de Reflexiones del curso 2019 – 2020 clicandoAQUÍ
URL:https://caritas.barcelona/es/agenda-caritas/9o-ciclo-de-reflexiones-en-torno-al-voluntariado-vivir-los-colores-de-la-comunion-eclesial/
LOCATION:Seminari Conciliar de Barcelona\, Diputació\, 231\, Barcelona\, Barcelona\, 08007\, Espanya
ATTACH;FMTTYPE=image/png:https://caritas.barcelona/wp-content/uploads/2017/08/Cicle-4.png
ORGANIZER;CN="C%C3%A0ritas Barcelona":MAILTO:caritas@caritas.barcelona
GEO:41.3882329;2.1629603
X-APPLE-STRUCTURED-LOCATION;VALUE=URI;X-ADDRESS=Seminari Conciliar de Barcelona Diputació 231 Barcelona Barcelona 08007 Espanya;X-APPLE-RADIUS=500;X-TITLE=Diputació\, 231:geo:2.1629603,41.3882329
END:VEVENT
BEGIN:VEVENT
DTSTART;TZID=Europe/Madrid:20200130T090000
DTEND;TZID=Europe/Madrid:20200130T140000
DTSTAMP:20260422T191913
CREATED:20200117T110812Z
LAST-MODIFIED:20200129T103900Z
UID:10001512-1580374800-1580392800@caritas.barcelona
SUMMARY:La realidad que no se ve: presentación del Informe Foessa Barcelona
DESCRIPTION:El próximo 30 de enero presentamos públicamente el Informe Foessa 2019 sobre exclusión y desarrollo social a la Diócesis de Barcelona. Esta jornada por la mañana\, está dirigida sobre todo a técnicos y profesionales del sector que trabajan con personas en riesgo de exclusión\, pero también está abierto al resto de público y personas interesadas. \nLos datos más importantes del informe se hicieron públicos el pasado mes de diciembre\, pero ahora queremos debatir sobre ellas y hablar sobre los problemas de fondo y sobre los retos de futuro con destacados profesionales del ámbito social\, representantes de las administraciones\, así como con algunos de los autores del informe de Barcelona y otros informes Foessa de ámbito estatal. \nConsulta el programa completo en este enlace. \n \n 
URL:https://caritas.barcelona/es/agenda-caritas/presentacion-del-informe-foessa-barcelona-2019/
LOCATION:CCCB Centre de Cultura Contemporània de Barcelona\, Carrer de Montalegre\, 5\, Barcelona\, Barcelona\, 08001\, Espanya
ATTACH;FMTTYPE=image/png:https://caritas.barcelona/wp-content/uploads/2019/12/Captura-4.png
GEO:41.383885;2.166781
X-APPLE-STRUCTURED-LOCATION;VALUE=URI;X-ADDRESS=CCCB Centre de Cultura Contemporània de Barcelona Carrer de Montalegre 5 Barcelona Barcelona 08001 Espanya;X-APPLE-RADIUS=500;X-TITLE=Carrer de Montalegre\, 5:geo:2.166781,41.383885
END:VEVENT
END:VCALENDAR