BEGIN:VCALENDAR
VERSION:2.0
PRODID:-//Caritas Barcelona - ECPv6.15.18//NONSGML v1.0//EN
CALSCALE:GREGORIAN
METHOD:PUBLISH
X-ORIGINAL-URL:https://caritas.barcelona/es/
X-WR-CALDESC:Eventos para Caritas Barcelona
REFRESH-INTERVAL;VALUE=DURATION:PT1H
X-Robots-Tag:noindex
X-PUBLISHED-TTL:PT1H
BEGIN:VTIMEZONE
TZID:Europe/Madrid
BEGIN:DAYLIGHT
TZOFFSETFROM:+0100
TZOFFSETTO:+0200
TZNAME:CEST
DTSTART:20180325T010000
END:DAYLIGHT
BEGIN:STANDARD
TZOFFSETFROM:+0200
TZOFFSETTO:+0100
TZNAME:CET
DTSTART:20181028T010000
END:STANDARD
BEGIN:DAYLIGHT
TZOFFSETFROM:+0100
TZOFFSETTO:+0200
TZNAME:CEST
DTSTART:20190331T010000
END:DAYLIGHT
BEGIN:STANDARD
TZOFFSETFROM:+0200
TZOFFSETTO:+0100
TZNAME:CET
DTSTART:20191027T010000
END:STANDARD
BEGIN:DAYLIGHT
TZOFFSETFROM:+0100
TZOFFSETTO:+0200
TZNAME:CEST
DTSTART:20200329T010000
END:DAYLIGHT
BEGIN:STANDARD
TZOFFSETFROM:+0200
TZOFFSETTO:+0100
TZNAME:CET
DTSTART:20201025T010000
END:STANDARD
END:VTIMEZONE
BEGIN:VEVENT
DTSTART;TZID=Europe/Madrid:20191202T190000
DTEND;TZID=Europe/Madrid:20191202T203000
DTSTAMP:20260422T205958
CREATED:20191029T132501Z
LAST-MODIFIED:20191125T122926Z
UID:10001473-1575313200-1575318600@caritas.barcelona
SUMMARY:¿Es compatible la cárcel con los Derechos Humanos?
DESCRIPTION:La libertad es un derecho humano fundamental\, vinculado a la misma dignidad humana. \nAdemás\, todos los estudios muestran que el encarcelamiento\, sobre todo cuando es largo\, produce perjuicios psicofísicos a la persona y favorece la exclusión social y las desigualdades\, a pesar de todos los esfuerzos que se hacen en favor de la reinserción. ¿Es legítimo\, pues\, recurrir a este castigo para prevenir los delitos? \nPonentes :\nIñaki Rivera\, director del Observatorio del Sistema Penal y los\nDerechos Humanos y profesor de derecho penal a la UB.\nMercedes García Arán\, catedrática de derecho penal de la UAB. \nModeración :\nSònia Calvo\, Periodista a La Directa y codirectora del 30 minuts ‘Aïllament: presó dins la presó’
URL:https://caritas.barcelona/es/agenda-caritas/es-compatible-la-carcel-con-los-derechos-humanos/
LOCATION:Cristianisme i Justícia\, Roger de Llúria\, 13\, Barcelona\, Espanya\, 08010\, Espanya
ATTACH;FMTTYPE=image/jpeg:https://caritas.barcelona/wp-content/uploads/2019/10/dillluns-ddhh.jpg
GEO:41.3906452;2.1719173
X-APPLE-STRUCTURED-LOCATION;VALUE=URI;X-ADDRESS=Cristianisme i Justícia Roger de Llúria 13 Barcelona Espanya 08010 Espanya;X-APPLE-RADIUS=500;X-TITLE=Roger de Llúria\, 13:geo:2.1719173,41.3906452
END:VEVENT
BEGIN:VEVENT
DTSTART;TZID=Europe/Madrid:20191211T093000
DTEND;TZID=Europe/Madrid:20191211T140000
DTSTAMP:20260422T205958
CREATED:20191128T155426Z
LAST-MODIFIED:20191128T155608Z
UID:10001323-1576056600-1576072800@caritas.barcelona
SUMMARY:Jornada sobre el Derecho a la Alimentación
DESCRIPTION:La Jornada sobre el Derecho a la Alimentación tendrá lugar a la Feria de Barcelona-Gran Vía de l’Hospitalet de Llobregat (Centro de Convenciones del Pabellón 5 (CC5 – Sala 5.1). podéis llegar en metro L9 (Feria)\, L10 (Fuego) o FGC (Europa Feria). \nDurante el acto\, se presentará el documento de trabajo “Bases para transformar el modelo de distribución y acceso social de los alimentos”\, y también intervendrán responsables de proyectos de entidades sociales\, representantes de instituciones\, del mundo académico\, de empresas del sector y otras personas que hablarán sobre su experiencia con el modelo de distribución y acceso social de los alimentos\, reaprofitament y sostenibilidad. Podéis consultar el programa clicando aquí. \nLa entrada es gratuita y el acto está organizado por la Fundación Banco de los Alimentos\, Cáritas Diocesana de Barcelona y Cruz Roja. \nA media mañana se servirá un breve almorzar de reaprofitament a cargo de la Fundación Formación y Trabajo. \nLas plazas son limitadas. Para inscribirte\, clica en este enlace \n¡Te esperamos!
URL:https://caritas.barcelona/es/agenda-caritas/jornada-sobre-el-derecho-a-la-alimentacion/
LOCATION:Fira de Barcelona\, Avinguda de la Reina Maria Cristina\, s/n\, Barcelona\, Barcelona\, 08004\, Espanya
ATTACH;FMTTYPE=image/png:https://caritas.barcelona/wp-content/uploads/2019/11/Captura-3.png
GEO:41.3730751;2.1504629
X-APPLE-STRUCTURED-LOCATION;VALUE=URI;X-ADDRESS=Fira de Barcelona Avinguda de la Reina Maria Cristina s/n Barcelona Barcelona 08004 Espanya;X-APPLE-RADIUS=500;X-TITLE=Avinguda de la Reina Maria Cristina\, s/n:geo:2.1504629,41.3730751
END:VEVENT
BEGIN:VEVENT
DTSTART;TZID=Europe/Madrid:20191211T170000
DTEND;TZID=Europe/Madrid:20191211T200000
DTSTAMP:20260422T205958
CREATED:20170825T071614Z
LAST-MODIFIED:20191107T152735Z
UID:10001281-1576083600-1576094400@caritas.barcelona
SUMMARY:9º Ciclo de Reflexiones en torno al voluntariado - Oración de Adviento. Espera esperanzada
DESCRIPTION:Oración de Adviento- Espera esperanzada. \nDentro del 9º Ciclo de Reflexiones en torno al voluntariado\, habrá diferentes grupos de reflexión en torno a mis motivaciones y qué sostiene mi esperanza en la acción voluntaria. \nAntes\, a les 17:00h\, habrá la Oración de Adviento en la capilla. \nEsta sesión es prioritaria para voluntarios de Càritas (aunque la entrada es libre\, hay que inscribirse). Para voluntarios de otras entidades\, esperar confirmación. \nApúntate a través del siguiente formulario en esta sesión! Te esperamos! \nPuedes informarte de todas las conferencias del Ciclo de Reflexiones del curso 2019 – 2020 clicando AQUÍ.
URL:https://caritas.barcelona/es/agenda-caritas/9o-ciclo-de-reflexiones-en-torno-al-voluntariado-oracion-de-adviento-espera-esperanzada/
LOCATION:Seminari Conciliar de Barcelona\, Diputació\, 231\, Barcelona\, Barcelona\, 08007\, Espanya
ATTACH;FMTTYPE=image/jpeg:https://caritas.barcelona/wp-content/uploads/2017/08/Doc1_page-0001-1.jpg
ORGANIZER;CN="C%C3%A0ritas Barcelona":MAILTO:caritas@caritas.barcelona
GEO:41.3882329;2.1629603
X-APPLE-STRUCTURED-LOCATION;VALUE=URI;X-ADDRESS=Seminari Conciliar de Barcelona Diputació 231 Barcelona Barcelona 08007 Espanya;X-APPLE-RADIUS=500;X-TITLE=Diputació\, 231:geo:2.1629603,41.3882329
END:VEVENT
BEGIN:VEVENT
DTSTART;TZID=Europe/Madrid:20191212T193000
DTEND;TZID=Europe/Madrid:20191212T203000
DTSTAMP:20260422T205958
CREATED:20191205T102307Z
LAST-MODIFIED:20191205T102307Z
UID:10001494-1576179000-1576182600@caritas.barcelona
SUMMARY:Conferencia 'Hacemos voluntariado\, haz voluntariado'
DESCRIPTION:El día 12 de diciembre del 2019 tendrá lugar la Conferencia ‘Basura voluntariado\, hiciera voluntariado’ a cargo de Paola Contreras\, coordinadora del voluntariado de Arrels Fundació. \nLa hora de encuentro será a las 19.30 h al Salón de Actos de la Fundación Iluro a la Calle Santa Teresa\, número 61 de Mataró. \n¡Te esperamos!
URL:https://caritas.barcelona/es/agenda-caritas/conferencia-hacemos-voluntariado-haz-voluntariado/
LOCATION:Fundació Iluro\, Carrer Santa Teresa\, 61\, Mataró\, Barcelona\, 08301\, Espanya
ATTACH;FMTTYPE=image/png:https://caritas.barcelona/wp-content/uploads/2019/12/Captura-2.png
GEO:41.538019;2.444202
X-APPLE-STRUCTURED-LOCATION;VALUE=URI;X-ADDRESS=Fundació Iluro Carrer Santa Teresa 61 Mataró Barcelona 08301 Espanya;X-APPLE-RADIUS=500;X-TITLE=Carrer Santa Teresa\, 61:geo:2.444202,41.538019
END:VEVENT
BEGIN:VEVENT
DTSTART;TZID=Europe/Madrid:20191213T183000
DTEND;TZID=Europe/Madrid:20191213T200000
DTSTAMP:20260422T205958
CREATED:20191202T104622Z
LAST-MODIFIED:20191202T104622Z
UID:10001482-1576261800-1576267200@caritas.barcelona
SUMMARY:Presentación de 'Va de Vida' de Eduard Sala en la Casa del Libro
DESCRIPTION:El próximo 13 de diciembre tendrá lugar la presentación de ‘Va de Vida’\, de Eduard Sala\, obra ganadora del premio Feel Good 2019. \nEl acto se celebrará en la Casa del Libro de la Rambla de Cataluña 37 y empezará a las 18:30 horas. La presentación contará con la presencia de Eduard Sala\, autor del libro\, coach\, educador y responsable del Área Social de Cáritas Diocesana de Barcelona. También le acompañarán\, Jordi Nadal\, Sor Lucía Caram y Salvador Busquets\, director de Cáritas Barcelona. \nPara más información pinchad aquí. \n¡Te esperamos!
URL:https://caritas.barcelona/es/agenda-caritas/presentacion-de-va-de-vida-de-eduard-sala-en-la-casa-del-libro/
LOCATION:Casa del LLibre\, Rambla de Catalunya 37\, Barcelona\, Barcelona\, 08007\, Espanya
ATTACH;FMTTYPE=image/png:https://caritas.barcelona/wp-content/uploads/2019/12/Captura.png
GEO:41.3897054;2.1649409
X-APPLE-STRUCTURED-LOCATION;VALUE=URI;X-ADDRESS=Casa del LLibre Rambla de Catalunya 37 Barcelona Barcelona 08007 Espanya;X-APPLE-RADIUS=500;X-TITLE=Rambla de Catalunya 37:geo:2.1649409,41.3897054
END:VEVENT
BEGIN:VEVENT
DTSTART;TZID=Europe/Madrid:20191215T180000
DTEND;TZID=Europe/Madrid:20191215T200000
DTSTAMP:20260422T205958
CREATED:20191203T171203Z
LAST-MODIFIED:20191203T172025Z
UID:10001488-1576432800-1576440000@caritas.barcelona
SUMMARY:Concierto de Navidad en Mataró
DESCRIPTION:La orquesta de Mataró con la colaboración del Coro Madrigalista de Mataró y Cáritas Interparroquial de Mataró ofrecerán un concierto de Navidad el domingo 15 de Diciembre a las 18 h. \nEl concierto\, dirigido por Clàudia Dubé Oranias\, tendrá lugar en la Iglesia de Sant Josep de Mataró y la entrada será libre con aportación voluntaria. \n¡Te esperamos!
URL:https://caritas.barcelona/es/agenda-caritas/concert-de-nadal-a-mataro/
LOCATION:Església Sant Josep\, Carrer de Sant Josep\, 7\, Mataró\, Barcelona\, 08302\, Espanya
ATTACH;FMTTYPE=image/png:https://caritas.barcelona/wp-content/uploads/2019/12/Captura-1.png
GEO:41.5396655;2.4438888
X-APPLE-STRUCTURED-LOCATION;VALUE=URI;X-ADDRESS=Església Sant Josep Carrer de Sant Josep 7 Mataró Barcelona 08302 Espanya;X-APPLE-RADIUS=500;X-TITLE=Carrer de Sant Josep\, 7:geo:2.4438888,41.5396655
END:VEVENT
END:VCALENDAR