BEGIN:VCALENDAR
VERSION:2.0
PRODID:-//Caritas Barcelona - ECPv6.15.18//NONSGML v1.0//EN
CALSCALE:GREGORIAN
METHOD:PUBLISH
X-WR-CALNAME:Caritas Barcelona
X-ORIGINAL-URL:https://caritas.barcelona/es/
X-WR-CALDESC:Eventos para Caritas Barcelona
REFRESH-INTERVAL;VALUE=DURATION:PT1H
X-Robots-Tag:noindex
X-PUBLISHED-TTL:PT1H
BEGIN:VTIMEZONE
TZID:Europe/Madrid
BEGIN:DAYLIGHT
TZOFFSETFROM:+0100
TZOFFSETTO:+0200
TZNAME:CEST
DTSTART:20180325T010000
END:DAYLIGHT
BEGIN:STANDARD
TZOFFSETFROM:+0200
TZOFFSETTO:+0100
TZNAME:CET
DTSTART:20181028T010000
END:STANDARD
BEGIN:DAYLIGHT
TZOFFSETFROM:+0100
TZOFFSETTO:+0200
TZNAME:CEST
DTSTART:20190331T010000
END:DAYLIGHT
BEGIN:STANDARD
TZOFFSETFROM:+0200
TZOFFSETTO:+0100
TZNAME:CET
DTSTART:20191027T010000
END:STANDARD
BEGIN:DAYLIGHT
TZOFFSETFROM:+0100
TZOFFSETTO:+0200
TZNAME:CEST
DTSTART:20200329T010000
END:DAYLIGHT
BEGIN:STANDARD
TZOFFSETFROM:+0200
TZOFFSETTO:+0100
TZNAME:CET
DTSTART:20201025T010000
END:STANDARD
END:VTIMEZONE
BEGIN:VEVENT
DTSTART;TZID=Europe/Madrid:20191104T190000
DTEND;TZID=Europe/Madrid:20191104T203000
DTSTAMP:20260422T221428
CREATED:20191029T131032Z
LAST-MODIFIED:20191030T085247Z
UID:10001469-1572894000-1572899400@caritas.barcelona
SUMMARY:Ser niño migrante en Cataluña
DESCRIPTION:En noviembre de 2019 se cumplen 30 años de la Convención sobre los Derechos de los Niños. \nEn un contexto en el que las problemáticas migratorias que sufren los niños están en la agenda política de muchos países\, hay que poner la mirada en cómo\, en Cataluña\, estamos tratando a los niños de origen migrante. \nPonentes :\nSílvia Carrasco\, profesora de la UAB.\nElisabet Ureña\, abogada del programa de Migración y Codesarrollo de Cáritas Diocesana de Barcelona. \nModeración :\nAure Farran\, coordinadora del suplemento AraCriatures del diario Ara.
URL:https://caritas.barcelona/es/agenda-caritas/ser-nino-migrante-en-cataluna/
LOCATION:Cristianisme i Justícia\, Roger de Llúria\, 13\, Barcelona\, Espanya\, 08010\, Espanya
ATTACH;FMTTYPE=image/jpeg:https://caritas.barcelona/wp-content/uploads/2019/10/dillluns-ddhh.jpg
ORGANIZER;CN="C%C3%A0ritas Barcelona":MAILTO:caritas@caritas.barcelona
GEO:41.3906452;2.1719173
X-APPLE-STRUCTURED-LOCATION;VALUE=URI;X-ADDRESS=Cristianisme i Justícia Roger de Llúria 13 Barcelona Espanya 08010 Espanya;X-APPLE-RADIUS=500;X-TITLE=Roger de Llúria\, 13:geo:2.1719173,41.3906452
END:VEVENT
BEGIN:VEVENT
DTSTART;TZID=Europe/Madrid:20191106T183000
DTEND;TZID=Europe/Madrid:20191106T200000
DTSTAMP:20260422T221428
CREATED:20170825T071614Z
LAST-MODIFIED:20191107T152751Z
UID:10001282-1573065000-1573070400@caritas.barcelona
SUMMARY:9º Ciclo de Reflexiones en torno al voluntariado - ¿Y tú qué dices? ¿Di basta!
DESCRIPTION:Nadie sin hogar. Presentación de la campaña sin hogar 2019 y conferencia. \nLa conferencia estará a cargo de la comisión mixta del programa “Sense Llar i Habitatge” de Càritas Diocesana de Barcelona y el Sr. Guillem Fernández\, economista y doctor en políticas públicas sobre acceso y mantenimiento de la vivienda. \nEsta sesión es prioritaria para voluntarios de Càritas (aunque la entrada es libre\, hay que inscribirse). Para voluntarios de otras entidades\, esperar confirmación. \nApúntate a través del siguiente formulario en esta sesión! Te esperamos! \nPuedes informarte de todas las conferencias del Ciclo de Reflexiones del curso 2019 – 2020 clicando AQUÍ.
URL:https://caritas.barcelona/es/agenda-caritas/9o-ciclo-de-reflexiones-en-torno-al-voluntariado-y-tu-que-dices-di-basta/
LOCATION:Seminari Conciliar de Barcelona\, Diputació\, 231\, Barcelona\, Barcelona\, 08007\, Espanya
ATTACH;FMTTYPE=image/jpeg:https://caritas.barcelona/wp-content/uploads/2017/08/Doc1_page-0001-1.jpg
ORGANIZER;CN="C%C3%A0ritas Barcelona":MAILTO:caritas@caritas.barcelona
GEO:41.3882329;2.1629603
X-APPLE-STRUCTURED-LOCATION;VALUE=URI;X-ADDRESS=Seminari Conciliar de Barcelona Diputació 231 Barcelona Barcelona 08007 Espanya;X-APPLE-RADIUS=500;X-TITLE=Diputació\, 231:geo:2.1629603,41.3882329
END:VEVENT
BEGIN:VEVENT
DTSTART;TZID=Europe/Madrid:20191107T173000
DTEND;TZID=Europe/Madrid:20191107T193000
DTSTAMP:20260422T221428
CREATED:20191106T091235Z
LAST-MODIFIED:20191106T101436Z
UID:10001481-1573147800-1573155000@caritas.barcelona
SUMMARY:Presentación académica del Informe FOESSA
DESCRIPTION:Acto académico sobre el informe territorializado en Catalunya\, elaborado por la Fundación FOESSA. \nDurante la presentación\, que irá a cargo de Míriam Feu\, responsable de Análisis Social e Incidencia de Cáritas Barcelona\, se mostrará una radiografía de la situación social que vivimos en Cataluña y se presentarán datos sobre el aumento de la pobreza severa\, su cronificación\, la polarización y el aumento de las desigualdades. \nEl acto contará con la representación del presidente de Càritas de Catalunya\, Sr. Francesc Roig Queralt\, y el director general de la Fundación Pere Tarrés\, Sr. Josep-Oriol Pujol y Humet. \nAforo limitado \nSe ruega confirmación al teléfono 633 745 777 o al correo electrónico info@caritascatalunya.cat
URL:https://caritas.barcelona/es/agenda-caritas/presentacio-academica-de-linforme-foessa/
LOCATION:Facultat d’educació social i treball social Pere Tarrés – URL\, Carrer de Santaló\, 37\, Barcelona\, Barcelona\, 08021\, Espanya
ATTACH;FMTTYPE=image/png:https://caritas.barcelona/wp-content/uploads/2019/11/Captura.png
GEO:41.3955564;2.145762
X-APPLE-STRUCTURED-LOCATION;VALUE=URI;X-ADDRESS=Facultat d’educació social i treball social Pere Tarrés – URL Carrer de Santaló 37 Barcelona Barcelona 08021 Espanya;X-APPLE-RADIUS=500;X-TITLE=Carrer de Santaló\, 37:geo:2.145762,41.3955564
END:VEVENT
BEGIN:VEVENT
DTSTART;TZID=Europe/Madrid:20191111T170000
DTEND;TZID=Europe/Madrid:20191111T190000
DTSTAMP:20260422T221428
CREATED:20170825T071614Z
LAST-MODIFIED:20191023T100846Z
UID:10001280-1573491600-1573498800@caritas.barcelona
SUMMARY:Acto Inaugural del Curso 2019-2020 Informe FOESSA sobre pobreza y desarrollo social en Barcelona
DESCRIPTION:¡Comienza una nueva edición del Ciclo de Reflexiones en torno al voluntariado! \nEl acto inaugural del curso 2019-2020 correrá a cargo de Míriam Feu\, responsable del programa de análisis social e incidencia de Càritas Diocesana de Barcelona. Este inicio de la novena edición del Ciclo tendrá lugar el lunes 14 de octubre\, a las 17.00h en la sala de actos del Seminario Conciliar de Barcelona. Este acto se realizará en catalán. Esta sesión es prioritariamente para voluntarios de Cáritas (aunque la entrada es libre\, es necesario inscribirse). Para voluntarios de otras entidades\, esperad confirmación. \n¡Apúntate a través del siguiente formulario a esta sesión! ¡Te esperamos! \nPuedes informarte de todas las conferencias del Ciclo de Reflexiones del curso 2019 – 2020 clicando AQUÍ.
URL:https://caritas.barcelona/es/agenda-caritas/pobres-con-los-pobres-tejiendo-puentes-de-encuentro-de-reciprocidad-y-de-aprendizaje-2/
LOCATION:Seminari Conciliar de Barcelona\, Diputació\, 231\, Barcelona\, Barcelona\, 08007\, Espanya
ORGANIZER;CN="C%C3%A0ritas Barcelona":MAILTO:caritas@caritas.barcelona
GEO:41.3882329;2.1629603
X-APPLE-STRUCTURED-LOCATION;VALUE=URI;X-ADDRESS=Seminari Conciliar de Barcelona Diputació 231 Barcelona Barcelona 08007 Espanya;X-APPLE-RADIUS=500;X-TITLE=Diputació\, 231:geo:2.1629603,41.3882329
END:VEVENT
BEGIN:VEVENT
DTSTART;TZID=Europe/Madrid:20191117T110000
DTEND;TZID=Europe/Madrid:20191117T190000
DTSTAMP:20260422T221428
CREATED:20191016T145355Z
LAST-MODIFIED:20191104T083131Z
UID:10001454-1573988400-1574017200@caritas.barcelona
SUMMARY:Encuentro BCN Ciudad Diversa
DESCRIPTION:El Encuentro BCN Ciudad Diversa es una fiesta participativa y reivindicativa organizada para construir una ciudad plural y cohesionada. Como cada año\, Cáritas Diocesana de Barcelona participará para explicar la labor que llevamos a cabo con las personas recién llegadas. \n  \n \n  \nEste año tendrá lugar el domingo 17 de noviembre de 2019\, en el paseo de Lluís Companys (Arc de Triomf) bajo la temática Personas migradas y envejecimiento. \nA las 11:50h\, Cáritas Diocesana de Barcelona participará en la mesa redonda «Migración y envejecimiento: ¿cuál es la realidad? Como lograr un envejecimiento activo\, con derechos y bienestar para las personas migradas? » \nEl encuentro se lleva a cabo desde hace años\, con mucha participación de entidades y ciudadanía\, ha ido evolucionando y creciendo\, y se ha convertido ya en una cita de referencia en el calendario de la ciudad en otoño. Quiere mostrar la diversidad e interculturalidad ciudadana\, haciendo visible el enriquecimiento que supone la inmigración y sus entidades. Pretende al mismo tiempo sensibilizar y profundizar en la temática específica elegida anualmente por el CMIB. \nPersonas migradas y envejecimiento\nEn 2019 participan en la preparación del encuentro más de 50 entidades y más de 400 personas colaboradoras\, y se organizan más de 70 actividades lúdicas y reivindicativas en diversos espacios: \n\nTalleres y juegos familiares y el espacio infantil de la Ludoteca\nDiversas actividades alrededor de las carpas\nDesfiles\nEl escenario\, con espectáculos musicales\, danza\, teatro\nEl auditorio con mesas redondas\, charlas\, coloquios\, cine…\nLa Biblioteca Viviente\nPunto de Información\nEspacio de exposición con montajes fotográficos\nY lectura del Manifiesto\n\n¡Os esperamos!
URL:https://caritas.barcelona/es/agenda-caritas/encuentro-bcn-ciudad-diversa/
LOCATION:Passeig de Lluís Companys\, Passeig de Lluís Companys\, Barcelona\, Barcelona\, 08003\, Espanya
ATTACH;FMTTYPE=image/jpeg:https://caritas.barcelona/wp-content/uploads/2019/10/17.jpg
GEO:41.3899675;2.1813332
X-APPLE-STRUCTURED-LOCATION;VALUE=URI;X-ADDRESS=Passeig de Lluís Companys Passeig de Lluís Companys Barcelona Barcelona 08003 Espanya;X-APPLE-RADIUS=500;X-TITLE=Passeig de Lluís Companys:geo:2.1813332,41.3899675
END:VEVENT
BEGIN:VEVENT
DTSTART;TZID=Europe/Madrid:20191117T170000
DTEND;TZID=Europe/Madrid:20191117T200000
DTSTAMP:20260422T221428
CREATED:20191111T140231Z
LAST-MODIFIED:20191111T140313Z
UID:10001314-1574010000-1574020800@caritas.barcelona
SUMMARY:Concierto por la Esperanza: III Jornada Mundial de los Pobres
DESCRIPTION:Bajo el lema “la Esperanza de los pobres nunca se frustrará” la Iglesia Diocesana de Barcelona organiza una jornada con el siguiente programa: \n17h. Concentración en la Plaza de Catalunya\n17:15h. Marcha hasta la iglesia de Belén\n18h. Concierto por la esperanza a cargo del grupo Worship\n19h. Merienda Compartida \n¡Te esperamos!
URL:https://caritas.barcelona/es/agenda-caritas/concierto-por-la-esperanza-iii-jornada-mundial-de-los-pobres/
LOCATION:Plaça Catalunya\, Plaça de Catalunya\, Barcelona\, 08002\, Espanya
ATTACH;FMTTYPE=image/jpeg:https://caritas.barcelona/wp-content/uploads/2019/11/Banner-jornada-1170x400.jpg
GEO:41.3870154;2.1700471
X-APPLE-STRUCTURED-LOCATION;VALUE=URI;X-ADDRESS=Plaça Catalunya Plaça de Catalunya Barcelona 08002 Espanya;X-APPLE-RADIUS=500;X-TITLE=Plaça de Catalunya:geo:2.1700471,41.3870154
END:VEVENT
BEGIN:VEVENT
DTSTART;TZID=Europe/Madrid:20191118T170000
DTEND;TZID=Europe/Madrid:20191118T200000
DTSTAMP:20260422T221428
CREATED:20170616T083422Z
LAST-MODIFIED:20191113T131203Z
UID:10001242-1574096400-1574107200@caritas.barcelona
SUMMARY:Curso Básico de Voluntariado Social (18 y 25 de noviembre\, 2 de diciembre)
DESCRIPTION:Curso Básico de Voluntariado Social de 12 horas de duración dirigido a personas a partir de 16 años que tengan interés por acercarse a la acción voluntaria o iniciar un proceso de formación en el ámbito del voluntariado social. \nLos objetivos del curso son: \n\nConocer y comprender qué implica la acción voluntaria.\nComprender y aplicar los elementos esenciales del trabajo en equipo.\nConocer y comprender los principales valores que fundamentan la acción social.\nIniciarse en la capacidad de análisis crítico de la realidad social actual.\nComprender los principales factores que intervienen en la relación de ayuda\nConocer los principales ámbitos de intervención del voluntariado social.\n\nEl curso consta de 3 sesiones de 4 horas cada una los días: \n\nlunes 18 de noviembre de 9:30h a 13:30h\nlunes 25 de noviembre de 9:30h a 13:30h\nlunes 2 de diciembre de 9:30h a 13:30h\n\nCoste de la inscripción: donativo de 10€ (las personas que no puedan asumir este coste pueden solicitar la exención del pago). \nMás información. AQUÍ \nLas plazas son limitadas y es necesario inscripción previa en el siguiente formulario. Se debe recibir correo de confirmación.
URL:https://caritas.barcelona/es/agenda-caritas/curso-de-iniciacion-al-voluntariado-14-19-21-y-26-de-noviembre-3-2-2-3/
LOCATION:Barcelona 1 – Distritos de Ciutat Vella\, Eixample y barrio del Poble-sec\, Plaça Nova\, 1\, Barcelona\, Barcelona\, 08002\, Espanya
ATTACH;FMTTYPE=image/jpeg:https://caritas.barcelona/wp-content/uploads/2017/06/20170214_174105.jpg
ORGANIZER;CN="C%C3%A0ritas Barcelona":MAILTO:caritas@caritas.barcelona
GEO:41.3840277;2.1751608
X-APPLE-STRUCTURED-LOCATION;VALUE=URI;X-ADDRESS=Barcelona 1 – Distritos de Ciutat Vella Eixample y barrio del Poble-sec Plaça Nova 1 Barcelona Barcelona 08002 Espanya;X-APPLE-RADIUS=500;X-TITLE=Plaça Nova\, 1:geo:2.1751608,41.3840277
END:VEVENT
BEGIN:VEVENT
DTSTART;TZID=Europe/Madrid:20191120T090000
DTEND;TZID=Europe/Madrid:20191120T140000
DTSTAMP:20260422T221428
CREATED:20191022T112356Z
LAST-MODIFIED:20191106T085120Z
UID:10001461-1574240400-1574258400@caritas.barcelona
SUMMARY:Presentación del informe 'Mujeres sin hogar en la ciudad de Barcelona'
DESCRIPTION:Enmarcado en la jornada ‘El sinhogarismo en femenino en Barcelona’\, un grupo de investigadores de la UB presentarán -en la residencia Betania de las Hijas de la Caridad- un informe relacionado con cómo afectan las situaciones de exclusión residencial a las mujeres \nLos datos de los estudios nacionales e internacionales del sinhogarismo nos indican que dentro de la categoría sin techo nos encontramos ante una problemática mayoritariamente masculina. Las experiencias de las mujeres en la intemperie (a pesar de ser menores en comparación a los homólogos masculinos) suponen un mayor riesgo por su situación y trayectoria. Las mujeres se encuentran más representadas en otras formas de exclusión residencial que permanecen ocultas como las situaciones de sin hogar y vivienda precaria. \nSin embargo\, disponemos de una producción limitada de investigaciones que incorporan la perspectiva de género en los estudios del sinhogarismo. \nUn grupo de investigadores de la Universidad de Barcelona vinculados a los Grupos de Investigación e Innovación en Trabajo Social (GRIT) y el Grupo de Investigación social aplicada (GRIS) con la participación de seis entidades de la Red de atención a personas sin hogar de Barcelona han elaborado el informe Mujeres sin hogar en la ciudad de Barcelona que se presentará en la jornada El sinhogarismo en femenino en Barcelona. \nEl evento tendrá lugar\, el 20 de noviembre\, en la Sala de actos de la Residencia Betania de las Hijas de la Caridad (Av. De Vallvidrera\, 34. Barcelona). \nEste será el programa del acto: \n\n9.00h Acreditaciones.\n9.30h Bienvenida a cargo de Violeta Quiroga\, miembro del Grupo de Investigación e Innovación en Trabajo Social (GRIT) de la Universidad de Barcelona y Clara Naya\, representando el grupo de entidades que han apoyado la elaboración del informe.\n9.40h Ponencia sobre sinhogarismo en clave de género a cargo de Cristina Sánchez-Miret\, socióloga\, profesora en la Universidad de Girona.\n10.15h Presentación del informe “Mujeres sin hogar en la ciudad de Barcelona”\, a cargo del equipo de investigación.\n11.10h Pausa café.\n11.40h Mesa redonda experiencial con algunas de las mujeres participantes en el informe. Modera: Laia Altarriba\, periodista.\n12.40h Ponencia sobre sinhogarismo a cargo de Pedro Cabrera\, sociólogo\, profesor en la Universidad Pontificia de Comillas.\n13.35h Presentación de propuestas\, a cargo de Carolina Pallàs\, representando el grupo de entidades que han apoyado la elaboración del informe.\n13.50h Clausura\n\n¡PLAZAS AGOTADAS!
URL:https://caritas.barcelona/es/agenda-caritas/presentacion-del-informe-mujeres-sin-hogar-en-la-ciudad-de-barcelona/
LOCATION:Residència Betània de les Filles de la Caritat\, Av. de Vallvidrera\, 34\, Barcelona\, Barcelona\, 08017\, Espanya
ATTACH;FMTTYPE=image/jpeg:https://caritas.barcelona/wp-content/uploads/2019/10/dones-sense-llar-ub.jpg
GEO:41.4070721;2.1143436
X-APPLE-STRUCTURED-LOCATION;VALUE=URI;X-ADDRESS=Residència Betània de les Filles de la Caritat Av. de Vallvidrera 34 Barcelona Barcelona 08017 Espanya;X-APPLE-RADIUS=500;X-TITLE=Av. de Vallvidrera\, 34:geo:2.1143436,41.4070721
END:VEVENT
BEGIN:VEVENT
DTSTART;TZID=Europe/Madrid:20191120T180000
DTEND;TZID=Europe/Madrid:20191120T200000
DTSTAMP:20260422T221428
CREATED:20191115T142734Z
LAST-MODIFIED:20191115T143501Z
UID:10001315-1574272800-1574280000@caritas.barcelona
SUMMARY:Presentación académica del Informe FOESSA - Catalunya
DESCRIPTION:Acto académico sobre el informe territorializado en Cataluña elaborado por la Fundación FOESSA. \nLa presentación irá a cargo de Francesc Roig\, presidente de Càritas Catalunya\, Francina Alsina\, presidenta de la Tabla del Tercer Sector\, Raúl Flores\, secretario técnico de la Fundación Foessa y jefe del equipo de estudios de Cáritas Española y representantes de la Comisión de Acción Social de Caritas Cataluña\, además de Joan B. Casas\, Decano del Col-legi de Economistas de Cataluña. \nDurante el acto se mostrará una radiografía de la situación social que vivimos en Cataluña y se presentarán datos sobre el aumento de la pobreza severa\, su cronificación\, la polarización y el aumento de las desigualdades. \nAforo limitado \nSe ruega confirmación al teléfono 633 745 777 o al correo electrónico info@caritascatalunya.cat \n¡Te esperamos!
URL:https://caritas.barcelona/es/agenda-caritas/presentacio-academica-de-linforme-foessa-catalunya/
LOCATION:Col·legi d’economistes de Catalunya\, Pl. Gal·la Placídia\, 32.\, Barcelona\, Barcelona\, 08006\, Espanya
ATTACH;FMTTYPE=image/png:https://caritas.barcelona/wp-content/uploads/2019/11/Captura.png
GEO:41.3999222;2.1523574
X-APPLE-STRUCTURED-LOCATION;VALUE=URI;X-ADDRESS=Col·legi d’economistes de Catalunya Pl. Gal·la Placídia 32. Barcelona Barcelona 08006 Espanya;X-APPLE-RADIUS=500;X-TITLE=Pl. Gal·la Placídia\, 32.:geo:2.1523574,41.3999222
END:VEVENT
BEGIN:VEVENT
DTSTART;TZID=Europe/Madrid:20191126T120000
DTEND;TZID=Europe/Madrid:20191126T133000
DTSTAMP:20260422T221428
CREATED:20191125T084104Z
LAST-MODIFIED:20191125T101335Z
UID:10001319-1574769600-1574775000@caritas.barcelona
SUMMARY:Presentación del informe ‘Sinhogarismo a Barcelona. Evolució i joves en situació de sinhogarismo’
DESCRIPTION:La Xarxa d’Atenció a Persones Sense Llar\, de la que Cáritas Barcelona forma parte\, elabora cada dos años el informe ‘Sinhogarismo en Barcelona. Evolución y jóvenes en situación de sinhogarismo’\, un diagnosis exhaustivo sobre la situación que sufren muchos jóvenes en la ciudad de Barcelona. \nEsta presentación tendrá lugar el día 26 de noviembre de 2019 de 12 h a 13:15 h al Palau Macaya (Paseo de San Juan\, 108\, de Barcelona) e irá a cargo de Sonia Fuertes\, comisionada de Acción Social del Ayuntamiento de Barcelona; Fina Contreras\, portavoz de la Comisión Permanente de la XAPSLL; Bea Fernàndez\, portavoz de la Comisión de Diagnosis y Recuento de la XAPSLL y el Equipo de investigación que ha elaborado el informe. \n¡Te esperamos!
URL:https://caritas.barcelona/es/agenda-caritas/presentacion-del-informe-sinhogarismo-a-barcelona-evolucio-i-joves-en-situacio-de-sinhogarismo/
LOCATION:Palau Macaya\, Passeig de Sant Joan\, 108\, Barcelona\, Barcelona\, 08037\, Espanya
ATTACH;FMTTYPE=image/png:https://caritas.barcelona/wp-content/uploads/2019/11/Captura-1.png
GEO:41.3999071;2.169349
X-APPLE-STRUCTURED-LOCATION;VALUE=URI;X-ADDRESS=Palau Macaya Passeig de Sant Joan 108 Barcelona Barcelona 08037 Espanya;X-APPLE-RADIUS=500;X-TITLE=Passeig de Sant Joan\, 108:geo:2.169349,41.3999071
END:VEVENT
END:VCALENDAR