BEGIN:VCALENDAR
VERSION:2.0
PRODID:-//Caritas Barcelona - ECPv6.15.18//NONSGML v1.0//EN
CALSCALE:GREGORIAN
METHOD:PUBLISH
X-ORIGINAL-URL:https://caritas.barcelona/es/
X-WR-CALDESC:Eventos para Caritas Barcelona
REFRESH-INTERVAL;VALUE=DURATION:PT1H
X-Robots-Tag:noindex
X-PUBLISHED-TTL:PT1H
BEGIN:VTIMEZONE
TZID:Europe/Madrid
BEGIN:DAYLIGHT
TZOFFSETFROM:+0100
TZOFFSETTO:+0200
TZNAME:CEST
DTSTART:20180325T010000
END:DAYLIGHT
BEGIN:STANDARD
TZOFFSETFROM:+0200
TZOFFSETTO:+0100
TZNAME:CET
DTSTART:20181028T010000
END:STANDARD
BEGIN:DAYLIGHT
TZOFFSETFROM:+0100
TZOFFSETTO:+0200
TZNAME:CEST
DTSTART:20190331T010000
END:DAYLIGHT
BEGIN:STANDARD
TZOFFSETFROM:+0200
TZOFFSETTO:+0100
TZNAME:CET
DTSTART:20191027T010000
END:STANDARD
BEGIN:DAYLIGHT
TZOFFSETFROM:+0100
TZOFFSETTO:+0200
TZNAME:CEST
DTSTART:20200329T010000
END:DAYLIGHT
BEGIN:STANDARD
TZOFFSETFROM:+0200
TZOFFSETTO:+0100
TZNAME:CET
DTSTART:20201025T010000
END:STANDARD
END:VTIMEZONE
BEGIN:VEVENT
DTSTART;TZID=Europe/Madrid:20190601T210000
DTEND;TZID=Europe/Madrid:20190601T223000
DTSTAMP:20260423T044421
CREATED:20190514T141231Z
LAST-MODIFIED:20190514T141231Z
UID:10001285-1559422800-1559428200@caritas.barcelona
SUMMARY:Concierto coral de primavera a favor de Cáritas Mataró
DESCRIPTION:El coro Madrigalista y la Coral la Perla de La Habana harán un concierto solidario en la iglesia de Sant Josep de Mataró \nEl próximo 1 de junio a las 21h tendrá lugar\, en la Iglesia de Sant Josep de Mataró\, el concierto coral de primavera a favor de Cáritas Mataró. El coro Madrigalista y la Coral la Perla de La Habana interpretarán diferentes piezas bajo la dirección de Ragnhild Hjelmborg. La entrada será libre con aportación voluntaria.
URL:https://caritas.barcelona/es/agenda-caritas/concierto-coral-de-primavera-a-favor-de-caritas-mataro/
LOCATION:Barcelona
ATTACH;FMTTYPE=image/png:https://caritas.barcelona/wp-content/uploads/2017/12/20101210_Concert_Nadal_Gospel_Santa_M_M-3.png
END:VEVENT
BEGIN:VEVENT
DTSTART;TZID=Europe/Madrid:20190603T180000
DTEND;TZID=Europe/Madrid:20190603T193000
DTSTAMP:20260423T044421
CREATED:20170616T083422Z
LAST-MODIFIED:20190517T092528Z
UID:10001190-1559584800-1559590200@caritas.barcelona
SUMMARY:Sesión informativa sobre voluntariado (3 de junio)
DESCRIPTION:Este es el primer paso para ser voluntario o voluntaria de Cáritas. Desde el programa de Voluntariado\, organizamos sesiones informativas periódicas\, para todas aquellas personas que deseen ser voluntarias en nuestra institución. \nSi quieres ser voluntario o recibir más información sobre el voluntariado en Cáritas\, inscríbete en el siguiente formulario.
URL:https://caritas.barcelona/es/agenda-caritas/sesion-informativa-sobre-voluntariado-2/
LOCATION:Seminari Conciliar de Barcelona\, Diputació\, 231\, Barcelona\, Barcelona\, 08007\, Espanya
ORGANIZER;CN="C%C3%A0ritas Barcelona":MAILTO:caritas@caritas.barcelona
GEO:41.3882329;2.1629603
X-APPLE-STRUCTURED-LOCATION;VALUE=URI;X-ADDRESS=Seminari Conciliar de Barcelona Diputació 231 Barcelona Barcelona 08007 Espanya;X-APPLE-RADIUS=500;X-TITLE=Diputació\, 231:geo:2.1629603,41.3882329
END:VEVENT
BEGIN:VEVENT
DTSTART;TZID=Europe/Madrid:20190611T183000
DTEND;TZID=Europe/Madrid:20190611T200000
DTSTAMP:20260423T044421
CREATED:20190416T093001Z
LAST-MODIFIED:20190531T080610Z
UID:10001442-1560277800-1560283200@caritas.barcelona
SUMMARY:Día del Refugiado: Proyección del documental “Faraway land”
DESCRIPTION:Cáritas con las personas refugiadas \nEl 20 de junio se celebra el Día del Refugiado. Coincidiendo con esta fecha te invitamos\, el próximo 11 de junio a las 18.30h en el CCCB (C / Montalegre\, 5)\, a conocer las dificultades que pasan muchas personas migradas que huyen de sus países de origen por temor a persecuciones. Y lo haremos con la proyección del documental Faraway Land de Daniel Azpe y Josep M. Inglés. \nPosteriormente\, habrá una mesa redonda que llevará por título “Hacer visible lo invisible” y que contará con la participación de dos testigos del documental que hablarán de sus experiencias como voluntaria y persona refugiada. Las plazas son limitadas así que hay que inscribirse previamente haciendo clic en “Inscríbete aquí” y añadiendo tus datos. \n¡Te esperamos!
URL:https://caritas.barcelona/es/agenda-caritas/dia-del-refugiado-proyeccion-del-documental-faraway-land/
LOCATION:CCCB Centre de Cultura Contemporània de Barcelona\, Carrer de Montalegre\, 5\, Barcelona\, Barcelona\, 08001\, Espanya
ATTACH;FMTTYPE=image/jpeg:https://caritas.barcelona/wp-content/uploads/2017/06/refugiats.jpg
ORGANIZER;CN="C%C3%A0ritas Barcelona":MAILTO:caritas@caritas.barcelona
GEO:41.383885;2.166781
X-APPLE-STRUCTURED-LOCATION;VALUE=URI;X-ADDRESS=CCCB Centre de Cultura Contemporània de Barcelona Carrer de Montalegre 5 Barcelona Barcelona 08001 Espanya;X-APPLE-RADIUS=500;X-TITLE=Carrer de Montalegre\, 5:geo:2.166781,41.383885
END:VEVENT
BEGIN:VEVENT
DTSTART;TZID=Europe/Madrid:20190614T093000
DTEND;TZID=Europe/Madrid:20190614T133000
DTSTAMP:20260423T044421
CREATED:20190603T132428Z
LAST-MODIFIED:20190603T132428Z
UID:10001289-1560504600-1560519000@caritas.barcelona
SUMMARY:I Jornada para detener el maltrato a personas mayores
DESCRIPTION:Nos complace invitarte a participar en la I Jornada de las entidades adheridas al Manifiesto para detener el maltrato a las personas mayores\, enmarcada en el Día Mundial de la Toma de Conciencia y el Abuso hacia las Personas Mayores\, que tendrá lugar el viernes 14 de junio en el Palau Macaya de Barcelona. \nEste es el programa provisional del acto. Contaremos con las ponencias del Sr. Francesc Torralba\, reconocido filósofo\, teólogo\, pedagogo y escritor\, y Director de la Cátedra de Ética Ethos de la URL\, que nos hablará del buen trato a las personas mayores\, y del Sr. Jordi Muñoz\, abogado\, miembro de la Comisión de las Personas Mayores del ICAB y presidente de EIMA\, especialista en la situación del maltrato a las personas mayores en Cataluña. \n¡Ya puedes realizar tu INSCRIPCIÓN!
URL:https://caritas.barcelona/es/agenda-caritas/i-jornada-para-detener-el-maltrato-a-personas-mayores/
LOCATION:Barcelona
ATTACH;FMTTYPE=image/png:https://caritas.barcelona/wp-content/uploads/2017/11/festa_gent_gran_Càritas_Sagrada_Familia.png
END:VEVENT
BEGIN:VEVENT
DTSTART;TZID=Europe/Madrid:20190614T190000
DTEND;TZID=Europe/Madrid:20190614T210000
DTSTAMP:20260423T044421
CREATED:20190611T101727Z
LAST-MODIFIED:20190611T101727Z
UID:10001292-1560538800-1560546000@caritas.barcelona
SUMMARY:Festival de dansa del casal de joves de la Barceloneta
DESCRIPTION:Llega final de curso y\, para despedir el año escolar y poner en práctica todos los aprendizajes adquiridos\, los jóvenes del casal de la Barceloneta han organizado el Fire Festival\, un festival de danza con numerosas actuaciones donde se han implicado activamente todos los y las jóvenes de la casa. \nEste festival de fin de curso tendrá lugar este viernes\, 14 de junio\, a las 19h\, en el Centro Cívico de la Barceloneta (Calle del Baluarte\, 28). Este es el programa del festival: \nDancehall (Grupo de Irene Galvan)\nDancehall (Jóvenes del Casal)\nBolywood (Carolina Rubio)\nKPOP (Midnight)\nDansa Oriental (Zaphiros)\nFunky (The Stage)\nDansa Oriental (Neus Aguiló)\ncogemos fuerzas y…..\nDansa Tahitiana (Vanesa)\nHip Hop (Mr. Michal)\nHip Hop (Vanesa)\nOriental (Julián Leyva)\nAfrozumba (Vanesa)\nPercussió (Grup de Xamfrà)\nDansa Oriental (Neus y Riad)\nBalls Llatins (Meylin y Ronaldo) \nSi quieres venir\, puedes reservar entradas anticipadas a través del correo festivaldejovesbarceloneta@gmail.com. El precio de la entrada es de 3 €\, una cantidad simbólica. La intención es que los jóvenes puedan recoger una cantidad de dinero para decidir posteriormente en una asamblea a qué los quieren destinar (actividad en las colonias\,…). El aforo es limitado así que te pedimos que te inscribas lo antes posible. \n¡Ven al Fire Festival y deja que el fuego te invada! ¡Te esperamos!
URL:https://caritas.barcelona/es/agenda-caritas/festival-de-dansa-del-casal-de-joves-de-la-barceloneta/
LOCATION:Barcelona
ATTACH;FMTTYPE=image/jpeg:https://caritas.barcelona/wp-content/uploads/2018/07/foto-concert.jpg
ORGANIZER;CN="C%C3%A0ritas Barcelona":MAILTO:caritas@caritas.barcelona
END:VEVENT
BEGIN:VEVENT
DTSTART;TZID=Europe/Madrid:20190620T170000
DTEND;TZID=Europe/Madrid:20190620T190000
DTSTAMP:20260423T044421
CREATED:20180605T065937Z
LAST-MODIFIED:20181029T121637Z
UID:10001383-1561050000-1561057200@caritas.barcelona
SUMMARY:Acto de clausura del curso escolar de la Escuela de Formación del Voluntariado
DESCRIPTION:Se acerca el verano y nos preparamos para disfrutar de un tiempo de descanso. \nAlgunos de nuestros proyectos hacen una pausa durante el verano\, pero la mayoría de los servicios que hacemos continúan y todos juntos\, voluntarios y asalariados\, continuaremos acompañando a las personas que confían en nosotros. Sin embargo\, nos complace poder invitarte al acto de clausura del curso escolar\, que será el próximo jueves 20 de junio a las 17.00h en el Seminario Conciliar de Barcelona\, para agradecernos mutuamente la tarea hecha\, poder conocer los datos de la Memoria 2018\, presentada por Míriam Feu\, responsable del departamento de Análisis Social e Incidencia y desearnos personalmente un buen verano. A continuación\, habrá un piscolabis en el claustro. \nEsta sesión es prioritariamente para voluntarios de Cáritas (aunque la entrada es libre\, es necesario inscribirse). Para voluntarios de otras entidades\, esperad confirmación. \nApúntate a través del siguiente formulario a esta sesión! Te esperamos! \nPuedes informarte de todas las conferencias del Ciclo de Reflexiones del curso 2018 – 2019 clicando AQUÍ.
URL:https://caritas.barcelona/es/agenda-caritas/acto-de-clausura-del-curso-escolar-de-la-escuela-de-formacion-del-voluntariado-2/
LOCATION:Seminari Conciliar de Barcelona\, Diputació\, 231\, Barcelona\, Barcelona\, 08007\, Espanya
GEO:41.3882329;2.1629603
X-APPLE-STRUCTURED-LOCATION;VALUE=URI;X-ADDRESS=Seminari Conciliar de Barcelona Diputació 231 Barcelona Barcelona 08007 Espanya;X-APPLE-RADIUS=500;X-TITLE=Diputació\, 231:geo:2.1629603,41.3882329
END:VEVENT
BEGIN:VEVENT
DTSTART;TZID=Europe/Madrid:20190625T093000
DTEND;TZID=Europe/Madrid:20190625T133000
DTSTAMP:20260423T044421
CREATED:20170616T083422Z
LAST-MODIFIED:20190517T084234Z
UID:10001234-1561455000-1561469400@caritas.barcelona
SUMMARY:Curso Básico de Voluntariado Social (25\, 26 y 27 de junio)
DESCRIPTION:Curso Básico de Voluntariado Social de 12 horas de duración dirigido a personas a partir de 16 años que tengan interés por acercarse a la acción voluntaria o iniciar un proceso de formación en el ámbito del voluntariado social. \nEsta edición está dirigida prioritariamente a jóvenes entre 16 y 18 años. \nLos objetivos del curso son: \n\nConocer y comprender qué implica la acción voluntaria.\nComprender y aplicar los elementos esenciales del trabajo en equipo.\nConocer y comprender los principales valores que fundamentan la acción social.\nIniciarse en la capacidad de análisis crítico de la realidad social actual.\nComprender los principales factores que intervienen en la relación de ayuda\nConocer los principales ámbitos de intervención del voluntariado social.\n\nEl curso consta de 3 sesiones de 4 horas cada una los días: \n\nmartes 25 de junio de 9.30h a 13.30h\nmiércoles 26 de junio de 9.30h a 13.30h\njueves 27 de junio de 9.30h a 13.30h\n\nCoste de la inscripción: donativo de 10€ (las personas que no puedan asumir este coste pueden solicitar beca). \nLas plazas son limitadas y es necesario inscripción previa en el siguiente formulario. Se debe recibir correo de confirmación.
URL:https://caritas.barcelona/es/agenda-caritas/curso-de-iniciacion-al-voluntariado-14-19-21-y-26-de-noviembre-3/
LOCATION:Barcelona 1 – Distritos de Ciutat Vella\, Eixample y barrio del Poble-sec\, Plaça Nova\, 1\, Barcelona\, Barcelona\, 08002\, Espanya
ORGANIZER;CN="C%C3%A0ritas Barcelona":MAILTO:caritas@caritas.barcelona
GEO:41.3840277;2.1751608
X-APPLE-STRUCTURED-LOCATION;VALUE=URI;X-ADDRESS=Barcelona 1 – Distritos de Ciutat Vella Eixample y barrio del Poble-sec Plaça Nova 1 Barcelona Barcelona 08002 Espanya;X-APPLE-RADIUS=500;X-TITLE=Plaça Nova\, 1:geo:2.1751608,41.3840277
END:VEVENT
BEGIN:VEVENT
DTSTART;TZID=Europe/Madrid:20190625T093000
DTEND;TZID=Europe/Madrid:20190626T170000
DTSTAMP:20260423T044421
CREATED:20170616T083422Z
LAST-MODIFIED:20190517T083405Z
UID:10001233-1561455000-1561568400@caritas.barcelona
SUMMARY:Curso Básico de Voluntariado Social (25 y 26 de junio)
DESCRIPTION:Curso Básico de Voluntariado Social de 12 horas de duración dirigido a personas a partir de 16 años que tengan interés por acercarse a la acción voluntaria o iniciar un proceso de formación en el ámbito del voluntariado social. \nEsta edición está dirigida prioritariamente a jóvenes entre 16 y 18 años. \nLos objetivos del curso son: \n\nConocer y comprender qué implica la acción voluntaria.\nComprender y aplicar los elementos esenciales del trabajo en equipo.\nConocer y comprender los principales valores que fundamentan la acción social.\nIniciarse en la capacidad de análisis crítico de la realidad social actual.\nComprender los principales factores que intervienen en la relación de ayuda\nConocer los principales ámbitos de intervención del voluntariado social.\n\nEl curso consta de dos días seguidos en la Casa de Espiritualidad Capuchinas (Pallejà): \n\ndel martes 25 de junio a las 9.30h\nhasta el miércoles 26 de junio después de comer\n\nCoste de inscripción: 45 € (incluye formación\, estancia y comidas. Hay que llevar la comida del primer día y el bañador). \nLas plazas son limitadas y es necesario inscripción previa en el siguiente formulario. Se debe recibir correo de confirmación.
URL:https://caritas.barcelona/es/agenda-caritas/curso-de-iniciacion-al-voluntariado-14-19-21-y-26-de-noviembre-2/
LOCATION:Barcelona
END:VEVENT
BEGIN:VEVENT
DTSTART;TZID=Europe/Madrid:20190626T160000
DTEND;TZID=Europe/Madrid:20190626T170000
DTSTAMP:20260423T044421
CREATED:20190621T094854Z
LAST-MODIFIED:20190621T094854Z
UID:10001444-1561564800-1561568400@caritas.barcelona
SUMMARY:La Agenda urbana de Cataluña avanza
DESCRIPTION:Durante las últimas décadas\, el mundo ha desarrollado una fuerte concentración de la población en las zonas urbanas y según estudios de Naciones Unidas se prevé que esta concentración vaya en aumento. \nEn el caso de Cataluña\, casi el 80% de la población vive en municipios de más de 10.000 habitantes y la influencia de las áreas urbanas se extiende más allá de los límites físicos de nuestras ciudades para abarcar todo el territorio. La Agenda urbana de Cataluña es el marco estratégico de referencia para las políticas públicas de la Cataluña urbana en las próximas décadas y debe dar respuestas a los retos y oportunidades desde un enfoque multinivel\, pluridisciplinar y con una visión integrada y holística. \nElaborar la Agenda requiere tanto de los conocimientos técnicos de especialistas e investigadores como de las aportaciones de la ciudadanía\, y del conjunto de la sociedad civil\, así como la complicidad de las administraciones en todo el territorio. Uno de los ponentes de esta Agenda urbana es Eduard Sala\, jefe de acción social de Cáritas Barcelona. El 26 de junio a las 16h\, en la Sala Brigadas Internacionales de UGT de Cataluña\, Eduard Sala dará una charla en la sesión de trabajo de cohesión social\, más concretamente en el apartado de seguridad y justicia social. \nInscríbete a estas sesiones de trabajo con Eduard Sala aquí. También se puede participar en estas jornadas vía online.
URL:https://caritas.barcelona/es/agenda-caritas/la-agenda-urbana-de-cataluna-avanza/
LOCATION:Barcelona
ATTACH;FMTTYPE=image/jpeg:https://caritas.barcelona/wp-content/uploads/2017/05/UniversidadesCabecera.jpg
END:VEVENT
BEGIN:VEVENT
DTSTART;TZID=Europe/Madrid:20190628T190000
DTEND;TZID=Europe/Madrid:20190628T203000
DTSTAMP:20260423T044421
CREATED:20190617T064551Z
LAST-MODIFIED:20190617T064551Z
UID:10001296-1561748400-1561753800@caritas.barcelona
SUMMARY:Vigilia de la fraternidad
DESCRIPTION:Desde la delegación de Pastoral Social y Caritativa del Arzobispado de Barcelona han organizado una celebración el día 28 de junio de 2019 a las 19h en la iglesia Sant Pau del Camp. Será la “Vigilia de la Fraternidad”\, en línea con el trabajo que durante todo este curso se ha hecho sobre el plan pastoral. \nHa sido un año de adaptarse a los cambios que desde el obispado se han llevado a cabo\, pero desde la delegación tienen la misma finalidad: hacer visible y acompañar la acción social de nuestras comunidades. Hay una riqueza muy grande en nuestra diócesis de muchas personas que ven a los demás y especialmente a los que más sufren como hermanos y es esta riqueza la que queremos potenciar. \nQueremos aprovechar esta vigilia para dar esperanza\, para dar gracias a las personas que trabajan acompañando a aquellos que se encuentran fuera de nuestra sociedad: personas inmigrantes\, personas sin hogar\, personas vulnerables\, personas que se encuentran en prisión\, etc… \nEn esta vigilia nos acompañarán “Brotes de Olivo”\, una familia que canta y da gracias a Dios desde una experiencia comunitaria muy arraigada en la familia. A la vez tendremos testigos que nos hablarán de esperanza y de cómo han sido acompañados por personas que les han ayudado en su camino. Y acabaremos con un momento para compartir entre todos para llevar esta esperanza allí donde estemos. \nTe agradecemos que si te animas a venir nos envíes un email a psocial@arqbcn.cat o llames al teléfono 93 317 63 97. También te pedimos\, sin ningún compromiso\, que si nos quieres ayudar\, puedas hacerlo con una aportación de 5 euros por persona.
URL:https://caritas.barcelona/es/agenda-caritas/vigilia-de-la-fraternidad/
LOCATION:Sant Pau del Camp\, Carrer de Sant Pau\, 101\, Barcelona\, Barcelona\, 08001\, Espanya
ATTACH;FMTTYPE=image/jpeg:https://caritas.barcelona/wp-content/uploads/2017/06/vetlla-pregaria.jpg
ORGANIZER;CN="Arquebisbat de Barcelona":MAILTO:secgral@arqbcn.cat
GEO:41.3759322;2.1691632
X-APPLE-STRUCTURED-LOCATION;VALUE=URI;X-ADDRESS=Sant Pau del Camp Carrer de Sant Pau 101 Barcelona Barcelona 08001 Espanya;X-APPLE-RADIUS=500;X-TITLE=Carrer de Sant Pau\, 101:geo:2.1691632,41.3759322
END:VEVENT
END:VCALENDAR