BEGIN:VCALENDAR
VERSION:2.0
PRODID:-//Caritas Barcelona - ECPv6.15.18//NONSGML v1.0//EN
CALSCALE:GREGORIAN
METHOD:PUBLISH
X-WR-CALNAME:Caritas Barcelona
X-ORIGINAL-URL:https://caritas.barcelona/es/
X-WR-CALDESC:Eventos para Caritas Barcelona
REFRESH-INTERVAL;VALUE=DURATION:PT1H
X-Robots-Tag:noindex
X-PUBLISHED-TTL:PT1H
BEGIN:VTIMEZONE
TZID:Europe/Madrid
BEGIN:DAYLIGHT
TZOFFSETFROM:+0100
TZOFFSETTO:+0200
TZNAME:CEST
DTSTART:20180325T010000
END:DAYLIGHT
BEGIN:STANDARD
TZOFFSETFROM:+0200
TZOFFSETTO:+0100
TZNAME:CET
DTSTART:20181028T010000
END:STANDARD
BEGIN:DAYLIGHT
TZOFFSETFROM:+0100
TZOFFSETTO:+0200
TZNAME:CEST
DTSTART:20190331T010000
END:DAYLIGHT
BEGIN:STANDARD
TZOFFSETFROM:+0200
TZOFFSETTO:+0100
TZNAME:CET
DTSTART:20191027T010000
END:STANDARD
BEGIN:DAYLIGHT
TZOFFSETFROM:+0100
TZOFFSETTO:+0200
TZNAME:CEST
DTSTART:20200329T010000
END:DAYLIGHT
BEGIN:STANDARD
TZOFFSETFROM:+0200
TZOFFSETTO:+0100
TZNAME:CET
DTSTART:20201025T010000
END:STANDARD
END:VTIMEZONE
BEGIN:VEVENT
DTSTART;TZID=Europe/Madrid:20190502T183000
DTEND;TZID=Europe/Madrid:20190502T200000
DTSTAMP:20260423T060552
CREATED:20170825T073222Z
LAST-MODIFIED:20190425T135834Z
UID:10001308-1556821800-1556827200@caritas.barcelona
SUMMARY:8º Ciclo de Reflexiones entorno al voluntariado - Buscar y encontrar trabajo en el contexto socioeconómico actual
DESCRIPTION:Buscar y encontrar trabajo en el contexto socioeconómico actual \nDentro del 8º Ciclo de Reflexiones entorno al voluntariado\, Gregori Cascante\, director general Daleph y consejero delegado de Ingeus hará la ponencia “Buscar y encontrar trabajo en el contexto socioeconómico actual”. Esta charla\, que será en catalán\, tendrá lugar el 2 de mayo a las 18.30h en la sala Sant Jordi del Seminario Conciliar de Barcelona. \nEsta sesión es prioritariamente para voluntarios de Cáritas (aunque la entrada es libre\, es necesario inscribirse). Para voluntarios de otras entidades\, esperad confirmación. \nApúntate a través del siguiente formulario a esta sesión! Te esperamos! \nPuedes informarte de todas las conferencias del Ciclo de Reflexiones del curso 2018 – 2019 clicando AQUÍ.
URL:https://caritas.barcelona/es/agenda-caritas/8o-ciclo-de-reflexiones-entorno-al-voluntariado-buscar-y-encontrar-trabajo-en-el-contexto-socioeconomico-actual/
LOCATION:Seminari Conciliar de Barcelona\, Diputació\, 231\, Barcelona\, Barcelona\, 08007\, Espanya
ORGANIZER;CN="C%C3%A0ritas Barcelona":MAILTO:caritas@caritas.barcelona
GEO:41.3882329;2.1629603
X-APPLE-STRUCTURED-LOCATION;VALUE=URI;X-ADDRESS=Seminari Conciliar de Barcelona Diputació 231 Barcelona Barcelona 08007 Espanya;X-APPLE-RADIUS=500;X-TITLE=Diputació\, 231:geo:2.1629603,41.3882329
END:VEVENT
BEGIN:VEVENT
DTSTART;TZID=Europe/Madrid:20190506T180000
DTEND;TZID=Europe/Madrid:20190506T193000
DTSTAMP:20260423T060552
CREATED:20170616T083422Z
LAST-MODIFIED:20190508T080049Z
UID:10001210-1557165600-1557171000@caritas.barcelona
SUMMARY:Sesión informativa sobre voluntariado (6 de mayo)
DESCRIPTION:Este es el primer paso para ser voluntario o voluntaria de Cáritas. Desde el programa de Voluntariado\, organizamos sesiones informativas periódicas\, para todas aquellas personas que deseen ser voluntarias en nuestra institución. \nSi quieres ser voluntario o recibir más información sobre el voluntariado en Cáritas\, inscríbete en el siguiente formulario.
URL:https://caritas.barcelona/es/agenda-caritas/sesion-informativa-sobre-voluntariado-4-de-abril/
LOCATION:Barcelona 1 – Distritos de Ciutat Vella\, Eixample y barrio del Poble-sec\, Plaça Nova\, 1\, Barcelona\, Barcelona\, 08002\, Espanya
ORGANIZER;CN="C%C3%A0ritas Barcelona":MAILTO:caritas@caritas.barcelona
GEO:41.3840277;2.1751608
X-APPLE-STRUCTURED-LOCATION;VALUE=URI;X-ADDRESS=Barcelona 1 – Distritos de Ciutat Vella Eixample y barrio del Poble-sec Plaça Nova 1 Barcelona Barcelona 08002 Espanya;X-APPLE-RADIUS=500;X-TITLE=Plaça Nova\, 1:geo:2.1751608,41.3840277
END:VEVENT
BEGIN:VEVENT
DTSTART;TZID=Europe/Madrid:20190506T190000
DTEND;TZID=Europe/Madrid:20190506T203000
DTSTAMP:20260423T060552
CREATED:20180926T064002Z
LAST-MODIFIED:20190408T161137Z
UID:10001397-1557169200-1557174600@caritas.barcelona
SUMMARY:Voces por una agenda social en Barcelona
DESCRIPTION:Las elecciones municipales se acercan. ¿Cuáles son los retos sociales que los partidos políticos deben tener en cuenta? \nCon motivo de las elecciones municipales\, que tendrán lugar en mayo de 2019\, queremos escuchar la voz de diferentes plataformas y organizaciones de la ciudad de Barcelona para que nos expliquen sus propuestas y reivindicaciones para hacer una sociedad más justa y que garantice los derechos de todas las personas.
URL:https://caritas.barcelona/es/agenda-caritas/voces-por-una-agenda-social-en-barcelona/
LOCATION:Cristianisme i Justícia\, Roger de Llúria\, 13\, Barcelona\, Espanya\, 08010\, Espanya
ATTACH;FMTTYPE=image/jpeg:https://caritas.barcelona/wp-content/uploads/2017/09/dillluns-ddhh.jpg
GEO:41.3906452;2.1719173
X-APPLE-STRUCTURED-LOCATION;VALUE=URI;X-ADDRESS=Cristianisme i Justícia Roger de Llúria 13 Barcelona Espanya 08010 Espanya;X-APPLE-RADIUS=500;X-TITLE=Roger de Llúria\, 13:geo:2.1719173,41.3906452
END:VEVENT
BEGIN:VEVENT
DTSTART;TZID=Europe/Madrid:20190509T170000
DTEND;TZID=Europe/Madrid:20190509T200000
DTSTAMP:20260423T060552
CREATED:20170616T083422Z
LAST-MODIFIED:20190517T084321Z
UID:10001200-1557421200-1557432000@caritas.barcelona
SUMMARY:Curso Básico de Voluntariado Social (9\, 16\, 23 y 30 de mayo)
DESCRIPTION:Curso Básico de Voluntariado Social de 12 horas de duración dirigido a personas a partir de 16 años que tengan interés por acercarse a la acción voluntaria o iniciar un proceso de formación en el ámbito del voluntariado social. \nLos objetivos del curso son: \n\nConocer y comprender qué implica la acción voluntaria.\nComprender y aplicar los elementos esenciales del trabajo en equipo.\nConocer y comprender los principales valores que fundamentan la acción social.\nIniciarse en la capacidad de análisis crítico de la realidad social actual.\nComprender los principales factores que intervienen en la relación de ayuda\nConocer los principales ámbitos de intervención del voluntariado social.\n\nEl curso consta de 4 sesiones de 3 horas cada una los días: \n\njueves 9 de mayo de 17.00h a 20.00h\njueves 16 de mayo de 17.00h a 20.00h\njueves 23 de mayo de 17.00h a 20.00h (esta sesión se realizará en el Seminari Conciliar de Barcelona)\njueves 30 de mayo de 17.00h a 20.00h\n\nCoste de la inscripción: donativo de 10€ (las personas que no puedan asumir este coste pueden solicitar beca). \nLas plazas son limitadas y es necesario inscripción previa en el siguiente formulario. Se debe recibir correo de confirmación.
URL:https://caritas.barcelona/es/agenda-caritas/curso-de-iniciacion-al-voluntariado-14-19-21-y-26-de-noviembre/
LOCATION:Barcelona 1 – Distritos de Ciutat Vella\, Eixample y barrio del Poble-sec\, Plaça Nova\, 1\, Barcelona\, Barcelona\, 08002\, Espanya
GEO:41.3840277;2.1751608
X-APPLE-STRUCTURED-LOCATION;VALUE=URI;X-ADDRESS=Barcelona 1 – Distritos de Ciutat Vella Eixample y barrio del Poble-sec Plaça Nova 1 Barcelona Barcelona 08002 Espanya;X-APPLE-RADIUS=500;X-TITLE=Plaça Nova\, 1:geo:2.1751608,41.3840277
END:VEVENT
BEGIN:VEVENT
DTSTART;TZID=Europe/Madrid:20190518T100000
DTEND;TZID=Europe/Madrid:20190518T140000
DTSTAMP:20260423T060552
CREATED:20190410T095148Z
LAST-MODIFIED:20190516T070304Z
UID:10001438-1558173600-1558188000@caritas.barcelona
SUMMARY:3a caminata solidaria de Cáritas
DESCRIPTION:¡Este año cumplimos 75 años y queremos celebrarlo contigo! \nDisfruta\, el 18 de mayo a partir de las 10h\, de un recorrido de 5\,5km a través del Parque de la Serralada de la marina (desnivel acumulado de 843m). \nLa Feec apoya esta iniciativa solidaria a favor de Cáritas en su 75 aniversario con la colaboración de la Diputación de Barcelona y del Centre Excursionista de Catalunya. \nEl dinero de la recaudación se destinará al proyecto de inserción laboral “Feina amb cor“. Desde el inicio del proyecto en 2013\, casi 4.000 personas han conseguido encontrar trabajo. Y es que aunque no lo creas… ¡todos tenemos un ángel! \nVen y te llevarás el lote solidario: ¡una mochila\, una camiseta\, una gorra y el desayuno! \nInscríbete a la caminata en el siguiente enlace. \nDatos importantes \n– Precio de la inscripción: A partir de 8 €. Puedes hacer una donación aparte. Precio para federados y no federados. \n– Punto de encuentro e inicio: Complejo Deportivo Torribera (parking). \n– Punto de finalización: Complejo Deportivo Torribera (parking). \n– Distancia: 5\,5 kilómetros. \n– Duración aproximada: entre 2 y 2\,5 horas. \n– Desnivel positivo: 421 m. \n– Desnivel negativo: 421 m. \n– Desnivel acumulado: 843 m. \n– Altitud máxima: 260 m. \n¡Te esperamos! \n 
URL:https://caritas.barcelona/es/agenda-caritas/3a-caminada-solidaria-de-caritas/
LOCATION:Barcelona
ATTACH;FMTTYPE=image/jpeg:https://caritas.barcelona/wp-content/uploads/2019/04/caminada-solidaria.jpg
END:VEVENT
BEGIN:VEVENT
DTSTART;TZID=Europe/Madrid:20190523T183000
DTEND;TZID=Europe/Madrid:20190523T200000
DTSTAMP:20260423T060552
CREATED:20170825T080830Z
LAST-MODIFIED:20190816T103156Z
UID:10001322-1558636200-1558641600@caritas.barcelona
SUMMARY:8º Ciclo de Reflexiones en torno al voluntariado - Proyectos compartidos en Cáritas. Juntos construimos
DESCRIPTION:Mesa redonda con voluntarios participantes en Tramats de vida\, Lleure en família\, Ciudadan@s del mundo \nLos voluntarios serán los protagonistas de la última sesión del 8º Ciclo de Reflexiones entorno al voluntariado. Este encuentro será el jueves 23 de mayo a las 18.30h en la sala Sant Jordi del Seminari Conciliar de Barcelona y se ha organizado una mesa redonda que lleva por título “Proyectos compartidos en Cáritas. Juntos construimos”. \nAntes de la conferencia\, a las 17.30h\, habrá un espacio de reflexión\, meditación y silencio en la capilla. \nEsta sesión es prioritariamente para voluntarios de Cáritas (aunque la entrada es libre\, es necesario inscribirse). Para voluntarios de otras entidades\, esperad confirmación. \nApúntate a través del siguiente formulario a esta sesión! Te esperamos! \nPuedes informarte de todas las conferencias del Ciclo de Reflexiones del curso 2018 – 2019 clicando AQUÍ.
URL:https://caritas.barcelona/es/agenda-caritas/8o-ciclo-de-reflexiones-entorno-al-voluntariado-proyectos-compartidos-en-caritas-juntos-construimos/
LOCATION:Seminari Conciliar de Barcelona\, Diputació\, 231\, Barcelona\, Barcelona\, 08007\, Espanya
ORGANIZER;CN="C%C3%A0ritas Barcelona":MAILTO:caritas@caritas.barcelona
GEO:41.3882329;2.1629603
X-APPLE-STRUCTURED-LOCATION;VALUE=URI;X-ADDRESS=Seminari Conciliar de Barcelona Diputació 231 Barcelona Barcelona 08007 Espanya;X-APPLE-RADIUS=500;X-TITLE=Diputació\, 231:geo:2.1629603,41.3882329
END:VEVENT
END:VCALENDAR