BEGIN:VCALENDAR
VERSION:2.0
PRODID:-//Caritas Barcelona - ECPv6.15.18//NONSGML v1.0//EN
CALSCALE:GREGORIAN
METHOD:PUBLISH
X-ORIGINAL-URL:https://caritas.barcelona/es/
X-WR-CALDESC:Eventos para Caritas Barcelona
REFRESH-INTERVAL;VALUE=DURATION:PT1H
X-Robots-Tag:noindex
X-PUBLISHED-TTL:PT1H
BEGIN:VTIMEZONE
TZID:Europe/Madrid
BEGIN:DAYLIGHT
TZOFFSETFROM:+0100
TZOFFSETTO:+0200
TZNAME:CEST
DTSTART:20180325T010000
END:DAYLIGHT
BEGIN:STANDARD
TZOFFSETFROM:+0200
TZOFFSETTO:+0100
TZNAME:CET
DTSTART:20181028T010000
END:STANDARD
BEGIN:DAYLIGHT
TZOFFSETFROM:+0100
TZOFFSETTO:+0200
TZNAME:CEST
DTSTART:20190331T010000
END:DAYLIGHT
BEGIN:STANDARD
TZOFFSETFROM:+0200
TZOFFSETTO:+0100
TZNAME:CET
DTSTART:20191027T010000
END:STANDARD
BEGIN:DAYLIGHT
TZOFFSETFROM:+0100
TZOFFSETTO:+0200
TZNAME:CEST
DTSTART:20200329T010000
END:DAYLIGHT
BEGIN:STANDARD
TZOFFSETFROM:+0200
TZOFFSETTO:+0100
TZNAME:CET
DTSTART:20201025T010000
END:STANDARD
END:VTIMEZONE
BEGIN:VEVENT
DTSTART;TZID=Europe/Madrid:20190401T093000
DTEND;TZID=Europe/Madrid:20190401T140000
DTSTAMP:20260423T071327
CREATED:20190306T113751Z
LAST-MODIFIED:20190306T113751Z
UID:10001424-1554111000-1554127200@caritas.barcelona
SUMMARY:Jornada URL - Cáritas: Desigualdad y fractura social
DESCRIPTION:Una de las consecuencias de la crisis económica ha sido el agravamiento de las diferencias y el distanciamiento entre diversas esferas sociales. \nPara superar sus consecuencias son bienvenidas iniciativas de personas comprometidas con los valores y el beneficio colectivo y también un trabajo conjunto entre instituciones\, asociaciones y entidades con el objetivo de lograr una mayor cohesión social. Necesitamos aprovechar el potencial innato y responsabilidad que tienen las personas\, inspirando\, educando y compartiendo\, para crear un mundo mejor\, más sostenible y más humano. \nEl proceso de digitalización de la sociedad\, a través de un buen uso de las nuevas tecnologías\, nos proporciona una nueva oportunidad para replantear las actividades económicas y sociales de forma inclusiva y también una forma singular de generar y compartir el conocimiento. La digitalización incidirá transformando el mundo laboral y hará emerger una nueva economía encarrilada a lograr el bien común. \nLa jornada\, que tendrá lugar el 1 de abril a las 9.30 en La Salle-URL\, pretende analizar algunos factores de cambio claves para la mejora social\, abordando propuestas capaces de atenuar algunas de las desigualdades existentes. En un primer debate hablaremos del replanteo del modelo de ciudad\, del papel determinante de la educación y del papel que tiene la mujer como motor del equilibrio social. \nEn un segundo debate\, abordaremos el impacto positivo de la emprendeduría social\, las nuevas filosofías o pensamientos empresariales que viran hacia un capitalismo consciente\, así como los retos de futuro a tener en cuenta en ámbitos de interés inclusivos como son la innovación social\, la inclusión social\, la comunicación\, el desarrollo de proyectos y el papel relevante de la cooperación internacional\, las ONG y el trabajo voluntario. \nEste es el programa de la jornada: \n \nPara asistir al acto\, es necesario inscribirse aquí.
URL:https://caritas.barcelona/es/agenda-caritas/jornada-url-caritas-desigualdad-y-fractura-social/
LOCATION:Barcelona
ATTACH;FMTTYPE=image/jpeg:https://caritas.barcelona/wp-content/uploads/2017/05/UniversidadesCabecera.jpg
END:VEVENT
BEGIN:VEVENT
DTSTART;TZID=Europe/Madrid:20190408T190000
DTEND;TZID=Europe/Madrid:20190408T203000
DTSTAMP:20260423T071327
CREATED:20180926T063202Z
LAST-MODIFIED:20190408T161023Z
UID:10001393-1554750000-1554755400@caritas.barcelona
SUMMARY:El "lujo" de acceder a una vivienda
DESCRIPTION:Poder vivir en una vivienda en condiciones dignas y seguras se está convirtiendo en un lujo. \nEn los últimos años estamos viendo la apropiación de la ciudad por parte de la economía financiera\, lo que ha provocado la creación de una segunda burbuja inmobiliaria\, tanto para las viviendas de compra como\, especialmente\, para las viviendas de alquiler. Ante esta situación\, cabe preguntarse cuáles son las políticas públicas que necesitamos para frenar la burbuja y para garantizar este Derecho Humano. Así como cuáles son los límites y las potencialidades que\, desde los diferentes niveles políticos\, se pueden ofrecer para corregir esta situación de emergencia. \nPonentes: \nSonia Olea\, miembro del equipo de incidencia política de Cáritas Española. Experta en vivienda y criminalización de la pobreza.\nJaime Palomera\, coportavoz del Sindicato de Inquilinos. Doctor en Antropología Social\, especializado en Economía Política y Vivienda. \nModeración: \nRoger Palà\, periodista y cooperativista del diario Crític. Ha formado parte de los proyectos periodísticos el Anuario Mèdia.cat\, la revista Enderrock o la Directa.
URL:https://caritas.barcelona/es/agenda-caritas/el-lujo-de-acceder-a-una-vivienda/
LOCATION:Cristianisme i Justícia\, Roger de Llúria\, 13\, Barcelona\, Espanya\, 08010\, Espanya
ATTACH;FMTTYPE=image/jpeg:https://caritas.barcelona/wp-content/uploads/2017/09/dillluns-ddhh.jpg
GEO:41.3906452;2.1719173
X-APPLE-STRUCTURED-LOCATION;VALUE=URI;X-ADDRESS=Cristianisme i Justícia Roger de Llúria 13 Barcelona Espanya 08010 Espanya;X-APPLE-RADIUS=500;X-TITLE=Roger de Llúria\, 13:geo:2.1719173,41.3906452
END:VEVENT
BEGIN:VEVENT
DTSTART;TZID=Europe/Madrid:20190423T090000
DTEND;TZID=Europe/Madrid:20190423T200000
DTSTAMP:20260423T071327
CREATED:20190409T115333Z
LAST-MODIFIED:20190415T131037Z
UID:10001436-1556010000-1556049600@caritas.barcelona
SUMMARY:Para Sant Jordi\, celebra los 75 años de Cáritas
DESCRIPTION:Derrota el dragón y planta la rosa \nVen a celebrar Sant Jordi en el stand familiar que tendremos durante todo el día ante la sede de plaça Nova\, 1 de Barcelona (junto a la catedral). \nPodrás llevarte una rosa muy especial o hacer una de caramelo\, pintarlas\, divertirte con las diversas actividades que hemos preparado durante todo el día y hacerte una selfie para compartir en las redes la solidaridad… \nLas actividades que habrán durante todo el día son las siguientes: \n9:00h – 20:00h: Venta de rosas solidarias | Espacio infantil de dibujo | Photo-call Instagram “75 años”\n10:00h-13:00h: Taller de rosas de caramelo\n10:30h: Taller de pulseras (Proyecto “Mirem endavant” del Buen Pastor)\n12:00h: Haz tu punto de libro pintado a la acuarela\n13:00h: Espectáculo de magia\n18:00h: Actuación de gospel con “Gospel Clot” \nEl dinero que recojamos con las rosas irán directamente a nuestros proyectos de acción social. \n¡¡¡ Te esperamos con la familia !!! \n  \nTambién nos podrás encontrar en estos otros puntos: \nBARCELONA\nPlaça de la Mercè\n(En la mostra de entitats) \nBARCELONA\nPlaça Sant Joan Boscà\n(Junto al mercado de la Barceloneta) \nBADALONA\nCalle Arnús con pasaje Maignon (esquina del mercado) \nL’HOSPITALET DE LLOBREGAT\nAvenida Tomás Giménez con Floridablanca
URL:https://caritas.barcelona/es/agenda-caritas/para-sant-jordi-caritas-75-anos/
LOCATION:Barcelona 1 – Distritos de Ciutat Vella\, Eixample y barrio del Poble-sec\, Plaça Nova\, 1\, Barcelona\, Barcelona\, 08002\, Espanya
ATTACH;FMTTYPE=image/jpeg:https://caritas.barcelona/wp-content/uploads/2018/04/sant_jordi_caritas_barcelona.jpg
ORGANIZER;CN="C%C3%A0ritas Barcelona":MAILTO:caritas@caritas.barcelona
GEO:41.3840277;2.1751608
X-APPLE-STRUCTURED-LOCATION;VALUE=URI;X-ADDRESS=Barcelona 1 – Distritos de Ciutat Vella Eixample y barrio del Poble-sec Plaça Nova 1 Barcelona Barcelona 08002 Espanya;X-APPLE-RADIUS=500;X-TITLE=Plaça Nova\, 1:geo:2.1751608,41.3840277
END:VEVENT
BEGIN:VEVENT
DTSTART;TZID=Europe/Madrid:20190425T183000
DTEND;TZID=Europe/Madrid:20190425T200000
DTSTAMP:20260423T071327
CREATED:20190412T103115Z
LAST-MODIFIED:20190412T103115Z
UID:10001440-1556217000-1556222400@caritas.barcelona
SUMMARY:Presentación del libro "Mira’m als ulls" de Míriam Hatibi
DESCRIPTION:La activista presentará su último libro\, coincidiendo con la semana de Sant Jordi \nDentro de la programación de la Semana Cultural de la Escola Oberta os invitamos el próximo jueves 25 de abril a las 18.30h a la presentación del libro Mira’m als ulls de Miriam Hatibi en el Centro Cultural La Bòbila (Calle de la Bòbila \, 1\, Hospitalet de Llobregat). Posteriormente\, habrá un coloquio con la autora del libro. \nEs necesario confirmar la asistencia enviando un correo electrónico a escola-oberta@caritasbcn.org o llamando al 93 438 72 77.
URL:https://caritas.barcelona/es/agenda-caritas/presentacion-del-libro-miram-als-ulls-de-miriam-hatibi/
LOCATION:Barcelona
ATTACH;FMTTYPE=image/png:https://caritas.barcelona/wp-content/uploads/2018/04/presentacio-llibres-caritas-barcelona.png
ORGANIZER;CN="C%C3%A0ritas Barcelona":MAILTO:caritas@caritas.barcelona
END:VEVENT
BEGIN:VEVENT
DTSTART;TZID=Europe/Madrid:20190428T083000
DTEND;TZID=Europe/Madrid:20190428T130000
DTSTAMP:20260423T071327
CREATED:20190409T114841Z
LAST-MODIFIED:20190410T120710Z
UID:10001434-1556440200-1556456400@caritas.barcelona
SUMMARY:Camina con la UEC por Cáritas Mataró
DESCRIPTION:Recorre 12 o 20 km solidarios \nCáritas Mataró te invita a participar en la caminata solidaria de la Unión Excursionista de Cataluña (UEC). \nPARQUE FORESTAL\nRecogida tarjetas (obligatorio): 7\,30 h. / Salida: 8\,30 h. \nDOS MODALIDADES:\nCaminata corta: 12 km. con un desnivel positivo acumulado de 500 m.\nCaminata larga: 20 km. con un desnivel positivo acumulado de 950 m. \nINSCRIPCIONES: UEC \nPresencialmente: c.Nou\, 29 08301-Mataró 93 796 14 30\nOn line: www.uecmataro.org del 1 al 4/26 o 1 h antes salida (número limitado de participantes) \nPRECIOS *:\nSocios 8 € – No socios 13 € – menores 12 años: 4 € y 6 € respectivamente \n* 1 € de cada participante se destinará a Cáritas\n(También puede llevar alimentos a UEC o en la salida)
URL:https://caritas.barcelona/es/agenda-caritas/camina-con-la-uec-por-caritas/
LOCATION:Barcelona
ATTACH;FMTTYPE=image/jpeg:https://caritas.barcelona/wp-content/uploads/2019/04/caminada-solidaria.jpg
END:VEVENT
BEGIN:VEVENT
DTSTART;TZID=Europe/Madrid:20190429T120000
DTEND;TZID=Europe/Madrid:20190429T133000
DTSTAMP:20260423T071327
CREATED:20170616T083422Z
LAST-MODIFIED:20190405T082924Z
UID:10001232-1556539200-1556544600@caritas.barcelona
SUMMARY:Sesión informativa sobre voluntariado (29 de abril)
DESCRIPTION:Este es el primer paso para ser voluntario o voluntaria de Cáritas. Desde el programa de Voluntariado\, organizamos sesiones informativas periódicas\, para todas aquellas personas que deseen ser voluntarias en nuestra institución. \nSi quieres ser voluntario o recibir más información sobre el voluntariado en Cáritas\, inscríbete en el siguiente formulario.
URL:https://caritas.barcelona/es/agenda-caritas/sesion-informativa-sobre-voluntariado-29-de-abril/
LOCATION:Barcelona 1 – Distritos de Ciutat Vella\, Eixample y barrio del Poble-sec\, Plaça Nova\, 1\, Barcelona\, Barcelona\, 08002\, Espanya
GEO:41.3840277;2.1751608
X-APPLE-STRUCTURED-LOCATION;VALUE=URI;X-ADDRESS=Barcelona 1 – Distritos de Ciutat Vella Eixample y barrio del Poble-sec Plaça Nova 1 Barcelona Barcelona 08002 Espanya;X-APPLE-RADIUS=500;X-TITLE=Plaça Nova\, 1:geo:2.1751608,41.3840277
END:VEVENT
END:VCALENDAR