BEGIN:VCALENDAR
VERSION:2.0
PRODID:-//Caritas Barcelona - ECPv6.15.18//NONSGML v1.0//EN
CALSCALE:GREGORIAN
METHOD:PUBLISH
X-WR-CALNAME:Caritas Barcelona
X-ORIGINAL-URL:https://caritas.barcelona/es/
X-WR-CALDESC:Eventos para Caritas Barcelona
REFRESH-INTERVAL;VALUE=DURATION:PT1H
X-Robots-Tag:noindex
X-PUBLISHED-TTL:PT1H
BEGIN:VTIMEZONE
TZID:Europe/Madrid
BEGIN:DAYLIGHT
TZOFFSETFROM:+0100
TZOFFSETTO:+0200
TZNAME:CEST
DTSTART:20180325T010000
END:DAYLIGHT
BEGIN:STANDARD
TZOFFSETFROM:+0200
TZOFFSETTO:+0100
TZNAME:CET
DTSTART:20181028T010000
END:STANDARD
BEGIN:DAYLIGHT
TZOFFSETFROM:+0100
TZOFFSETTO:+0200
TZNAME:CEST
DTSTART:20190331T010000
END:DAYLIGHT
BEGIN:STANDARD
TZOFFSETFROM:+0200
TZOFFSETTO:+0100
TZNAME:CET
DTSTART:20191027T010000
END:STANDARD
BEGIN:DAYLIGHT
TZOFFSETFROM:+0100
TZOFFSETTO:+0200
TZNAME:CEST
DTSTART:20200329T010000
END:DAYLIGHT
BEGIN:STANDARD
TZOFFSETFROM:+0200
TZOFFSETTO:+0100
TZNAME:CET
DTSTART:20201025T010000
END:STANDARD
END:VTIMEZONE
BEGIN:VEVENT
DTSTART;TZID=Europe/Madrid:20190204T190000
DTEND;TZID=Europe/Madrid:20190204T203000
DTSTAMP:20260423T094905
CREATED:20180926T061254Z
LAST-MODIFIED:20190408T161247Z
UID:10001261-1549306800-1549312200@caritas.barcelona
SUMMARY:Hacia un 8 de marzo dentro de la Iglesia
DESCRIPTION:Hace un año\, el 8 de marzo supuso un punto de inflexión en la lucha feminista en nuestro país. \nEsta revolución que se está dando en la sociedad está costando más que llegue también a la Iglesia. Son muchas las cuestiones abiertas que la Iglesia debería afrontar si no quiere quedarse al margen de los procesos sociales y políticos clave que se están dando en nuestra sociedad en este campo. ¿De qué manera avanzar hacia una igualdad efectiva también en la Iglesia? \nPonentes: \nViqui Molins\, religiosa teresiana\, activista e impulsora de iniciativas sociales.\nNeus Forcano\, filóloga\, profesora de Lengua y Literatura y miembro de la Asociación Europea de Mujeres para la Investigación Teológica (ESWTR). \nModeración: \nMontse Santolino\, periodista y responsable de comunicación de Lafede.cat.
URL:https://caritas.barcelona/es/agenda-caritas/hacia-un-8-de-marzo-dentro-de-la-iglesia/
LOCATION:Cristianisme i Justícia\, Roger de Llúria\, 13\, Barcelona\, Espanya\, 08010\, Espanya
ATTACH;FMTTYPE=image/jpeg:https://caritas.barcelona/wp-content/uploads/2017/09/dillluns-ddhh.jpg
GEO:41.3906452;2.1719173
X-APPLE-STRUCTURED-LOCATION;VALUE=URI;X-ADDRESS=Cristianisme i Justícia Roger de Llúria 13 Barcelona Espanya 08010 Espanya;X-APPLE-RADIUS=500;X-TITLE=Roger de Llúria\, 13:geo:2.1719173,41.3906452
END:VEVENT
BEGIN:VEVENT
DTSTART;TZID=Europe/Madrid:20190205T180000
DTEND;TZID=Europe/Madrid:20190205T200000
DTSTAMP:20260423T094905
CREATED:20170616T083422Z
LAST-MODIFIED:20190117T121528Z
UID:10001206-1549389600-1549396800@caritas.barcelona
SUMMARY:Curso básico en migración y refugio (5\, 12\, 19\, 26 de febrero y 5 de marzo)
DESCRIPTION:Curso básico en migración y refugio de 12 horas de duración dirigido a personas a partir de 16 años interesadas en formarse en el tema de la gestión de la diversidad cultural. Voluntarios y miembros de comunidades cristianas y de entidades que colaboren en proyectos de acción social\, de atención y acompañamiento a personas recién llegadas. \nLos objetivos del curso son: \n\nReflexionar sobre el hecho de la diversidad cultural en nuestra sociedad y adquirir claves interpretativas para comprender la complejidad de nuestra sociedad desde el punto de vista de la diversidad cultural.\nConocer algunas herramientas para el trabajo\, la gestión y el tratamiento de estereotipos\, prejuicios y rumores sobre diversidad cultural.\n\nEl curso consta de 5 sesiones los días: \n\nmartes 5 de febrero de 18.00 a 20.00h (esta sesión se realizará en Torre Balldovina)\nmartes 12 de febrero de 17.30 a 20.30h\nmartes 19 de febrero de 17.30 a 20.30h\nmartes 26 de febrero de 17.00 a 19.00h\nmartes 5 de marzo de 17.30 a 19.30h\n\nLas plazas son limitadas y es necesario inscripción previa en el siguiente formulario. Se debe recibir correo de confirmación. \nPuedes informarte del contenido de las sesiones pulsando AQUÍ
URL:https://caritas.barcelona/es/agenda-caritas/curso-basico-en-migracion-y-refugio-5-12-19-26-de-febrero-y-5-de-marzo/
LOCATION:Biblioteca de Can Peixauet\, Av. de la Generalitat\, 98\, Santa Coloma de Gramenet\, Barcelona\, 08923\, Espanya
ATTACH;FMTTYPE=image/png:https://caritas.barcelona/wp-content/uploads/2017/06/Migració.png
GEO:41.4441178;2.2101595
X-APPLE-STRUCTURED-LOCATION;VALUE=URI;X-ADDRESS=Biblioteca de Can Peixauet Av. de la Generalitat 98 Santa Coloma de Gramenet Barcelona 08923 Espanya;X-APPLE-RADIUS=500;X-TITLE=Av. de la Generalitat\, 98:geo:2.2101595,41.4441178
END:VEVENT
BEGIN:VEVENT
DTSTART;TZID=Europe/Madrid:20190205T180000
DTEND;TZID=Europe/Madrid:20190205T200000
DTSTAMP:20260423T094905
CREATED:20170616T083422Z
LAST-MODIFIED:20190117T121519Z
UID:10001208-1549389600-1549396800@caritas.barcelona
SUMMARY:Mustafà és al replà (5 de febrero)
DESCRIPTION:Obra de teatro foro contra el racismo sutil\, los prejuicios y los estereotipos dentro de las acciones de la Red Antirumores. \nDirigida por: Jordi Forcadas\nInterpretada por: Judit Saula\, Holga Pallejà\, Alí Hamidou\, Lluís Cases y Eduard Benito. \nEsta obra es la primera sesión del Curso básico en migración y refugio organizado por la Escuela de Formación de Cáritas Diocesana de Barcelona. Puedes informarte del contenido del Curso básico en migración y refugio pulsando AQUÍ. \nLa asistencia a la obra no conlleva el compromiso de participar en las otras cuatro sesiones del curso. \nLas plazas son limitadas y es necesario inscripción previa en el siguiente formulario. Se debe recibir correo de confirmación. \nPuedes ver la información de la obra de teatro pulsando AQUÍ
URL:https://caritas.barcelona/es/agenda-caritas/mustafa-es-al-repla-5-de-febrero/
LOCATION:Torre Balldovina\, Plaça de Pau Casals\, s/n\, Santa Coloma de Gramenet\, Barcelona\, 08922\, Espanya
ATTACH;FMTTYPE=image/png:https://caritas.barcelona/wp-content/uploads/2017/06/Mustafà-1.png
GEO:41.4467784;2.2102694
X-APPLE-STRUCTURED-LOCATION;VALUE=URI;X-ADDRESS=Torre Balldovina Plaça de Pau Casals s/n Santa Coloma de Gramenet Barcelona 08922 Espanya;X-APPLE-RADIUS=500;X-TITLE=Plaça de Pau Casals\, s/n:geo:2.2102694,41.4467784
END:VEVENT
BEGIN:VEVENT
DTSTART;TZID=Europe/Madrid:20190207T170000
DTEND;TZID=Europe/Madrid:20190207T200000
DTSTAMP:20260423T094905
CREATED:20170616T083422Z
LAST-MODIFIED:20190117T121632Z
UID:10001202-1549558800-1549569600@caritas.barcelona
SUMMARY:Curso de Iniciación al Voluntariado (7\, 14\, 21 y 28 de febrero)
DESCRIPTION:Curso de Iniciación al Voluntariado (CIV) de 12 horas de duración dirigido a personas a partir de 16 años que tengan interés por acercarse a la acción voluntaria o iniciar un proceso de formación en el ámbito del voluntariado. \nLos objetivos del curso son: \n\nComprender los factores esenciales a tener en cuenta para el buen ejercicio de la acción voluntaria.\nReflexionar sobre el sentido de la acción voluntaria y los valores de fondo que mueven el voluntariado.\n\nEl curso consta de 3 sesiones de 4 horas cada una los días: \n\njueves 7 de febrero de 17.00h a 20.00h\njueves 14 de febrero de 17.00h a 20.00h\njueves 21 de febrero de 17.00h a 20.00h\njueves 28 de febrero de 17.00h a 20.00h\n\nCoste de la inscripción: donativo de 10€ (las personas que no puedan asumir este coste pueden solicitar beca). \nLas plazas son limitadas y es necesario inscripción previa en el siguiente formulario. Se debe recibir correo de confirmación. \nPuedes informarte de los cursos de iniciació al voluntariat de este trimestre pulsando AQUÍ
URL:https://caritas.barcelona/es/agenda-caritas/curso-de-iniciacion-al-voluntariado-7-14-21-i-28-de-febrero/
LOCATION:Barcelona 1 – Distritos de Ciutat Vella\, Eixample y barrio del Poble-sec\, Plaça Nova\, 1\, Barcelona\, Barcelona\, 08002\, Espanya
GEO:41.3840277;2.1751608
X-APPLE-STRUCTURED-LOCATION;VALUE=URI;X-ADDRESS=Barcelona 1 – Distritos de Ciutat Vella Eixample y barrio del Poble-sec Plaça Nova 1 Barcelona Barcelona 08002 Espanya;X-APPLE-RADIUS=500;X-TITLE=Plaça Nova\, 1:geo:2.1751608,41.3840277
END:VEVENT
BEGIN:VEVENT
DTSTART;TZID=Europe/Madrid:20190213T090000
DTEND;TZID=Europe/Madrid:20190213T140000
DTSTAMP:20260423T094905
CREATED:20190128T113108Z
LAST-MODIFIED:20190205T132156Z
UID:10001420-1550048400-1550066400@caritas.barcelona
SUMMARY:Jornada de reflexión sobre vivienda
DESCRIPTION:El hogar es clave. Pero\, muchas veces\, este derecho reconocido es vulnerado. Por ello\, os invitamos a una jornada de reflexión sobre la problemática de la vivienda. \nEl Museo Picasso (C/Montcada 15-23) acogerá\, el próximo 13 de febrero\, la jornada de reflexión del equipo de análisis social e incidencia de Cáritas sobre su último informe El hogar es clave. Historias de un derecho reconocido pero vulnerado. Para poder asistir\, es imprescindible inscribirse al evento. \nEste será el programa de la jornada: \n9:15h. Llegada y acogida \n9:30h. Bienvenida \nMons. Juan José Omella\, cardenal arzobispo de Barcelona\nLaia Ortiz\, Segunda teniente de alcaldía. Dirección del Área de Derechos Sociales\nJudit Gifreu\, directora de l’Agència de l’Habitatge de Barcelona \n10.00h. Presentación del informe \nMiriam Feu\, responsable de análisis social e incidencia de Cáritas Diocesana de Barcelona \n10.15h Ponencia inaugural: “¿Qué quiere decir el derecho a la vivienda ahora y aquí?” \nPadraic Kenna\, doctor en derecho de la National University of Ireland \n11: 00h. Pausa- Café (incluye acción de denuncia a cargo de Pep Bou) \n11:45: Mesa redonda: “La vivienda como pilar del Estado de Bienestar” \nCarme Trilla\, Observatori Metropolità de l’Habitatge\nJavier Burón\, Gerente de vivienda del Ayuntamiento de Barcelona\nGuillem Fernandez\, economista y doctor en políticas públicas\nJoan Batlle\, Director de programas sociales de l’Agència de l’Habitatge de Barcelona\nPablo Feu\, Abogado experto en derecho urbanístico y de vivienda.\nModeradora: Natalia Vila\, periodista del Diario Ara. \n13: 15h. Cierre institucional. \nSalvador Busquets\, Director de Cáritas Diocesana de Barcelona. \nENTRADES ESGOTADES
URL:https://caritas.barcelona/es/agenda-caritas/jornada-de-reflexion-sobre-vivienda/
LOCATION:Barcelona
ATTACH;FMTTYPE=image/jpeg:https://caritas.barcelona/wp-content/uploads/2019/01/informe-jornada-habitatge-caritas.jpg
ORGANIZER;CN="C%C3%A0ritas Barcelona":MAILTO:caritas@caritas.barcelona
END:VEVENT
BEGIN:VEVENT
DTSTART;TZID=Europe/Madrid:20190221T183000
DTEND;TZID=Europe/Madrid:20190221T200000
DTSTAMP:20260423T094905
CREATED:20170825T071614Z
LAST-MODIFIED:20181029T115548Z
UID:10001279-1550773800-1550779200@caritas.barcelona
SUMMARY:8º Ciclo de Reflexiones entorno al voluntariado - Gestión de las emociones
DESCRIPTION:Gestión de las emociones. Algunas claves emocionales del acompañamiento \nDentro del 8º Ciclo de Reflexiones entorno al voluntariado\, Inma Merino\, formadora freelance y responsable de voluntariado de la Ordre Hospitalaria de San Juan de Dios hará la ponencia “Gestión de las emociones. Algunas claves emocionales del acompañamiento”. Esta charla tendrá lugar el jueves 21 de febrero a las 18.30h en la sala Sant Jordi del Seminario Conciliar de Barcelona. \nEsta sesión es prioritariamente para voluntarios de Cáritas (aunque la entrada es libre\, es necesario inscribirse). Para voluntarios de otras entidades\, esperad confirmación. \n¡Apúntate a través del siguiente formulario a esta sesión! ¡Te esperamos! \nPuedes informarte de todas las conferencias del Ciclo de Reflexiones del curso 2018 – 2019 clicando AQUÍ.
URL:https://caritas.barcelona/es/agenda-caritas/gestion-de-las-emociones/
LOCATION:Seminari Conciliar de Barcelona\, Diputació\, 231\, Barcelona\, Barcelona\, 08007\, Espanya
ORGANIZER;CN="C%C3%A0ritas Barcelona":MAILTO:caritas@caritas.barcelona
GEO:41.3882329;2.1629603
X-APPLE-STRUCTURED-LOCATION;VALUE=URI;X-ADDRESS=Seminari Conciliar de Barcelona Diputació 231 Barcelona Barcelona 08007 Espanya;X-APPLE-RADIUS=500;X-TITLE=Diputació\, 231:geo:2.1629603,41.3882329
END:VEVENT
END:VCALENDAR