BEGIN:VCALENDAR
VERSION:2.0
PRODID:-//Caritas Barcelona - ECPv6.15.18//NONSGML v1.0//EN
CALSCALE:GREGORIAN
METHOD:PUBLISH
X-ORIGINAL-URL:https://caritas.barcelona/es/
X-WR-CALDESC:Eventos para Caritas Barcelona
REFRESH-INTERVAL;VALUE=DURATION:PT1H
X-Robots-Tag:noindex
X-PUBLISHED-TTL:PT1H
BEGIN:VTIMEZONE
TZID:Europe/Madrid
BEGIN:DAYLIGHT
TZOFFSETFROM:+0100
TZOFFSETTO:+0200
TZNAME:CEST
DTSTART:20180325T010000
END:DAYLIGHT
BEGIN:STANDARD
TZOFFSETFROM:+0200
TZOFFSETTO:+0100
TZNAME:CET
DTSTART:20181028T010000
END:STANDARD
BEGIN:DAYLIGHT
TZOFFSETFROM:+0100
TZOFFSETTO:+0200
TZNAME:CEST
DTSTART:20190331T010000
END:DAYLIGHT
BEGIN:STANDARD
TZOFFSETFROM:+0200
TZOFFSETTO:+0100
TZNAME:CET
DTSTART:20191027T010000
END:STANDARD
BEGIN:DAYLIGHT
TZOFFSETFROM:+0100
TZOFFSETTO:+0200
TZNAME:CEST
DTSTART:20200329T010000
END:DAYLIGHT
BEGIN:STANDARD
TZOFFSETFROM:+0200
TZOFFSETTO:+0100
TZNAME:CET
DTSTART:20201025T010000
END:STANDARD
END:VTIMEZONE
BEGIN:VEVENT
DTSTART;TZID=Europe/Madrid:20190114T190000
DTEND;TZID=Europe/Madrid:20190114T203000
DTSTAMP:20260423T110521
CREATED:20180926T060833Z
LAST-MODIFIED:20190408T161507Z
UID:10001260-1547492400-1547497800@caritas.barcelona
SUMMARY:De la postverdad a la postdemocracia
DESCRIPTION:Constatamos un proceso de debilitamiento general de la calidad democrática de los sistemas políticos occidentales. \nLa política parece convertida en un puro espectáculo o una lucha descarnada por el poder. Crecen y llegan al poder nuevos liderazgos populistas\, sobre la base de discursos demagógicos y basados en el miedo\, impulsados por la manipulación de la información que llega a la opinión pública\, donde internet y las redes sociales han adquirido una enorme influencia y donde el periodismo independiente y riguroso parece haber entrado en crisis. ¿Cómo habría que configurar este nuevo contexto comunicativo hacia la conformación de una democracia de calidad y respetuosa de los derechos humanos? \nPonentes: \nRobert Fishman\, doctor en sociología por la Universidad de Yale y profesor de ciencias políticas en la UC3M. Autor de Voces de la democracia.\nNeus Tomàs\, subdirectora de eldiario.es y directora de Cataluña Plural. \nModeración: \nPendiente de confirmación.
URL:https://caritas.barcelona/es/agenda-caritas/de-la-postverdad-a-la-postdemocracia/
LOCATION:Cristianisme i Justícia\, Roger de Llúria\, 13\, Barcelona\, Espanya\, 08010\, Espanya
ATTACH;FMTTYPE=image/jpeg:https://caritas.barcelona/wp-content/uploads/2017/09/dillluns-ddhh.jpg
GEO:41.3906452;2.1719173
X-APPLE-STRUCTURED-LOCATION;VALUE=URI;X-ADDRESS=Cristianisme i Justícia Roger de Llúria 13 Barcelona Espanya 08010 Espanya;X-APPLE-RADIUS=500;X-TITLE=Roger de Llúria\, 13:geo:2.1719173,41.3906452
END:VEVENT
BEGIN:VEVENT
DTSTART;TZID=Europe/Madrid:20190124T183000
DTEND;TZID=Europe/Madrid:20190124T200000
DTSTAMP:20260423T110521
CREATED:20170825T072245Z
LAST-MODIFIED:20181029T120735Z
UID:10001299-1548354600-1548360000@caritas.barcelona
SUMMARY:8º Ciclo de Reflexiones entorno al voluntariado - Compartiendo el viaje
DESCRIPTION:Compartiendo el viaje. Campaña de Caritas Internationalis para construir la cultura del encuentro \nDentro del 8º Ciclo de Reflexiones entorno al voluntariado\, el jueves 24 de enero a las 18.30h en la sala Sant Jordi del Seminario Conciliar de Barcelona se presentará la campaña de Caritas Internationalis para construir la cultura del encuentro. La conferencia\, que será en catalán\, irá a cargo del programa de Migració de Cáritas Diocesana de Barcelona y lleva port título “Compartiendo el viaje”. \nEsta sesión es prioritariamente para voluntarios de Cáritas (aunque la entrada es libre\, es necesario inscribirse). Para voluntarios de otras entidades\, esperad confirmación. \n¡Apúntate a través del siguiente formulario a esta sesión! ¡Te esperamos! \nPuedes informarte de todas las conferencias del Ciclo de Reflexiones del curso 2018 – 2019 clicando AQUÍ.
URL:https://caritas.barcelona/es/agenda-caritas/compartiendo-el-viaje/
LOCATION:Seminari Conciliar de Barcelona\, Diputació\, 231\, Barcelona\, Barcelona\, 08007\, Espanya
ORGANIZER;CN="C%C3%A0ritas Barcelona":MAILTO:caritas@caritas.barcelona
GEO:41.3882329;2.1629603
X-APPLE-STRUCTURED-LOCATION;VALUE=URI;X-ADDRESS=Seminari Conciliar de Barcelona Diputació 231 Barcelona Barcelona 08007 Espanya;X-APPLE-RADIUS=500;X-TITLE=Diputació\, 231:geo:2.1629603,41.3882329
END:VEVENT
END:VCALENDAR