BEGIN:VCALENDAR
VERSION:2.0
PRODID:-//Caritas Barcelona - ECPv6.15.18//NONSGML v1.0//EN
CALSCALE:GREGORIAN
METHOD:PUBLISH
X-WR-CALNAME:Caritas Barcelona
X-ORIGINAL-URL:https://caritas.barcelona/es/
X-WR-CALDESC:Eventos para Caritas Barcelona
REFRESH-INTERVAL;VALUE=DURATION:PT1H
X-Robots-Tag:noindex
X-PUBLISHED-TTL:PT1H
BEGIN:VTIMEZONE
TZID:Europe/Madrid
BEGIN:DAYLIGHT
TZOFFSETFROM:+0100
TZOFFSETTO:+0200
TZNAME:CEST
DTSTART:20170326T010000
END:DAYLIGHT
BEGIN:STANDARD
TZOFFSETFROM:+0200
TZOFFSETTO:+0100
TZNAME:CET
DTSTART:20171029T010000
END:STANDARD
BEGIN:DAYLIGHT
TZOFFSETFROM:+0100
TZOFFSETTO:+0200
TZNAME:CEST
DTSTART:20180325T010000
END:DAYLIGHT
BEGIN:STANDARD
TZOFFSETFROM:+0200
TZOFFSETTO:+0100
TZNAME:CET
DTSTART:20181028T010000
END:STANDARD
BEGIN:DAYLIGHT
TZOFFSETFROM:+0100
TZOFFSETTO:+0200
TZNAME:CEST
DTSTART:20190331T010000
END:DAYLIGHT
BEGIN:STANDARD
TZOFFSETFROM:+0200
TZOFFSETTO:+0100
TZNAME:CET
DTSTART:20191027T010000
END:STANDARD
END:VTIMEZONE
BEGIN:VEVENT
DTSTART;TZID=Europe/Madrid:20181104T110000
DTEND;TZID=Europe/Madrid:20181104T190000
DTSTAMP:20260423T132904
CREATED:20181006T104441Z
LAST-MODIFIED:20181024T111746Z
UID:10001406-1541329200-1541358000@caritas.barcelona
SUMMARY:Encuentro BCN Ciudad Diversa
DESCRIPTION:¡Os esperamos en la Carpa de Acogida y Refugio\, participando en el Juego la Oca de la vivienda! \nComo cada año Cáritas estará presente\, el domingo 4 de noviembre de 11 a 19 h en el Paseo Lluís Companys\, en el encuentro BCN Ciudad Diversa que organiza el Consejo Municipal de Inmigración de Barcelona (CMIB)\, las entidades y el Ayuntamiento de Barcelona\, una jornada festiva y reivindicativa dirigida a toda la ciudadanía para mostrar\, compartir y disfrutar la diversidad de nuestra ciudad. Os esperamos en la Carpa de Acogida y Refugio\, ¡participando en el Juego la Oca de la vivienda! \nY es que\, este año\, la temática general del encuentro es Personas inmigradas y discriminación en el derecho a la vivienda\, una problemática que afecta a toda la población y que tiene unas implicaciones específicas en el caso de personas de origen diverso para su condición migrante. A las 18:30h el pasacalles llamará a la lectura del Manifiesto: Por el derecho a una vivienda digna y sin discriminaciones. En Barcelona\, ​​cabemos todos. \nEn el escenario y en las diferentes carpas o espacios encontrarás más de 80 actividades: actuaciones musicales\, teatro\, coloquios\, exposiciones\, talleres\, juegos interactivos… para niños y adultos\, ¡y mucho más! \nHabrá la biblioteca viviente\, y también una Jornada\, en la carpa Auditorio\, con mesas redondas y un audiovisual sobre el tema.
URL:https://caritas.barcelona/es/agenda-caritas/trobada-bcn-ciutat-diversa/
LOCATION:Barcelona
ATTACH;FMTTYPE=image/jpeg:https://caritas.barcelona/wp-content/uploads/2017/10/Baner-1024x512.jpg
END:VEVENT
BEGIN:VEVENT
DTSTART;TZID=Europe/Madrid:20181105T190000
DTEND;TZID=Europe/Madrid:20181105T203000
DTSTAMP:20260423T132904
CREATED:20180925T152507Z
LAST-MODIFIED:20190408T161555Z
UID:10001252-1541444400-1541449800@caritas.barcelona
SUMMARY:Invisibles: la exclusión de los inmigrantes en Cataluña
DESCRIPTION:Ir al centro de salud\, acceder al sistema educativo\, alquilar un piso\, encontrar trabajo o\, simplemente\, salir de casa con tranquilidad\, son actividades que son casi imposibles para una gran parte de la población procedente de otros países. \nSe ha creado una ciudad invisible\, formada por aquellas personas que no vemos\, que no existen para el sistema\, a las que no reconocemos derechos básicos y a las que condenamos a vivir en la constante vulneración de derechos. \nPonentes: \nGemma Pinyol\, directora de políticas migratorias y diversidad en Instrategies e investigadora asociada del GRITIM-UPF.\nFlorencia Brizuela\, miembro de Encierro Migrante\, grupo que denuncia el racismo y reclama los derechos de las personas refugiadas y migrantes en España. \nModeración: \nSonia Pau\, periodista especializada en temas sociales y miembro de la cooperativa Almena Cooperativa Feminista.
URL:https://caritas.barcelona/es/agenda-caritas/invisibles-la-exclusion-de-los-inmigrantes-en-cataluna/
LOCATION:Cristianisme i Justícia\, Roger de Llúria\, 13\, Barcelona\, Espanya\, 08010\, Espanya
ATTACH;FMTTYPE=image/jpeg:https://caritas.barcelona/wp-content/uploads/2017/09/dillluns-ddhh.jpg
GEO:41.3906452;2.1719173
X-APPLE-STRUCTURED-LOCATION;VALUE=URI;X-ADDRESS=Cristianisme i Justícia Roger de Llúria 13 Barcelona Espanya 08010 Espanya;X-APPLE-RADIUS=500;X-TITLE=Roger de Llúria\, 13:geo:2.1719173,41.3906452
END:VEVENT
BEGIN:VEVENT
DTSTART;TZID=Europe/Madrid:20181114T180000
DTEND;TZID=Europe/Madrid:20181114T193000
DTSTAMP:20260423T132904
CREATED:20181112T082835Z
LAST-MODIFIED:20181112T082835Z
UID:10001412-1542218400-1542223800@caritas.barcelona
SUMMARY:Acto de recuerdo de las personas sin hogar que han muerto este año
DESCRIPTION:Todo el mundo debería tener derecho a morir dignamente y acompañado. \nEn Barcelona hay un millar de personas que viven en la calle y unas 2.100 más que viven en los recursos públicos y privados de la ciudad. Detrás de estas cifras hay un montón de detalles\, historias y situaciones. Algunas muy bonitas\, otras muy tristes y llenas de injusticia. \nQueremos llenar\, el próximo 14 de noviembre a las 18h\, la plaza Sant Jaume con 60 corazones de cartón para hacer visible esta realidad. Cada corazón simboliza una persona que vivía en la calle o que en algún momento ha vivido al raso y que nos ha dejado en el último año. Porque vivir en la calle deteriora el estado de salud y acorta los años de vida. Para la persona\, significa estar expuesta a muchos riesgos: violencia y agresiones\, frío\, insolaciones cuando la temperatura es muy elevada… También significa tener muchos derechos vulnerados\, incluso el derecho al recuerdo. \n¡Os esperamos!
URL:https://caritas.barcelona/es/agenda-caritas/acto-de-recuerdo-de-las-personas-sin-hogar-que-han-muerto-este-ano/
LOCATION:Barcelona
ATTACH;FMTTYPE=image/jpeg:https://caritas.barcelona/wp-content/uploads/2018/11/rosa-groga-record-sensellar-caritas.jpg
ORGANIZER;CN="C%C3%A0ritas Barcelona":MAILTO:caritas@caritas.barcelona
END:VEVENT
BEGIN:VEVENT
DTSTART;TZID=Europe/Madrid:20181115T183000
DTEND;TZID=Europe/Madrid:20181115T200000
DTSTAMP:20260423T132904
CREATED:20170825T072245Z
LAST-MODIFIED:20181029T120635Z
UID:10001297-1542306600-1542312000@caritas.barcelona
SUMMARY:8º Ciclo de Reflexiones entorno al voluntariado - Nadie sin hogar
DESCRIPTION:Nadie sin hogar. Presentación de la campaña 2018 \nDentro del 8º Ciclo de Reflexiones entorno al voluntariado\, el jueves 15 de noviembre a las 18.30h en la sala Sant Jordi del Seminario Conciliar de Barcelona\, se presentará la campaña sin hogar 2018. La Comisión mixta del programa Sense Llar i Habitatge de Cáritas Diocesana de Barcelona serán los protagonistas de esta conferencia que lleva por título “Nadie sin hogar”. La charla será en catalán. \nEsta sesión es prioritariamente para voluntarios de Cáritas (aunque la entrada es libre\, es necesario inscribirse). Para voluntarios de otras entidades\, esperad confirmación. \n¡Apúntate a través del siguiente formulario a esta sesión! ¡Te esperamos! \nPuedes informarte de todas las conferencias del Ciclo de Reflexiones del curso 2018 – 2019 clicando AQUÍ.
URL:https://caritas.barcelona/es/agenda-caritas/nadie-sin-hogar/
LOCATION:Seminari Conciliar de Barcelona\, Diputació\, 231\, Barcelona\, Barcelona\, 08007\, Espanya
ORGANIZER;CN="C%C3%A0ritas Barcelona":MAILTO:caritas@caritas.barcelona
GEO:41.3882329;2.1629603
X-APPLE-STRUCTURED-LOCATION;VALUE=URI;X-ADDRESS=Seminari Conciliar de Barcelona Diputació 231 Barcelona Barcelona 08007 Espanya;X-APPLE-RADIUS=500;X-TITLE=Diputació\, 231:geo:2.1629603,41.3882329
END:VEVENT
BEGIN:VEVENT
DTSTART;TZID=Europe/Madrid:20181116T210000
DTEND;TZID=Europe/Madrid:20181116T223000
DTSTAMP:20260423T132904
CREATED:20180727T065000Z
LAST-MODIFIED:20181113T075905Z
UID:10001385-1542402000-1542407400@caritas.barcelona
SUMMARY:Gospelfest
DESCRIPTION:¿Quieres ver a Ramon Escalé\, Jordi Cardona\, Ana Roqué y Moisés Sala dirigiendo un coro de Góspel de 600 cantantes? \n¡Este es tu concierto! Ven el próximo 16 de Noviembre (21h)\, en el Auditorio del Fórum de Barcelona\, ​​y disfruta con GospelFest. Los beneficios irán íntegros al programa de sin hogar y vivienda de Cáritas Diocesana de Barcelona. \nPuedes comprar tus entradas en en Ticketea por un precio de 12 €. ¡Consigue la tuya!
URL:https://caritas.barcelona/es/agenda-caritas/gospelfest/
LOCATION:Barcelona
ATTACH;FMTTYPE=image/png:https://caritas.barcelona/wp-content/uploads/2018/07/gospelfest.png
END:VEVENT
BEGIN:VEVENT
DTSTART;TZID=Europe/Madrid:20181118T190000
DTEND;TZID=Europe/Madrid:20181118T203000
DTSTAMP:20260423T132904
CREATED:20181106T124458Z
LAST-MODIFIED:20181106T124458Z
UID:10001408-1542567600-1542573000@caritas.barcelona
SUMMARY:Jornada Mundial de la Pobreza
DESCRIPTION:El día 18 de noviembre de 2018 se celebra la 11a Jornada Mundial de la Pobreza. \nEs una iniciativa del Papa Francisco y nos anima a celebrarla en nuestras comunidades para tomar conciencia de la situación de pobreza que viven muchas personas. Con el lema sacado del Salmo 34\,7: “El Señor escucha el pobre que la invoca”\, nos recuerda que “estamos llamados a dirigir nuestra mirada para escuchar su grito y reconocer sus necesidades”. \nEs\, por ello\, que el domingo día 18 de noviembre\, a las 19h\, en la catedral de Barcelona\, celebraremos una eucaristía\, presidida por el Sr. Cardenal Arzobispo Juan José Omella\, para finalizar esta Jornada pidiendo que seamos capaces de escuchar el grito de los pobres. En este encuentro tendrá lugar la bendición y el envío de todos los voluntarios que trabajen en el mundo de la caridad y de la pastoral social. ¡Estáis todos invitados!
URL:https://caritas.barcelona/es/agenda-caritas/jornada-mundial-de-la-pobreza/
LOCATION:Barcelona
ATTACH;FMTTYPE=image/jpeg:https://caritas.barcelona/wp-content/uploads/2017/06/vetlla-pregaria.jpg
END:VEVENT
BEGIN:VEVENT
DTSTART;TZID=Europe/Madrid:20181119T120000
DTEND;TZID=Europe/Madrid:20181119T133000
DTSTAMP:20260423T132904
CREATED:20170616T083422Z
LAST-MODIFIED:20181002T090133Z
UID:10001193-1542628800-1542634200@caritas.barcelona
SUMMARY:Sesión informativa sobre voluntariado (19 de noviembre)
DESCRIPTION:Este es el primer paso para ser voluntario o voluntaria de Cáritas. Desde el programa de Voluntariado\, organizamos sesiones informativas periódicas\, para todas aquellas personas que deseen ser voluntarias en nuestra institución. \nSi quieres ser voluntario o recibir más información sobre el voluntariado en Cáritas\, inscríbete en el siguiente formulario.
URL:https://caritas.barcelona/es/agenda-caritas/sesion-informativa-sobre-voluntariado-13-de-septiembre/
LOCATION:Barcelona 1 – Distritos de Ciutat Vella\, Eixample y barrio del Poble-sec\, Plaça Nova\, 1\, Barcelona\, Barcelona\, 08002\, Espanya
GEO:41.3840277;2.1751608
X-APPLE-STRUCTURED-LOCATION;VALUE=URI;X-ADDRESS=Barcelona 1 – Distritos de Ciutat Vella Eixample y barrio del Poble-sec Plaça Nova 1 Barcelona Barcelona 08002 Espanya;X-APPLE-RADIUS=500;X-TITLE=Plaça Nova\, 1:geo:2.1751608,41.3840277
END:VEVENT
BEGIN:VEVENT
DTSTART;TZID=Europe/Madrid:20181122T120000
DTEND;TZID=Europe/Madrid:20181122T130000
DTSTAMP:20260423T132904
CREATED:20181109T105446Z
LAST-MODIFIED:20181109T105446Z
UID:10001410-1542888000-1542891600@caritas.barcelona
SUMMARY:Acción de calle del Día Mundial de las personas sin hogar
DESCRIPTION:En Cáritas\, trabajamos y trabajaremos para que el lema “Nadie Sin Hogar” sea una realidad \nEl próximo 25 de noviembre se celebra el Día Mundial de las personas sin hogar. Como Cáritas\, queremos salir a la calle para hacer visible la situación que viven las personas que duermen en la calle. Lo haremos\, el jueves 22 de noviembre a las 12h\, en la Plaza Sant Jaume. ¿Te apuntas? \nProgramación \n12h a 12:05 h: Presentación de la Acción en la Calle y bienvenida. Las personas se agrupan en medio de la Plaza Sant Jaume. \n12.05 a 12.15 h (aprox.): Parlamento de la concejala de Servicios Sociales de Barcelona\, Laia Ortiz. \n12.15 a 12.30 h En toda la plaza habrá unas siluetas blancas tendidas en el suelo. Las personas que asistan pondrán unos post-its de colores en las siluetas. Cada persona deberá escribir acciones que se puedan hacer para que no haya personas en la calle. \nSe lee el MANIFIESTO (5 minutos) \n12.30 a 12.45: Actuación musical
URL:https://caritas.barcelona/es/agenda-caritas/accion-de-calle-del-dia-mundial-de-las-personas-sin-hogar/
LOCATION:Barcelona
ATTACH;FMTTYPE=image/jpeg:https://caritas.barcelona/wp-content/uploads/2018/11/flashmob_sensellar_caritas_barcelona.jpg
ORGANIZER;CN="C%C3%A0ritas Barcelona":MAILTO:caritas@caritas.barcelona
END:VEVENT
BEGIN:VEVENT
DTSTART;TZID=Europe/Madrid:20181126T180000
DTEND;TZID=Europe/Madrid:20181126T193000
DTSTAMP:20260423T132904
CREATED:20181119T125208Z
LAST-MODIFIED:20181119T125218Z
UID:10001414-1543255200-1543260600@caritas.barcelona
SUMMARY:Personas sin hogar en Badalona: una reflexión conjunta
DESCRIPTION:Queremos hacer que “Nadie sin hogar” sea una realidad \nTe invitamos al encuentro “Personas sin hogar en Badalona: una reflexión conjunta” que tendrá lugar el lunes 26 de noviembre\, a las 18:00h\, en el Centro Cívico La Salut (Avda. Marqués de Sant Mori s/n)\, con motivo del día Mundial de las Personas sin hogar. \nContaremos con testigos que nos acercarán a cómo son y viven las personas sin hogar\, tanto de trabajadores de diversos recursos de la ciudad como de personas que han vivido esta situación y quieren compartir su experiencia. Entre todos reflexionaremos sobre las causas\, sentimientos y posibilidades para transformar esta realidad. También haremos un retorno de los datos sobre el Recuento 2018. \nInscríbete aquí
URL:https://caritas.barcelona/es/agenda-caritas/personas-sin-hogar-en-badalona-una-reflexion-conjunta/
LOCATION:Barcelona
ATTACH;FMTTYPE=image/jpeg:https://caritas.barcelona/wp-content/uploads/2017/04/Flashmob-2016.jpg
END:VEVENT
BEGIN:VEVENT
DTSTART;TZID=Europe/Madrid:20181129T103000
DTEND;TZID=Europe/Madrid:20181129T120000
DTSTAMP:20260423T132904
CREATED:20170616T083422Z
LAST-MODIFIED:20181115T085515Z
UID:10001195-1543487400-1543492800@caritas.barcelona
SUMMARY:Sesión informativa sobre voluntariado (29 de noviembre)
DESCRIPTION:Este es el primer paso para ser voluntario o voluntaria de Cáritas. Desde el programa de Voluntariado\, organizamos sesiones informativas periódicas\, para todas aquellas personas que deseen ser voluntarias en nuestra institución. \nSi quieres ser voluntario o recibir más información sobre el voluntariado en Cáritas\, inscríbete en el siguiente formulario.
URL:https://caritas.barcelona/es/agenda-caritas/sesion-informativa-sobre-voluntariado-8-de-octubre/
LOCATION:Barcelona 1 – Distritos de Ciutat Vella\, Eixample y barrio del Poble-sec\, Plaça Nova\, 1\, Barcelona\, Barcelona\, 08002\, Espanya
ORGANIZER;CN="C%C3%A0ritas Barcelona":MAILTO:caritas@caritas.barcelona
GEO:41.3840277;2.1751608
X-APPLE-STRUCTURED-LOCATION;VALUE=URI;X-ADDRESS=Barcelona 1 – Distritos de Ciutat Vella Eixample y barrio del Poble-sec Plaça Nova 1 Barcelona Barcelona 08002 Espanya;X-APPLE-RADIUS=500;X-TITLE=Plaça Nova\, 1:geo:2.1751608,41.3840277
END:VEVENT
END:VCALENDAR