BEGIN:VCALENDAR
VERSION:2.0
PRODID:-//Caritas Barcelona - ECPv6.15.18//NONSGML v1.0//EN
CALSCALE:GREGORIAN
METHOD:PUBLISH
X-ORIGINAL-URL:https://caritas.barcelona/es/
X-WR-CALDESC:Eventos para Caritas Barcelona
REFRESH-INTERVAL;VALUE=DURATION:PT1H
X-Robots-Tag:noindex
X-PUBLISHED-TTL:PT1H
BEGIN:VTIMEZONE
TZID:Europe/Madrid
BEGIN:DAYLIGHT
TZOFFSETFROM:+0100
TZOFFSETTO:+0200
TZNAME:CEST
DTSTART:20170326T010000
END:DAYLIGHT
BEGIN:STANDARD
TZOFFSETFROM:+0200
TZOFFSETTO:+0100
TZNAME:CET
DTSTART:20171029T010000
END:STANDARD
BEGIN:DAYLIGHT
TZOFFSETFROM:+0100
TZOFFSETTO:+0200
TZNAME:CEST
DTSTART:20180325T010000
END:DAYLIGHT
BEGIN:STANDARD
TZOFFSETFROM:+0200
TZOFFSETTO:+0100
TZNAME:CET
DTSTART:20181028T010000
END:STANDARD
BEGIN:DAYLIGHT
TZOFFSETFROM:+0100
TZOFFSETTO:+0200
TZNAME:CEST
DTSTART:20190331T010000
END:DAYLIGHT
BEGIN:STANDARD
TZOFFSETFROM:+0200
TZOFFSETTO:+0100
TZNAME:CET
DTSTART:20191027T010000
END:STANDARD
END:VTIMEZONE
BEGIN:VEVENT
DTSTART;TZID=Europe/Madrid:20181007T130000
DTEND;TZID=Europe/Madrid:20181007T170000
DTSTAMP:20260423T144704
CREATED:20180928T064655Z
LAST-MODIFIED:20180928T064655Z
UID:10001405-1538917200-1538931600@caritas.barcelona
SUMMARY:Jornada Mundial por el Trabajo Decente
DESCRIPTION:La Plataforma Iglesia por el Trabajo Decente os convoca a la Jornada que llevaremos a cabo el domingo 7 de octubre (13h) en la Parroquia de Santa María del Pi con motivo del Día Mundial por el Trabajo Decente \nDurante la Jornada\, se desplegará una pancarta en favor del Trabajo Decente\, se realizará una acción de protesta para denunciar la precariedad laboral y se leerá un manifiesto con las diferentes demandas de las entidades convocantes. \nLa acción quiere hacer visible y denunciar que seguimos arrastrando déficits no resueltos que han aumentado en los últimos años\, como son la temporalidad\, la parcialidad\, la economía sumergida y el estancamiento de los salarios. Estos factores provocan que haya aumentado el fenómeno de los trabajadores pobres. Personas que\, a pesar de tener un empleo\, no llegan a fin de mes. Las personas con una remuneración insuficiente para llevar una vida digna representan el 12% de las personas trabajadoras en Cataluña\, y estas condiciones laborales les dificulta planificar un proyecto vital a largo plazo.
URL:https://caritas.barcelona/es/agenda-caritas/jornada-mundial-por-el-trabajo-decente-2/
LOCATION:Barcelona
ATTACH;FMTTYPE=image/png:https://caritas.barcelona/wp-content/uploads/2018/02/treball_decent.png
END:VEVENT
BEGIN:VEVENT
DTSTART;TZID=Europe/Madrid:20181008T190000
DTEND;TZID=Europe/Madrid:20181008T203000
DTSTAMP:20260423T144704
CREATED:20180925T151832Z
LAST-MODIFIED:20190408T161619Z
UID:10001248-1539025200-1539030600@caritas.barcelona
SUMMARY:Hacia un trabajo decente: repartir el trabajo en el siglo XXI
DESCRIPTION:Vuelven los Dilluns dels Drets Humans con un tema candente: el trabajo en el siglo XXI \nEl día 7 de octubre se celebra la Jornada Mundial Por el Trabajo Decente. El próximo 2019 hará 100 años de la aprobación de la jornada laboral de 8 horas en España. Desde entonces se han producido muchos avances en los derechos laborales\, pero en los últimos años\, el mundo laboral se ha precarizado. La riqueza se ha concentrado\, el trabajo informal se expande y está mal remunerado y la revolución digital nos augura un futuro con menos puestos de trabajo y mal repartidos. ¿Qué modelo económico es necesario en pleno siglo XXI a fin de garantizar el derecho a un trabajo digno y decente para todos? ¿Es viable repartir el trabajo disponible manteniendo todos los derechos? \nPonentes: \nPaco Ramos\, director de Estrategias para el Fomento del Empleo de Barcelona Activa.\nAlba Hierro\, coordinadora de la FESC (Feria de Economía Solidaria de Cataluña) y técnica de “Pam a Pam” (Mapa colaborativo de la Economía Social y Solidaria en Cataluña). \nModeración: \nPendiente de confirmación.
URL:https://caritas.barcelona/es/agenda-caritas/hacia-un-trabajo-decente-repartir-el-trabajo-en-el-siglo-xxi/
LOCATION:Cristianisme i Justícia\, Roger de Llúria\, 13\, Barcelona\, Espanya\, 08010\, Espanya
ATTACH;FMTTYPE=image/jpeg:https://caritas.barcelona/wp-content/uploads/2017/09/dillluns-ddhh.jpg
GEO:41.3906452;2.1719173
X-APPLE-STRUCTURED-LOCATION;VALUE=URI;X-ADDRESS=Cristianisme i Justícia Roger de Llúria 13 Barcelona Espanya 08010 Espanya;X-APPLE-RADIUS=500;X-TITLE=Roger de Llúria\, 13:geo:2.1719173,41.3906452
END:VEVENT
BEGIN:VEVENT
DTSTART;TZID=Europe/Madrid:20181015T093000
DTEND;TZID=Europe/Madrid:20181015T133000
DTSTAMP:20260423T144704
CREATED:20170616T083422Z
LAST-MODIFIED:20190117T121741Z
UID:10001198-1539595800-1539610200@caritas.barcelona
SUMMARY:Curso de Iniciación al Voluntariado (15\, 17 y 22 de octubre)
DESCRIPTION:Curso de Iniciación al Voluntariado (CIV) de 12 horas de duración dirigido a personas a partir de 16 años que tengan interés por acercarse a la acción voluntaria o iniciar un proceso de formación en el ámbito del voluntariado. \nLos objetivos del curso son: \n\nComprender los factores esenciales a tener en cuenta para el buen ejercicio de la acción voluntaria.\nReflexionar sobre el sentido de la acción voluntaria y los valores de fondo que mueven el voluntariado.\n\nEl curso consta de 3 sesiones de 4 horas cada una los días: \n\nlunes 15 de octubre de 9.30h a 13.30h\nmiércoles 17 de octubre de 9.30h a 13.30h\nlunes 22 de octubre de 9.30h a 13.30h\n\nCoste de la inscripción: donativo de 10€ (las personas que no puedan asumir este coste pueden solicitar beca). \nLas plazas son limitadas y es necesario inscripción previa en el siguiente formulario. Se debe recibir correo de confirmación. \nPuedes informarte de los cursos de iniciació al voluntariat de este trimestre pulsando AQUÍ
URL:https://caritas.barcelona/es/agenda-caritas/curso-de-iniciacion-al-voluntariado-15-17-i-22-de-octubre/
LOCATION:Barcelona 1 – Distritos de Ciutat Vella\, Eixample y barrio del Poble-sec\, Plaça Nova\, 1\, Barcelona\, Barcelona\, 08002\, Espanya
GEO:41.3840277;2.1751608
X-APPLE-STRUCTURED-LOCATION;VALUE=URI;X-ADDRESS=Barcelona 1 – Distritos de Ciutat Vella Eixample y barrio del Poble-sec Plaça Nova 1 Barcelona Barcelona 08002 Espanya;X-APPLE-RADIUS=500;X-TITLE=Plaça Nova\, 1:geo:2.1751608,41.3840277
END:VEVENT
BEGIN:VEVENT
DTSTART;TZID=Europe/Madrid:20181020T113000
DTEND;TZID=Europe/Madrid:20181020T210000
DTSTAMP:20260423T144704
CREATED:20180926T070354Z
LAST-MODIFIED:20180926T070354Z
UID:10001401-1540035000-1540069200@caritas.barcelona
SUMMARY:Mataró por Cáritas
DESCRIPTION:Os invitamos a la 7ª edición de un día lleno de actividades y actuaciones musicales en Mataró \nDurante todo el día\, se harán recogidas de alimentos\, venta de lápices solidarios\, dvd 50 años\, dvd músicos de casa\, botellas de cava con placas exclusivas de los 50 años y recogida de donativos. Además\, habrá actividades y actuaciones musicales\, y a partir de las 14h una paellada popular (5 €). Os esperamos en la Plaza Santa Ana de 11: 30h a 21h!
URL:https://caritas.barcelona/es/agenda-caritas/mataro-por-caritas-2/
LOCATION:Barcelona
ATTACH;FMTTYPE=image/jpeg:https://caritas.barcelona/wp-content/uploads/2018/07/foto-concert.jpg
END:VEVENT
BEGIN:VEVENT
DTSTART;TZID=Europe/Madrid:20181029T170000
DTEND;TZID=Europe/Madrid:20181029T190000
DTSTAMP:20260423T144704
CREATED:20170825T071614Z
LAST-MODIFIED:20181026T123315Z
UID:10001278-1540832400-1540839600@caritas.barcelona
SUMMARY:¿Pobres con los pobres? Tejiendo puentes de encuentro\, de reciprocidad y de aprendizaje.
DESCRIPTION:¡Comienza una nueva edición del Ciclo de Reflexiones en torno al voluntariado! \nLa lección inaugural del curso 2018-2019 correrá a cargo de Adolfo Chércoles\, jesuita\, obrero y acompañante y tratará sobre “¿Pobres con los pobres? Tejiendo puentes de encuentro\, de reciprocidad y de aprendizaje.” Este inicio de la octava edición del Ciclo tendrá lugar el lunes 29 de octubre\, a las 17.00h en la sala de actos del Seminario Conciliar de Barcelona. Esta sesión es prioritariamente para voluntarios de Cáritas (aunque la entrada es libre\, es necesario inscribirse). Para voluntarios de otras entidades\, esperad confirmación. \n¡Apúntate a través del siguiente formulario a esta sesión! ¡Te esperamos! \nPuedes informarte de todas las conferencias del Ciclo de Reflexiones del curso 2018 – 2019 clicando AQUÍ.
URL:https://caritas.barcelona/es/agenda-caritas/pobres-con-los-pobres-tejiendo-puentes-de-encuentro-de-reciprocidad-y-de-aprendizaje/
LOCATION:Seminari Conciliar de Barcelona\, Diputació\, 231\, Barcelona\, Barcelona\, 08007\, Espanya
ORGANIZER;CN="C%C3%A0ritas Barcelona":MAILTO:caritas@caritas.barcelona
GEO:41.3882329;2.1629603
X-APPLE-STRUCTURED-LOCATION;VALUE=URI;X-ADDRESS=Seminari Conciliar de Barcelona Diputació 231 Barcelona Barcelona 08007 Espanya;X-APPLE-RADIUS=500;X-TITLE=Diputació\, 231:geo:2.1629603,41.3882329
END:VEVENT
END:VCALENDAR