BEGIN:VCALENDAR
VERSION:2.0
PRODID:-//Caritas Barcelona - ECPv6.15.18//NONSGML v1.0//EN
CALSCALE:GREGORIAN
METHOD:PUBLISH
X-ORIGINAL-URL:https://caritas.barcelona/es/
X-WR-CALDESC:Eventos para Caritas Barcelona
REFRESH-INTERVAL;VALUE=DURATION:PT1H
X-Robots-Tag:noindex
X-PUBLISHED-TTL:PT1H
BEGIN:VTIMEZONE
TZID:Europe/Madrid
BEGIN:DAYLIGHT
TZOFFSETFROM:+0100
TZOFFSETTO:+0200
TZNAME:CEST
DTSTART:20170326T010000
END:DAYLIGHT
BEGIN:STANDARD
TZOFFSETFROM:+0200
TZOFFSETTO:+0100
TZNAME:CET
DTSTART:20171029T010000
END:STANDARD
BEGIN:DAYLIGHT
TZOFFSETFROM:+0100
TZOFFSETTO:+0200
TZNAME:CEST
DTSTART:20180325T010000
END:DAYLIGHT
BEGIN:STANDARD
TZOFFSETFROM:+0200
TZOFFSETTO:+0100
TZNAME:CET
DTSTART:20181028T010000
END:STANDARD
BEGIN:DAYLIGHT
TZOFFSETFROM:+0100
TZOFFSETTO:+0200
TZNAME:CEST
DTSTART:20190331T010000
END:DAYLIGHT
BEGIN:STANDARD
TZOFFSETFROM:+0200
TZOFFSETTO:+0100
TZNAME:CET
DTSTART:20191027T010000
END:STANDARD
END:VTIMEZONE
BEGIN:VEVENT
DTSTART;TZID=Europe/Madrid:20180607T190000
DTEND;TZID=Europe/Madrid:20180607T203000
DTSTAMP:20260424T000640
CREATED:20180604T134158Z
LAST-MODIFIED:20180604T134158Z
UID:10001379-1528398000-1528403400@caritas.barcelona
SUMMARY:Charla-coloquio sobre violencia de género
DESCRIPTION:Dentro de la programación de actividades de la Escola Oberta te invitamos a la charla-coloquio sobre violencia de género. El próximo jueves 7 de junio de 19 a 20.30 en la Escola Oberta de Hospitalet. En esta ocasión la trabajadora social Mari-Cruz Lera del CAID (Centro de Atención e Información a la Mujer) nos ayudará a reflexionar sobre el machismo y micromachismos en la sociedad actual para ser más conscientes. \nLa entrada es gratuita\, pero requiere inscripción previa enviando un correo a escola-oberta@caritasbcn.org o por teléfono de lunes a jueves de 10 a 14h y de 15 a 18h en el 934.387.277.
URL:https://caritas.barcelona/es/agenda-caritas/charla-coloquio-sobre-violencia-de-genero/
LOCATION:Escola Social\, Carrer Floridablanca\, 39\, L'Hospitalet de Llobregat\, Barcelona\, 08906\, Espanya
GEO:41.3749153;2.1017512
X-APPLE-STRUCTURED-LOCATION;VALUE=URI;X-ADDRESS=Escola Social Carrer Floridablanca 39 L'Hospitalet de Llobregat Barcelona 08906 Espanya;X-APPLE-RADIUS=500;X-TITLE=Carrer Floridablanca\, 39:geo:2.1017512,41.3749153
END:VEVENT
BEGIN:VEVENT
DTSTART;TZID=Europe/Madrid:20180608T203000
DTEND;TZID=Europe/Madrid:20180608T213000
DTSTAMP:20260424T000640
CREATED:20180529T073257Z
LAST-MODIFIED:20180529T073257Z
UID:10001377-1528489800-1528493400@caritas.barcelona
SUMMARY:Concierto de La Perla de La Habana a favor de Cáritas Mataró
DESCRIPTION:Os invitamos al concierto “Cantàvia”\, una cantata para las personas mayores de Joan Vives y Sanfeliu\, con letra de Piti Español. El concierto\, que será interpretado por la Coral “La perla de La Habana”\, irá en beneficio de Cáritas Mataró. \nLa entrada al concierto\, que tendrá lugar en elCasal La Nova Aliança\, será libre con aportaciones voluntarias. ¡Os esperamos!
URL:https://caritas.barcelona/es/agenda-caritas/concierto-de-la-perla-de-la-habana-a-favor-de-caritas-mataro/
LOCATION:Barcelona
ATTACH;FMTTYPE=image/png:https://caritas.barcelona/wp-content/uploads/2017/12/20101210_Concert_Nadal_Gospel_Santa_M_M-3.png
END:VEVENT
BEGIN:VEVENT
DTSTART;TZID=Europe/Madrid:20180613T183000
DTEND;TZID=Europe/Madrid:20180613T200000
DTSTAMP:20260424T000640
CREATED:20180605T065937Z
LAST-MODIFIED:20180605T070757Z
UID:10001382-1528914600-1528920000@caritas.barcelona
SUMMARY:Acto de clausura del curso escolar de la Escuela de Formación del Voluntariado
DESCRIPTION:Se acerca el verano y nos preparamos para disfrutar de un tiempo de descanso. \nAlgunos de nuestros proyectos hacen una pausa durante el verano\, pero la mayoría de los servicios que hacemos continúan y todos juntos\, voluntarios y asalariados\, continuaremos acompañando a las personas que confían en nosotros. Sin embargo\, nos complace poder invitarte al acto de clausura del curso escolar\, que será el próximo miércoles 13 de junio de 18.30 a 20h en el seminario de Barcelona\, para agradecernos mutuamente la tarea hecha\, poder conocer los datos de la Memoria 2017 y desear personalmente un buen verano. \nEn el acto\, intervendrán Salvador Bacardit\, delegado episcopal; Salvador Busquets\, director y Míriam Feu\, responsable del departamento de análisis social e incidencia. A continuación\, habrá un piscolabis en el claustro. \nComo siempre\, te rogamos que te inscribas si quieres asistir.
URL:https://caritas.barcelona/es/agenda-caritas/acto-de-clausura-del-curso-escolar-de-la-escuela-de-formacion-del-voluntariado/
LOCATION:Seminari Conciliar de Barcelona\, Diputació\, 231\, Barcelona\, Barcelona\, 08007\, Espanya
ATTACH;FMTTYPE=image/jpeg:https://caritas.barcelona/wp-content/uploads/2017/08/Cicle_reflexions_voluntariat.jpg
GEO:41.3882329;2.1629603
X-APPLE-STRUCTURED-LOCATION;VALUE=URI;X-ADDRESS=Seminari Conciliar de Barcelona Diputació 231 Barcelona Barcelona 08007 Espanya;X-APPLE-RADIUS=500;X-TITLE=Diputació\, 231:geo:2.1629603,41.3882329
END:VEVENT
BEGIN:VEVENT
DTSTART;TZID=Europe/Madrid:20180620T100000
DTEND;TZID=Europe/Madrid:20180620T120000
DTSTAMP:20260424T000640
CREATED:20170616T083422Z
LAST-MODIFIED:20180606T085747Z
UID:10001192-1529488800-1529496000@caritas.barcelona
SUMMARY:Pobreza\, desigualdad\, exclusión social (20 de junio)
DESCRIPTION:Sesión de formación dirigida a personas voluntarias de Cáritas o alumnos que han hecho el Curso de Iniciación al Voluntariado (CIV) en Cáritas. \nLas plazas son limitadas y es necesario inscripción previa en el siguiente formulario. \nSe tiene que recibir correo de confirmación donde se deberá indicar el proyecto o servicio de Cáritas en el que se participa o la edición del CIV a la que se ha asistido.
URL:https://caritas.barcelona/es/agenda-caritas/pobresa/
LOCATION:Barcelona 1 – Distritos de Ciutat Vella\, Eixample y barrio del Poble-sec\, Plaça Nova\, 1\, Barcelona\, Barcelona\, 08002\, Espanya
GEO:41.3840277;2.1751608
X-APPLE-STRUCTURED-LOCATION;VALUE=URI;X-ADDRESS=Barcelona 1 – Distritos de Ciutat Vella Eixample y barrio del Poble-sec Plaça Nova 1 Barcelona Barcelona 08002 Espanya;X-APPLE-RADIUS=500;X-TITLE=Plaça Nova\, 1:geo:2.1751608,41.3840277
END:VEVENT
END:VCALENDAR