BEGIN:VCALENDAR
VERSION:2.0
PRODID:-//Caritas Barcelona - ECPv6.15.18//NONSGML v1.0//EN
CALSCALE:GREGORIAN
METHOD:PUBLISH
X-ORIGINAL-URL:https://caritas.barcelona/es/
X-WR-CALDESC:Eventos para Caritas Barcelona
REFRESH-INTERVAL;VALUE=DURATION:PT1H
X-Robots-Tag:noindex
X-PUBLISHED-TTL:PT1H
BEGIN:VTIMEZONE
TZID:Europe/Madrid
BEGIN:DAYLIGHT
TZOFFSETFROM:+0100
TZOFFSETTO:+0200
TZNAME:CEST
DTSTART:20170326T010000
END:DAYLIGHT
BEGIN:STANDARD
TZOFFSETFROM:+0200
TZOFFSETTO:+0100
TZNAME:CET
DTSTART:20171029T010000
END:STANDARD
BEGIN:DAYLIGHT
TZOFFSETFROM:+0100
TZOFFSETTO:+0200
TZNAME:CEST
DTSTART:20180325T010000
END:DAYLIGHT
BEGIN:STANDARD
TZOFFSETFROM:+0200
TZOFFSETTO:+0100
TZNAME:CET
DTSTART:20181028T010000
END:STANDARD
BEGIN:DAYLIGHT
TZOFFSETFROM:+0100
TZOFFSETTO:+0200
TZNAME:CEST
DTSTART:20190331T010000
END:DAYLIGHT
BEGIN:STANDARD
TZOFFSETFROM:+0200
TZOFFSETTO:+0100
TZNAME:CET
DTSTART:20191027T010000
END:STANDARD
END:VTIMEZONE
BEGIN:VEVENT
DTSTART;TZID=Europe/Madrid:20180409T190000
DTEND;TZID=Europe/Madrid:20180409T203000
DTSTAMP:20260424T024945
CREATED:20170927T081300Z
LAST-MODIFIED:20170927T081508Z
UID:10001340-1523300400-1523305800@caritas.barcelona
SUMMARY:Del 0\,7 a la justicia global: pasado\, presente y futuro de la cooperación al desarrollo
DESCRIPTION:Las partidas presupuestarias para ayuda oficial al desarrollo en España y en otros países no paran de disminuir. \n \nHoy día\, sin embargo\, la cooperación al desarrollo incluye actores y mecanismos más diversos que hace un par de décadas. ¿Qué papel tienen las alianzas entre los países en desarrollo\, los acuerdos bilaterales con países desarrollados o las remesas de los migrantes en la economía y el desarrollo de los países receptores de cooperación? ¿Cómo ha cambiado la cooperación desde los años 80? \nPonentes: \nChema Caballero\, cooperante\, coordinador de la ONG DYES\, conocido por su trabajo con niños soldado en Sierra Leona.\nPepa Martínez\, directora de Lafede.cat\, federación de organizaciones catalanas por la justicia global. \nModeración: \nAdrià Bas\, periodista e impulsor del programa “Solidarios” de Catalunya Ràdio. \n  \n  \nEstas conferencias se hacen un lunes de cada mes y pretenden escuchar expertos y personas u organizaciones que actúan en relación con la realidad objeto de cada sesión. Todas las sesiones tienen lugar a las 19 h\, en la sede de Cristianismo y Justicia (C. Roger de Llúria\, 13). La entrada es libre y no hace falta inscripción previa. Retransmisión en directo a www.cristianismeijusticia.net/en-directe \nPara la edición 2017-2018 del ciclo\, hemos establecido una colaboración con el Grupo Vichy Catalán para apoyar el ciclo. Para ver todas las conferencias de este ciclo\, descárgate este documento.
URL:https://caritas.barcelona/es/agenda-caritas/del-07-a-la-justicia-global-passat-present-i-futur-de-la-cooperacio-al-desenvolupament/
LOCATION:Cristianisme i Justícia\, Roger de Llúria\, 13\, Barcelona\, Espanya\, 08010\, Espanya
ATTACH;FMTTYPE=image/jpeg:https://caritas.barcelona/wp-content/uploads/2017/09/dillluns-ddhh.jpg
GEO:41.3906452;2.1719173
X-APPLE-STRUCTURED-LOCATION;VALUE=URI;X-ADDRESS=Cristianisme i Justícia Roger de Llúria 13 Barcelona Espanya 08010 Espanya;X-APPLE-RADIUS=500;X-TITLE=Roger de Llúria\, 13:geo:2.1719173,41.3906452
END:VEVENT
BEGIN:VEVENT
DTSTART;TZID=Europe/Madrid:20180414T090000
DTEND;TZID=Europe/Madrid:20180414T190000
DTSTAMP:20260424T024945
CREATED:20180313T170028Z
LAST-MODIFIED:20180313T171449Z
UID:10001360-1523696400-1523732400@caritas.barcelona
SUMMARY:4o Encuentro de Càritas Catalunya
DESCRIPTION:Los cristianos estamos llamados a ser agentes de transformación de nuestra sociedad y por ello os animamos a todos\, personas voluntarias y contratadas de Cáritas\, a participar\, bajo el lema “Tu compromiso mejora el mundo”. \nEl 14 de abril\, en los Campos Elíseos de Lleida\, tendrá lugar el 4o Encuentro de Cáritas Cataluña. \nPrograma \n09: 00h Recepción participantes.\n10: 00h Oración.\n10: 15h Bienvenida institucional.\n10: 30h Ponencia: “Tú y mi compromiso mejora el mundo” a cargo de Mn. Ramon Prat. Presenta y modera Rafa Allepuz.\n11: 30h Desayuno.\n12: 15h Mesa Redonda: “Mi compromiso con la comunidad”. Desde diferentes experiencias vivenciales\, compartiremos visiones personales del compromiso.\n13: 00h Actividad lúdica con la actuación a cargo de la Cia Debelló i Trapeteleando.\n14: 30h Comida.\n16: 00h Visitas culturales y audiovisuales.\n17:30 Eucaristía y Clausura. \nInscripciones \nEl plazo máximo de inscripción es el 23 de marzo. Las plazas son limitadas y se atenderán por orden de inscripción. Importe: 12 € por persona (incluye la comida). Este importe se deberá pagar en las oficinas de Voluntariado de Cáritas Diocesana de Barcelona (Plaça Nova\, 1) en un horario de 9h a 14h. Una vez finalizado el período de inscripción\, en un plazo de 15 días cada inscrito recibirá la confirmación de la inscripción y la información del encuentro.
URL:https://caritas.barcelona/es/agenda-caritas/4a-trobada-de-caritas-catalunya/
LOCATION:Barcelona
ATTACH;FMTTYPE=image/png:https://caritas.barcelona/wp-content/uploads/2018/03/20161022_3a_TROBADA_CÀRITAS_CATALUNYA_@CÀRITASBCN-203.png
END:VEVENT
BEGIN:VEVENT
DTSTART;TZID=Europe/Madrid:20180418T183000
DTEND;TZID=Europe/Madrid:20180418T200000
DTSTAMP:20260424T024945
CREATED:20170825T080131Z
LAST-MODIFIED:20170907T120612Z
UID:10001207-1524076200-1524081600@caritas.barcelona
SUMMARY:Soledad a lo largo de la vida\, ¿espacio escogido o impuesto?
DESCRIPTION:Francesc Torralba\, filósofo\, teólogo y profesor de ética en la Universidad Ramon Llull\, explicará cómo se vive la soledad a lo largo de la vida. La sesión será en catalán. \nEsta ponencia\, la penúltima del 7º Ciclo de Reflexiones en torno al voluntariado\, tendrá lugar el 18 de abril a las 18.30h en el Aula Magna del Seminario Conciliar de Barcelona. Esta sesión es prioritariamente para voluntarios de Cáritas (aunque la entrada es libre\, es necesario inscribirse). Para voluntarios de otras entidades\, esperad confirmación. \n¡Apúntate a través del siguiente formulario a esta sesión! ¡Te esperamos!
URL:https://caritas.barcelona/es/agenda-caritas/soledat-al-llarg-de-la-vida-espai-escollit-o-imposat/
LOCATION:Seminari Conciliar de Barcelona\, Diputació\, 231\, Barcelona\, Barcelona\, 08007\, Espanya
ATTACH;FMTTYPE=image/jpeg:https://caritas.barcelona/wp-content/uploads/2017/08/Cicle_reflexions_voluntariat_aulamagna.jpg
ORGANIZER;CN="C%C3%A0ritas Barcelona":MAILTO:caritas@caritas.barcelona
GEO:41.3882329;2.1629603
X-APPLE-STRUCTURED-LOCATION;VALUE=URI;X-ADDRESS=Seminari Conciliar de Barcelona Diputació 231 Barcelona Barcelona 08007 Espanya;X-APPLE-RADIUS=500;X-TITLE=Diputació\, 231:geo:2.1629603,41.3882329
END:VEVENT
BEGIN:VEVENT
DTSTART;TZID=Europe/Madrid:20180422T080000
DTEND;TZID=Europe/Madrid:20180422T170000
DTSTAMP:20260424T024945
CREATED:20180403T103950Z
LAST-MODIFIED:20180403T104849Z
UID:10001364-1524384000-1524416400@caritas.barcelona
SUMMARY:Caminata solidaria en Mataró: hacemos deporte y ayudamos a Cáritas
DESCRIPTION:Cáritas Interparroquial de Mataró te invita a participar en la caminata solidaria a favor de la entidad \nCaminata solidaria: hacemos deporte\, convivencia\, disfrutamos de la naturaleza y ayudamos a Cáritas \nDOS MODALIDADES: (Salida: Parque Forestal de 8 h a 8\,30 h)\nCaminata corta: 12 km. con un desnivel positivo acumulado de 500 m.\nCaminata larga: 20 km. con un desnivel positivo acumulado de 950 m. \nINSCRIPCIONES: Unión Excursionista de Cataluña (c.Nou\, 29 08301-Mataró -93796 14 30 uecmataro@telefonica.net). Inscripción online: www.cronowin.com \nPRECIO *: Socios 10 € No socios 13 € -A la salida todo el mundo 16 € \n* 1 € de cada participante se destinará a Cáritas -También se pueden llevar alimentos a UEC o en la salida
URL:https://caritas.barcelona/es/agenda-caritas/caminata-solidaria-en-mataro-hacemos-deporte-y-ayudamos-a-caritas/
LOCATION:Barcelona
ATTACH;FMTTYPE=image/png:https://caritas.barcelona/wp-content/uploads/2018/04/marxa-mataro-sant-jordi-solidaria.png
END:VEVENT
BEGIN:VEVENT
DTSTART;TZID=Europe/Madrid:20180426T190000
DTEND;TZID=Europe/Madrid:20180426T203000
DTSTAMP:20260424T024945
CREATED:20180418T121449Z
LAST-MODIFIED:20180418T121913Z
UID:10001370-1524769200-1524774600@caritas.barcelona
SUMMARY:Presentación del libro 'El delito de ser pobre'
DESCRIPTION:Dentro de la programación de la semana de Sant Jordi\, la Escola Oberta acogerá la presentación del libro El delito de ser pobre. Una gestión neoliberal de la marginalidad. \nEl autor\, Albert Sales\, sociólogo y politólogo\, estará presente y participará en un debate con el público asistente. \nPodéis inscribiros al evento de manera gratuita enviando un correo electrónico a escola-oberta@caritasbcn.org o llamando al 670 48 29 70. ¡Os esperamos!
URL:https://caritas.barcelona/es/agenda-caritas/presentacion-del-libro-el-delito-de-ser-pobre/
LOCATION:Barcelona
ATTACH;FMTTYPE=image/png:https://caritas.barcelona/wp-content/uploads/2018/04/presentacio-llibres-caritas-barcelona.png
ORGANIZER;CN="C%C3%A0ritas Barcelona":MAILTO:caritas@caritas.barcelona
END:VEVENT
BEGIN:VEVENT
DTSTART;TZID=Europe/Madrid:20180427T193000
DTEND;TZID=Europe/Madrid:20180427T193000
DTSTAMP:20260424T024945
CREATED:20180420T121222Z
LAST-MODIFIED:20180420T121222Z
UID:10001375-1524857400-1524857400@caritas.barcelona
SUMMARY:Vigilia de oración con motivo del 1 de mayo
DESCRIPTION:Se acerca el 1 de Mayo\, ¡jornada importante para el mundo obrero! \nUna jornada de celebración y reivindicación por todas las personas trabajadoras. Como cada año\, queremos celebrar y reivindicar la realidad\, cada vez más precaria\, en el mundo del trabajo que está poniendo a muchas personas en una situación de vulnerabilidad. \nY lo haremos con una Vigilia de Oración\, organizada por la Delegación de Pastoral Obrera. Será el próximo viernes 27 de abril a las 19. 30h en la Iglesia de Santa Madrona.
URL:https://caritas.barcelona/es/agenda-caritas/vigilia-de-oracion-con-motivo-del-1-de-mayo/
LOCATION:Barcelona
ATTACH;FMTTYPE=image/jpeg:https://caritas.barcelona/wp-content/uploads/2017/06/vetlla-pregaria.jpg
END:VEVENT
BEGIN:VEVENT
DTSTART;TZID=Europe/Madrid:20180427T200000
DTEND;TZID=Europe/Madrid:20180427T213000
DTSTAMP:20260424T024945
CREATED:20180417T140212Z
LAST-MODIFIED:20180417T140212Z
UID:10001369-1524859200-1524864600@caritas.barcelona
SUMMARY:50 aniversario de la creación de Cáritas Interparroquial de Mataró
DESCRIPTION:Cáritas Interparroquial de Mataró celebra 50 años ayudando a la población más desvalida. \nLa inauguración de los actos del 50 aniversario serán en el Teatro Monumental de Mataró e incluirán: \n\nProyección de un vídeo de la evolución de Cáritas Interparroquial de Mataró\nParlamento de las autoridades\nConcierto del Cor Juvenil Rodamón -Directora: Gloria Prats\n\nEntrada libre. Plazas limitadas. ¡Ayúdanos a ayudar!
URL:https://caritas.barcelona/es/agenda-caritas/50-aniversario-de-la-creacion-de-caritas-interparroquial-de-mataro/
LOCATION:Barcelona
ATTACH;FMTTYPE=image/png:https://caritas.barcelona/wp-content/uploads/2017/11/Festa_Gent_Gran_Sagrada_Família.png
END:VEVENT
END:VCALENDAR