BEGIN:VCALENDAR
VERSION:2.0
PRODID:-//Caritas Barcelona - ECPv6.15.18//NONSGML v1.0//EN
CALSCALE:GREGORIAN
METHOD:PUBLISH
X-WR-CALNAME:Caritas Barcelona
X-ORIGINAL-URL:https://caritas.barcelona/es/
X-WR-CALDESC:Eventos para Caritas Barcelona
REFRESH-INTERVAL;VALUE=DURATION:PT1H
X-Robots-Tag:noindex
X-PUBLISHED-TTL:PT1H
BEGIN:VTIMEZONE
TZID:Europe/Madrid
BEGIN:DAYLIGHT
TZOFFSETFROM:+0100
TZOFFSETTO:+0200
TZNAME:CEST
DTSTART:20170326T010000
END:DAYLIGHT
BEGIN:STANDARD
TZOFFSETFROM:+0200
TZOFFSETTO:+0100
TZNAME:CET
DTSTART:20171029T010000
END:STANDARD
BEGIN:DAYLIGHT
TZOFFSETFROM:+0100
TZOFFSETTO:+0200
TZNAME:CEST
DTSTART:20180325T010000
END:DAYLIGHT
BEGIN:STANDARD
TZOFFSETFROM:+0200
TZOFFSETTO:+0100
TZNAME:CET
DTSTART:20181028T010000
END:STANDARD
BEGIN:DAYLIGHT
TZOFFSETFROM:+0100
TZOFFSETTO:+0200
TZNAME:CEST
DTSTART:20190331T010000
END:DAYLIGHT
BEGIN:STANDARD
TZOFFSETFROM:+0200
TZOFFSETTO:+0100
TZNAME:CET
DTSTART:20191027T010000
END:STANDARD
END:VTIMEZONE
BEGIN:VEVENT
DTSTART;TZID=Europe/Madrid:20180205T190000
DTEND;TZID=Europe/Madrid:20180205T203000
DTSTAMP:20260424T052601
CREATED:20170927T080426Z
LAST-MODIFIED:20170927T080623Z
UID:10001336-1517857200-1517862600@caritas.barcelona
SUMMARY:La pena de muerte hoy: Ejecuciones dentro y fuera la ley
DESCRIPTION:La pena de muerte aún es legal en muchos países y se ejecuta a miles de personas cada año. \n \nAsimismo\, muchos gobiernos\, incluyendo los democráticos\, recurren a menudo a prácticas de eliminación física extrajudicial de opositores o personas consideradas amenazas a la seguridad\, mediante acciones militares o de sus servicios de inteligencia. ¿Cuál es la realidad y evolución de la pena de muerte en el mundo y de los homicidios extrajudiciales? ¿Por qué entre los jóvenes se ha debilitado la posición contraria a la pena de muerte? ¿Cómo hay que transmitir los valores para favorecer una sociedad comprometida con su erradicación? \nPonentes: \nAdriana Ribas\, coordinadora de Amnistía Internacional de Cataluña.\nIrene de Puig\, impulsora del grupo IREF y del proyecto de filosofía 3-18. \n  \nModeración: \nPendiente de confirmación. \n  \nEstas conferencias se hacen un lunes de cada mes y pretenden escuchar expertos y personas u organizaciones que actúan en relación con la realidad objeto de cada sesión. Todas las sesiones tienen lugar a las 19 h\, en la sede de Cristianismo y Justicia (C. Roger de Llúria\, 13). La entrada es libre y no hace falta inscripción previa. Retransmisión en directo a www.cristianismeijusticia.net/en-directe \nPara la edición 2017-2018 del ciclo\, hemos establecido una colaboración con el Grupo Vichy Catalán para apoyar el ciclo. Para ver todas las conferencias de este ciclo\, descárgate este documento.
URL:https://caritas.barcelona/es/agenda-caritas/la-pena-de-mort-avui-execucions-dins-i-fora-la-llei/
LOCATION:Cristianisme i Justícia\, Roger de Llúria\, 13\, Barcelona\, Espanya\, 08010\, Espanya
ATTACH;FMTTYPE=image/jpeg:https://caritas.barcelona/wp-content/uploads/2017/09/dillluns-ddhh.jpg
GEO:41.3906452;2.1719173
X-APPLE-STRUCTURED-LOCATION;VALUE=URI;X-ADDRESS=Cristianisme i Justícia Roger de Llúria 13 Barcelona Espanya 08010 Espanya;X-APPLE-RADIUS=500;X-TITLE=Roger de Llúria\, 13:geo:2.1719173,41.3906452
END:VEVENT
BEGIN:VEVENT
DTSTART;TZID=Europe/Madrid:20180221T183000
DTEND;TZID=Europe/Madrid:20180221T200000
DTSTAMP:20260424T052601
CREATED:20170825T075115Z
LAST-MODIFIED:20170907T120440Z
UID:10001199-1519237800-1519243200@caritas.barcelona
SUMMARY:Los nombres del acompañamiento
DESCRIPTION:Elementos clave cuando acompañamos a personas \nEl jesuita Jaime Roig hablará\, en una nueva sesión del 7º Ciclo de Reflexiones entorno al voluntariado\, sobre los nombres del acompañamiento. La ponencia\, que será en catalán\, tendrá lugar el 21 de febrero a las 18.30h en la sala Sant Jordi del Seminario Conciliar de Barcelona. Previamente\, a las 17.30h\, se ofrecerá un espacio de reflexión\, meditación y silencio en la capilla. Esta sesión es prioritariamente para voluntarios de Cáritas (aunque la entrada es libre\, es necesario inscribirse). Para voluntarios de otras entidades\, esperad confirmación. \n¡Apúntate a través del siguiente formulario a esta sesión! ¡Te esperamos!
URL:https://caritas.barcelona/es/agenda-caritas/los-nombres-del-acompanamiento/
LOCATION:Seminari Conciliar de Barcelona\, Diputació\, 231\, Barcelona\, Barcelona\, 08007\, Espanya
ATTACH;FMTTYPE=image/jpeg:https://caritas.barcelona/wp-content/uploads/2017/08/Cicle_reflexions_voluntariat_2.jpg
ORGANIZER;CN="C%C3%A0ritas Barcelona":MAILTO:caritas@caritas.barcelona
GEO:41.3882329;2.1629603
X-APPLE-STRUCTURED-LOCATION;VALUE=URI;X-ADDRESS=Seminari Conciliar de Barcelona Diputació 231 Barcelona Barcelona 08007 Espanya;X-APPLE-RADIUS=500;X-TITLE=Diputació\, 231:geo:2.1629603,41.3882329
END:VEVENT
END:VCALENDAR