BEGIN:VCALENDAR
VERSION:2.0
PRODID:-//Caritas Barcelona - ECPv6.15.18//NONSGML v1.0//EN
CALSCALE:GREGORIAN
METHOD:PUBLISH
X-ORIGINAL-URL:https://caritas.barcelona
X-WR-CALDESC:Esdeveniments per Caritas Barcelona
REFRESH-INTERVAL;VALUE=DURATION:PT1H
X-Robots-Tag:noindex
X-PUBLISHED-TTL:PT1H
BEGIN:VTIMEZONE
TZID:Europe/Madrid
BEGIN:DAYLIGHT
TZOFFSETFROM:+0100
TZOFFSETTO:+0200
TZNAME:CEST
DTSTART:20250330T010000
END:DAYLIGHT
BEGIN:STANDARD
TZOFFSETFROM:+0200
TZOFFSETTO:+0100
TZNAME:CET
DTSTART:20251026T010000
END:STANDARD
BEGIN:DAYLIGHT
TZOFFSETFROM:+0100
TZOFFSETTO:+0200
TZNAME:CEST
DTSTART:20260329T010000
END:DAYLIGHT
BEGIN:STANDARD
TZOFFSETFROM:+0200
TZOFFSETTO:+0100
TZNAME:CET
DTSTART:20261025T010000
END:STANDARD
BEGIN:DAYLIGHT
TZOFFSETFROM:+0100
TZOFFSETTO:+0200
TZNAME:CEST
DTSTART:20270328T010000
END:DAYLIGHT
BEGIN:STANDARD
TZOFFSETFROM:+0200
TZOFFSETTO:+0100
TZNAME:CET
DTSTART:20271031T010000
END:STANDARD
END:VTIMEZONE
BEGIN:VEVENT
DTSTART;TZID=Europe/Madrid:20260121T093000
DTEND;TZID=Europe/Madrid:20260211T130000
DTSTAMP:20260422T175315
CREATED:20251103T163039Z
LAST-MODIFIED:20260217T174114Z
UID:10002148-1768987800-1770814800@caritas.barcelona
SUMMARY:CURS BÀSIC DE VOLUNTARIAT SOCIAL 2026.01_VOLSBAS01 - Durada 14 hores (4 sessions)
DESCRIPTION:Curs bàsic de voluntariat social \nPer comprendre i adquirir les competències bàsiques a l’hora d’iniciar-se en l’acció voluntària en una entitat social. \nA càrrec del professorat de l’Escola de formació del voluntariat de CDB. \nPersones destinatàries: persones amb sensibilitat social i que s’inicien o volen iniciar-se en el voluntariat en aquest àmbit. \nHorari: Curs de 14 hores impartit en 4 sessions de tres hores i mitja\, dimecres 21 i 28 de gener i 4 i 11 de febrer de 2026\, de 9.30 a 13.00 h. \nModalitat: PRESENCIAL \nCal inscripció prèvia. Places limitades. Persones interessades inscriviu-vos clicant en aquest\nFORMULARI D’INSCRIPCIÓ   \nCost d’inscripció: Gratuït per a persones que formen part de l’equip de Càritas. Aportació de 10€ per a la resta (les persones que no puguin assumir aquest cost\, poden sol·licitar exempció de pagament). \nCodi curs: 2026.01_VOLSBAS01 \nCurs reconegut pel Pla de Formació de l’Associacionsime i el Voluntariat de Catalunya (PFAVC) \nAmb el suport de   
URL:https://caritas.barcelona/agenda-caritas/curs-basic-de-voluntariat-social-2026-01_volsbas01-durada-14-hores-4-sessions/
LOCATION:Seminari Conciliar de Barcelona\, Diputació\, 231\, Barcelona\, Barcelona\, 08007\, Espanya
ATTACH;FMTTYPE=image/jpeg:https://caritas.barcelona/wp-content/uploads/2023/07/VOLSBAS_Proposta.jpg
ORGANIZER;CN="C%C3%A0ritas Barcelona":MAILTO:caritas@caritas.barcelona
GEO:41.3882329;2.1629603
X-APPLE-STRUCTURED-LOCATION;VALUE=URI;X-ADDRESS=Seminari Conciliar de Barcelona Diputació 231 Barcelona Barcelona 08007 Espanya;X-APPLE-RADIUS=500;X-TITLE=Diputació\, 231:geo:2.1629603,41.3882329
END:VEVENT
BEGIN:VEVENT
DTSTART;TZID=Europe/Madrid:20260128T160000
DTEND;TZID=Europe/Madrid:20260128T173000
DTSTAMP:20260422T175315
CREATED:20251217T173159Z
LAST-MODIFIED:20251217T173159Z
UID:10002169-1769616000-1769621400@caritas.barcelona
SUMMARY:SESSIÓ INFORMATIVA SOBRE VOLUNTARIAT - ACOMPANYAMENT A PERSONES GRANS -Format presencial- 28 de gener a les 16h (en català)
DESCRIPTION:Aquest és el primer pas per ser voluntari o voluntària de Càritas. Des del programa de Voluntariat\, organitzem sessions informatives periòdiques\, per a totes aquelles persones que vulguin ser voluntàries a la nostra institució. \nAquesta sessió s’impartirà en català\nSi vols apuntar-te a la sessió informativa per fer voluntariat als projectes d’acompanyament de persones grans de Càritas Barcelona\, inscriu-te a través del següent formulari\, indicant la SESSIÓ INFORMATIVA SOBRE VOLUNTARIAT – ACOMPANYAMENT A PERSONES GRANS: \nFes-te voluntari | Caritas Barcelona \nLloc: Plaça Nova\, 1\, Barcelona (08002)\n  \nEl programa de voluntariat de Càritas Barcelona compta amb el suport de la Generalitat de Catalunya.
URL:https://caritas.barcelona/agenda-caritas/sessio-informativa-sobre-voluntariat-acompanyament-a-persones-grans-format-presencial-28-de-gener-a-les-16h-en-catala/
LOCATION:Barcelona 1 – Districtes de Ciutat Vella\, Eixample i barri del Poble-sec\, Plaça Nova\, 1\, Barcelona\, Barcelona\, 08002\, Espanya
ATTACH;FMTTYPE=image/jpeg:https://caritas.barcelona/wp-content/uploads/2025/08/Fes-voluntariat_personesgrans.jpeg
ORGANIZER;CN="C%C3%A0ritas Barcelona":MAILTO:caritas@caritas.barcelona
GEO:41.3840277;2.1751608
X-APPLE-STRUCTURED-LOCATION;VALUE=URI;X-ADDRESS=Barcelona 1 – Districtes de Ciutat Vella Eixample i barri del Poble-sec Plaça Nova 1 Barcelona Barcelona 08002 Espanya;X-APPLE-RADIUS=500;X-TITLE=Plaça Nova\, 1:geo:2.1751608,41.3840277
END:VEVENT
BEGIN:VEVENT
DTSTART;TZID=Europe/Madrid:20260131T120000
DTEND;TZID=Europe/Madrid:20260131T140000
DTSTAMP:20260422T175315
CREATED:20260122T162804Z
LAST-MODIFIED:20260122T163102Z
UID:10002182-1769860800-1769868000@caritas.barcelona
SUMMARY:Flashmob “Conèixer per a estimar… construint un nou nosaltres”
DESCRIPTION:En el marc de la Jornada Mundial del Migrant i el Refugiat\, per quart any consecutiu\, les entitats de l’Església de Barcelona que treballem amb i per la població migrant organitzem un ampli ventall d’activitats del 31 de gener al 8 de febrer del 2026\, adreçades a donar visibilitat a la resposta per les diverses problemàtiques socials\, culturals i espirituals de la població migrada a casa nostra. \n \nFlashmob “Conèixer per a estimar… construint un nou nosaltres”\nActe inaugural de les IV Jornades per a la interacció entre cultures\, amb el cor de gòspel SOM COR BCN i una dinàmica comunitària sobre l’hospitalitat. \nDIA I HORA: 31 de gener a les 12h  \nLLOC: Plaça Espanyola (Hospitalet de Llobregat) \nPer a més informació CONSULTA TOTA LA PROGRAMACIÓ AQUÍ!
URL:https://caritas.barcelona/agenda-caritas/flashmob-coneixer-per-a-estimar-construint-un-nou-nosaltres/
LOCATION:Plaça Espanyola\, Plaça Espanyola\, 17\, Hospitalet de Llobregat\, Barcelona\, 08903\, Espanya
ATTACH;FMTTYPE=image/png:https://caritas.barcelona/wp-content/uploads/2026/01/Sin-titulo-10.png
END:VEVENT
BEGIN:VEVENT
DTSTART;TZID=Europe/Madrid:20260131T120000
DTEND;TZID=Europe/Madrid:20260208T200000
DTSTAMP:20260422T175315
CREATED:20260122T102650Z
LAST-MODIFIED:20260123T074918Z
UID:10002180-1769860800-1770580800@caritas.barcelona
SUMMARY:IV Jornada entre cultures de l’Església de Barcelona
DESCRIPTION:En el marc de la Jornada Mundial del Migrant i el Refugiat\, per quart any consecutiu\, les entitats de l’Església de Barcelona que treballem amb i per la població migrant organitzem un ampli ventall d’activitats adreçades a donar visibilitat a la resposta per les diverses problemàtiques socials\, culturals i espirituals de la població migrada a casa nostra. \n \n  \nDel 31 de gener al 8 de febrer del 2026 tindran lloc les “IV Jornades de l’Església de Barcelona per la interacció entre cultures”\, amb el lema “Conèixer per estimar. Construint un nou nosaltres”\, organitzades pel Secretariat Diocesà de Pastoral\, Càritas Diocesana de Barcelona\, Fundació Camins\, La Plataforma d’Entitats Cristianes amb les Persones Migrants (PECI) i Caminem junts en la diversitat. Us animem a participar de les diverses activitats organitzades. \nCONSULTA TOTA LA PROGRAMACIÓ AQUÍ!
URL:https://caritas.barcelona/agenda-caritas/iv-jornada-entre-cultures-de-lesglesia-de-barcelona/
LOCATION:Barcelona
ATTACH;FMTTYPE=image/png:https://caritas.barcelona/wp-content/uploads/2026/01/Sin-titulo-0.png
END:VEVENT
END:VCALENDAR