BEGIN:VCALENDAR
VERSION:2.0
PRODID:-//Caritas Barcelona - ECPv6.15.18//NONSGML v1.0//EN
CALSCALE:GREGORIAN
METHOD:PUBLISH
X-WR-CALNAME:Caritas Barcelona
X-ORIGINAL-URL:https://caritas.barcelona
X-WR-CALDESC:Esdeveniments per Caritas Barcelona
REFRESH-INTERVAL;VALUE=DURATION:PT1H
X-Robots-Tag:noindex
X-PUBLISHED-TTL:PT1H
BEGIN:VTIMEZONE
TZID:Europe/Madrid
BEGIN:DAYLIGHT
TZOFFSETFROM:+0100
TZOFFSETTO:+0200
TZNAME:CEST
DTSTART:20240331T010000
END:DAYLIGHT
BEGIN:STANDARD
TZOFFSETFROM:+0200
TZOFFSETTO:+0100
TZNAME:CET
DTSTART:20241027T010000
END:STANDARD
BEGIN:DAYLIGHT
TZOFFSETFROM:+0100
TZOFFSETTO:+0200
TZNAME:CEST
DTSTART:20250330T010000
END:DAYLIGHT
BEGIN:STANDARD
TZOFFSETFROM:+0200
TZOFFSETTO:+0100
TZNAME:CET
DTSTART:20251026T010000
END:STANDARD
BEGIN:DAYLIGHT
TZOFFSETFROM:+0100
TZOFFSETTO:+0200
TZNAME:CEST
DTSTART:20260329T010000
END:DAYLIGHT
BEGIN:STANDARD
TZOFFSETFROM:+0200
TZOFFSETTO:+0100
TZNAME:CET
DTSTART:20261025T010000
END:STANDARD
END:VTIMEZONE
BEGIN:VEVENT
DTSTART;TZID=Europe/Madrid:20251004T190000
DTEND;TZID=Europe/Madrid:20251004T200000
DTSTAMP:20260422T220219
CREATED:20250918T111347Z
LAST-MODIFIED:20250918T112346Z
UID:10002140-1759604400-1759608000@caritas.barcelona
SUMMARY:Vetlla de pregària davant del CIE
DESCRIPTION:Un any més ens aplegarem davant del CIE de la Zona Franca per denunciar la seva existència i mostrar la nostra solidaritat amb les persones allà internades.  \n  \nEn el marc de la Jornada Mundial del migrant i el refugiat que promou l’Església\, el 4 d’octubre a les 19 h celebrarem la 12a Vetlla de pregària davant del CIE de la Zona Franca\, sota el lema ‘Vides deshumanitzades’. Organitzat per Migra Studium amb el suport d’altres entitats\, l’acte serà senzill\, alhora que festiu i reivindicatiu on es compartirà paraula\, silenci i testimonis recollits durant les visites que fa l’equip de voluntaris. \nCal inscripció prèvia AQUÍ.
URL:https://caritas.barcelona/agenda-caritas/vetlla-de-pregaria-davant-del-cie/
LOCATION:CIE Zona Franca\, Carrer E\, 40\,\, Barcelona\, Barcelona\, 08040\, Espanya
ATTACH;FMTTYPE=image/jpeg:https://caritas.barcelona/wp-content/uploads/2025/09/CartellCIE2025.jpg
GEO:41.3272943;2.1258456
X-APPLE-STRUCTURED-LOCATION;VALUE=URI;X-ADDRESS=CIE Zona Franca Carrer E 40 Barcelona Barcelona 08040 Espanya;X-APPLE-RADIUS=500;X-TITLE=Carrer E\, 40\,:geo:2.1258456,41.3272943
END:VEVENT
BEGIN:VEVENT
DTSTART;TZID=Europe/Madrid:20251005T093000
DTEND;TZID=Europe/Madrid:20251005T173000
DTSTAMP:20260422T220219
CREATED:20250909T115128Z
LAST-MODIFIED:20251003T092837Z
UID:10002138-1759656600-1759685400@caritas.barcelona
SUMMARY:Jornada mundial del migrant i el refugiat
DESCRIPTION:El Sant Pare Lleó XIV ens convida a obrir els nostres cors i construir societats més acollidores i inclusives. \n \nEl proper diumenge\, 5 d’octubre\, celebrem la Jornada Mundial de les persones migrades i refugiades a L’Hospitalet de Llobregat\, amb un programa ple d’activitats obertes a tothom. Sota el lema ‘‘Migrants\, misioners d’esperança‘\, la jornada s’estructurarà de la següent manera: \nAl matí\, a la Parroquia de la Mare de Déu dels Desemparats (c/Mn Jaume Busquets\, 7) \n\n11 h – Acollida\n12h – Eucaristia\n14h – Dinar compartit\n\nA la tarda\, a la Parroquia de la Mare de Déu de la Llum (c/Enginyer Moncunill\, 41) \n\n16 h – Festa Intercultural\n17.30h – Pregària i comiat\n\nMissatge del Papa per la Jornada Mundial del migrant i refugiat aquí.
URL:https://caritas.barcelona/agenda-caritas/jornada-mundial-del-migrant-i-el-refugiat/
LOCATION:Barcelona
ATTACH;FMTTYPE=image/jpeg:https://caritas.barcelona/wp-content/uploads/2025/09/Cartell-jornada-generic-catala-1.jpeg
END:VEVENT
BEGIN:VEVENT
DTSTART;TZID=Europe/Madrid:20251006T170000
DTEND;TZID=Europe/Madrid:20251103T200000
DTSTAMP:20260422T220219
CREATED:20250704T072030Z
LAST-MODIFIED:20250724T092128Z
UID:10002120-1759770000-1762200000@caritas.barcelona
SUMMARY:CURS BÀSIC DE VOLUNTARIAT SOCIAL 2025.10_VOLSBAS07 - Durada 14 hores (5 sessions)
DESCRIPTION:Curs bàsic de voluntariat social \nPer comprendre i adquirir les competències bàsiques a l’hora d’iniciar-se en l’acció voluntària en una entitat social. \nA càrrec del professorat de l’Escola de formació del voluntariat de CDB. \nPersones destinatàries: persones amb sensibilitat social i que s’inicien o volen iniciar-se en el voluntariat en aquest àmbit. \nHorari: Curs de 14 hores impartit en 5 sessions de tres hores\, dilluns 6\, 13\, 20\, 27 d’octubre i 3 de novembre de 2025 de 17:00 a 20:00 h. \nModalitat: PRESENCIAL \nCal inscripció prèvia. Places limitades. Persones interessades inscriviu-vos clicant en aquest\nFORMULARI D’INSCRIPCIÓ   \nCost d’inscripció: Gratuït per a persones que formen part de l’equip de Càritas. Aportació de 10€ per a la resta (les persones que no puguin assumir aquest cost\, poden sol·licitar exempció de pagament). \nCodi curs: 2025.10_VOLSBAS07 \nCurs reconegut pel Pla de formació de l’associacionsime i el voluntariat de Catalunya (PFAVC) \nEl programa de voluntariat de Càritas Barcelona compta amb el suport de la Generalitat de Catalunya.
URL:https://caritas.barcelona/agenda-caritas/curs-basic-de-voluntariat-social-2025-09_volsbas07-durada-14-hores-4-sessions/
LOCATION:Seminari Conciliar de Barcelona\, Diputació\, 231\, Barcelona\, Barcelona\, 08007\, Espanya
ATTACH;FMTTYPE=image/jpeg:https://caritas.barcelona/wp-content/uploads/2023/07/VOLSBAS_Proposta.jpg
ORGANIZER;CN="C%C3%A0ritas Barcelona":MAILTO:caritas@caritas.barcelona
GEO:41.3882329;2.1629603
X-APPLE-STRUCTURED-LOCATION;VALUE=URI;X-ADDRESS=Seminari Conciliar de Barcelona Diputació 231 Barcelona Barcelona 08007 Espanya;X-APPLE-RADIUS=500;X-TITLE=Diputació\, 231:geo:2.1629603,41.3882329
END:VEVENT
BEGIN:VEVENT
DTSTART;TZID=Europe/Madrid:20251011T100000
DTEND;TZID=Europe/Madrid:20251011T140000
DTSTAMP:20260422T220219
CREATED:20251001T114247Z
LAST-MODIFIED:20251001T120528Z
UID:10002142-1760176800-1760191200@caritas.barcelona
SUMMARY:Mataró x Càritas 2025
DESCRIPTION:Vine a conèixer què fem a Mataró i al Maresme i gaudeix d’un matí d’activitats amb nosaltres! \n \nDIA: Dissabte 11 d’octubre de 2025 \nHORARI: de 10 a 14 h \nLLOC: Jardins de Can Cabanelles\, Mataró \nPROGRAMA:\n10:00h – Obertura de l’acte \n\nBenvinguda als assistents.\nInici de la mostra de projectes de Càritas Diocesana de Barcelona a Mataró.\nInici de la venda solidària de pastissos i coques (donació de pastisseries locals).\nInici de la mostra gastronòmica intercultural: tast de productes de diferents nacionalitats.\n\n10:00h a 12:00h – Tallers infantils \n\nActivitats lúdiques i creatives organitzades pel projecte Casal Obert.\nEspai dedicat als infants amb jocs\, manualitats i dinamització.\n\n11:00h a 12:00h – Gimcana “Els aliments que viatgem” \n\nActivitat participativa per a totes les edats.\nDinàmica sobre la interculturalitat i la diversitat alimentària.\n\n12:30h a 13:00h – Actuació musical \n\nConcert de l’Escola de Música Carrero amb la banda “OHIO BIG BANDA”.\nEspai de gaudi musical per a tots els públics.\n\n13:30h – Parlament del delegat episcopal de Càritas \n\nMissatge d’agraïment a totes les persones\, empreses i entitats col·laboradores.\nReconeixement especial a la tasca dels voluntaris que fan possible els projectes.\n\n14:00h – Cloenda de l’acte \n\nTancament de les activitats.\nAcomiadament i agraïment final.
URL:https://caritas.barcelona/agenda-caritas/mataro-x-caritas-2025/
LOCATION:Can Cabanelles\, Ronda d'Alfons X el savi\, 73\, Mataró\, 08304\, Espanya
ATTACH;FMTTYPE=image/jpeg:https://caritas.barcelona/wp-content/uploads/2025/10/GO_nqXvWAAAyjWe.jpg
END:VEVENT
BEGIN:VEVENT
DTSTART;TZID=Europe/Madrid:20251013T180000
DTEND;TZID=Europe/Madrid:20251013T193000
DTSTAMP:20260422T220219
CREATED:20250820T080509Z
LAST-MODIFIED:20250820T081350Z
UID:10002132-1760378400-1760383800@caritas.barcelona
SUMMARY:SESSIÓ INFORMATIVA SOBRE VOLUNTARIAT - JOVES 16 A 30 ANYS -Format presencial- 13 d'octubre a les 18h (en català)
DESCRIPTION:Aquest és el primer pas per ser voluntari o voluntària de Càritas. Des del programa de Voluntariat\, organitzem sessions informatives periòdiques\, per a totes aquelles persones que vulguin ser voluntàries a la nostra institució. \nAquesta sessió s’impartirà en català\nUneix-te a ‘Càritas Jove Barcelona’ i forma part d’un grup de joves amb ganes d’implicar-se i transformar la realitat. Si vols més informació\, participa de la sessió informativa. Inscriu-te a través del següent formulari\, indicant la SESSIÓ INFORMATIVA SOBRE VOLUNTARIAT – JOVES 16 A 30 ANYS: \nFes-te voluntari | Caritas Barcelona \nLloc: Plaça Nova\, 1\, Barcelona (08002)\n  \nEl programa de voluntariat de Càritas Barcelona compta amb el suport de la Generalitat de Catalunya.
URL:https://caritas.barcelona/agenda-caritas/sessio-informativa-sobre-voluntariat-joves-16-a-30-anys-format-presencial-13-doctubre-a-les-18h-en-catala/
LOCATION:Barcelona 1 – Districtes de Ciutat Vella\, Eixample i barri del Poble-sec\, Plaça Nova\, 1\, Barcelona\, Barcelona\, 08002\, Espanya
ATTACH;FMTTYPE=image/png:https://caritas.barcelona/wp-content/uploads/2025/08/Fes-voluntariat_caritasjove.png
ORGANIZER;CN="C%C3%A0ritas Barcelona":MAILTO:caritas@caritas.barcelona
GEO:41.3840277;2.1751608
X-APPLE-STRUCTURED-LOCATION;VALUE=URI;X-ADDRESS=Barcelona 1 – Districtes de Ciutat Vella Eixample i barri del Poble-sec Plaça Nova 1 Barcelona Barcelona 08002 Espanya;X-APPLE-RADIUS=500;X-TITLE=Plaça Nova\, 1:geo:2.1751608,41.3840277
END:VEVENT
BEGIN:VEVENT
DTSTART;TZID=Europe/Madrid:20251016T123000
DTEND;TZID=Europe/Madrid:20251016T140000
DTSTAMP:20260422T220219
CREATED:20250820T080719Z
LAST-MODIFIED:20250910T111810Z
UID:10002134-1760617800-1760623200@caritas.barcelona
SUMMARY:SESSIÓ INFORMATIVA SOBRE VOLUNTARIAT - GENERAL -Format presencial- 16 d'octubre a les 12:30h (en català)
DESCRIPTION:Aquest és el primer pas per ser voluntari o voluntària de Càritas. Des del programa de Voluntariat\, organitzem sessions informatives periòdiques\, per a totes aquelles persones que vulguin ser voluntàries a la nostra institució. \nAquesta sessió s’impartirà en català\nSi vols apuntar-te a una sessió informativa sobre el voluntariat a Càritas\, inscriu-te a través del següent formulari\, indicant la sessió a la qual vols assistir: \nFes-te voluntari | Caritas Barcelona \nLloc: Plaça Nova\, 1\, Barcelona (08002)\n  \nEl programa de voluntariat de Càritas Barcelona compta amb el suport de la Generalitat de Catalunya.
URL:https://caritas.barcelona/agenda-caritas/sessio-informativa-sobre-voluntariat-general-format-presencial-16-doctubre-a-les-1230h-en-catala/
LOCATION:Barcelona 1 – Districtes de Ciutat Vella\, Eixample i barri del Poble-sec\, Plaça Nova\, 1\, Barcelona\, Barcelona\, 08002\, Espanya
ATTACH;FMTTYPE=image/png:https://caritas.barcelona/wp-content/uploads/2025/08/Fes-voluntariat_generic.png
ORGANIZER;CN="C%C3%A0ritas Barcelona":MAILTO:caritas@caritas.barcelona
GEO:41.3840277;2.1751608
X-APPLE-STRUCTURED-LOCATION;VALUE=URI;X-ADDRESS=Barcelona 1 – Districtes de Ciutat Vella Eixample i barri del Poble-sec Plaça Nova 1 Barcelona Barcelona 08002 Espanya;X-APPLE-RADIUS=500;X-TITLE=Plaça Nova\, 1:geo:2.1751608,41.3840277
END:VEVENT
BEGIN:VEVENT
DTSTART;TZID=Europe/Madrid:20251019T110000
DTEND;TZID=Europe/Madrid:20251019T190000
DTSTAMP:20260422T220219
CREATED:20251013T115425Z
LAST-MODIFIED:20251013T115425Z
UID:10002144-1760871600-1760900400@caritas.barcelona
SUMMARY:Trobada BCN Ciutat Diversa
DESCRIPTION:Càritas Barcelona organitzem\, en el marc de la Trobada BCN Ciutat Diversa\, la Gimcana dels aliments de la nostra ciutat\, una activitat per conèixer la diversitat de Barcelona a través de la seva gastronomia. \n \nEl Consell Municipal d’Immigració de Barcelona (CMIB) i les entitats que el componen celebren una nova edició de la Trobada BCN Ciutat Diversa\, que aquest any tindrà com a tema central la “Salut i benestar emocional”. Aquest diumenge 19 d’octubre\, al Passeig de Lluís Companys (Arc de Triomf)\, us convidem a assistir-hi a una jornada plena d’activitats\, tallers\, exposicions\, jocs\,… per a tota la família. Trobareu també un set de ràdio de la xarxa de ràdios comunitàries de Barcelona i diversos col·loquis sobre migració\, antiracisme i salut i benestar emocional en clau intercultural. \nA més\, us animem a assistir a la “Gimcana dels aliments de la nostra ciutat” (16:00 – 17:00 h)\, activitat organitzada per Càritas Barcelona on podreu conèixer i gaudir de la diversitat de la nostra ciutat a través de la seva gastronomia: una oportunitat per compartir els sabors\, històries i tradicions que ens connecten amb les diferents comunitats de la nostra ciutat.
URL:https://caritas.barcelona/agenda-caritas/trobada-bcn-ciutat-diversa-5/
LOCATION:Passeig de Lluís Companys\, Passeig de Lluís Companys\, Barcelona\, Barcelona\, 08003\, Espanya
ATTACH;FMTTYPE=image/jpeg:https://caritas.barcelona/wp-content/uploads/2025/10/54195167786_633ddaab46_k.jpg
GEO:41.3899675;2.1813332
X-APPLE-STRUCTURED-LOCATION;VALUE=URI;X-ADDRESS=Passeig de Lluís Companys Passeig de Lluís Companys Barcelona Barcelona 08003 Espanya;X-APPLE-RADIUS=500;X-TITLE=Passeig de Lluís Companys:geo:2.1813332,41.3899675
END:VEVENT
BEGIN:VEVENT
DTSTART;TZID=Europe/Madrid:20251029T163000
DTEND;TZID=Europe/Madrid:20251029T180000
DTSTAMP:20260422T220219
CREATED:20250820T081027Z
LAST-MODIFIED:20251217T095853Z
UID:10002136-1761755400-1761760800@caritas.barcelona
SUMMARY:SESSIÓ INFORMATIVA SOBRE VOLUNTARIAT - GENERAL -Format virtual- 29 d'octubre a les 16.30hs (en castellà)
DESCRIPTION:Aquest és el primer pas per ser voluntari o voluntària de Càritas. Des del programa de Voluntariat\, organitzem sessions informatives periòdiques\, per a totes aquelles persones que vulguin ser voluntàries a la nostra institució.  \nAquesta sessió s’impartirà en castellà\nSi vols apuntar-te a una sessió informativa sobre el voluntariat a Càritas\, inscriu-te a través del següent formulari\, indicant la sessió a la qual vols assistir: \nFes-te voluntari | Caritas Barcelona \n  \nEl programa de voluntariat de Càritas Barcelona compta amb el suport de la Generalitat de Catalunya.
URL:https://caritas.barcelona/agenda-caritas/sessio-informativa-sobre-voluntariat-general-format-virtual-29-doctubre-a-les-16-30hs-en-castella/
LOCATION:Barcelona
ATTACH;FMTTYPE=image/png:https://caritas.barcelona/wp-content/uploads/2025/08/Fes-voluntariat_generic.png
ORGANIZER;CN="C%C3%A0ritas Barcelona":MAILTO:caritas@caritas.barcelona
END:VEVENT
END:VCALENDAR