BEGIN:VCALENDAR
VERSION:2.0
PRODID:-//Caritas Barcelona - ECPv6.15.18//NONSGML v1.0//EN
CALSCALE:GREGORIAN
METHOD:PUBLISH
X-WR-CALNAME:Caritas Barcelona
X-ORIGINAL-URL:https://caritas.barcelona
X-WR-CALDESC:Esdeveniments per Caritas Barcelona
REFRESH-INTERVAL;VALUE=DURATION:PT1H
X-Robots-Tag:noindex
X-PUBLISHED-TTL:PT1H
BEGIN:VTIMEZONE
TZID:Europe/Madrid
BEGIN:DAYLIGHT
TZOFFSETFROM:+0100
TZOFFSETTO:+0200
TZNAME:CEST
DTSTART:20240331T010000
END:DAYLIGHT
BEGIN:STANDARD
TZOFFSETFROM:+0200
TZOFFSETTO:+0100
TZNAME:CET
DTSTART:20241027T010000
END:STANDARD
BEGIN:DAYLIGHT
TZOFFSETFROM:+0100
TZOFFSETTO:+0200
TZNAME:CEST
DTSTART:20250330T010000
END:DAYLIGHT
BEGIN:STANDARD
TZOFFSETFROM:+0200
TZOFFSETTO:+0100
TZNAME:CET
DTSTART:20251026T010000
END:STANDARD
BEGIN:DAYLIGHT
TZOFFSETFROM:+0100
TZOFFSETTO:+0200
TZNAME:CEST
DTSTART:20260329T010000
END:DAYLIGHT
BEGIN:STANDARD
TZOFFSETFROM:+0200
TZOFFSETTO:+0100
TZNAME:CET
DTSTART:20261025T010000
END:STANDARD
END:VTIMEZONE
BEGIN:VEVENT
DTSTART;TZID=Europe/Madrid:20250121T170000
DTEND;TZID=Europe/Madrid:20250218T200000
DTSTAMP:20260423T083338
CREATED:20241120T092111Z
LAST-MODIFIED:20241120T092536Z
UID:10002067-1737478800-1739908800@caritas.barcelona
SUMMARY:CURS BÀSIC DE VOLUNTARIAT SOCIAL 2025.01_VOLSBAS01 - Durada 14 hores (5 sessions)
DESCRIPTION:Curs bàsic de voluntariat social \nPer comprendre i adquirir les competències bàsiques a l’hora d’iniciar-se en l’acció voluntària en una entitat social. \nA càrrec del professorat de l’Escola de formació del voluntariat de CDB. \nPersones destinatàries: persones amb sensibilitat social i que s’inicien o volen iniciar-se en el voluntariat en aquest àmbit. \nHorari: Curs de 14 hores impartit en 5 sessions de tres hores\, dimarts 21 i 28 de gener i 4\, 11 i 18 de febrer del 2025\, de 17.00 a 20.00 h. \nModalitat: PRESENCIAL \nCal inscripció prèvia. Places limitades. Persones interessades inscriviu-vos clicant en aquest\nFORMULARI D’INSCRIPCIÓ   \nCost d’inscripció: Aportació de 10€. Per a les persones que ja formen part de l’equip de voluntariat de Càritas\, aquesta aportació és totalment lliure i voluntària. (Les persones que no puguin assumir aquest cost\, poden sol·licitar exempció del pagament). \nCodi curs: 2025.01_VOLSBAS01 \nCurs reconegut pel Pla de formació de l’associacionsime i el voluntariat de Catalunya (PFAVC) \nEl programa de voluntariat de Càritas Barcelona compta amb el suport de la Generalitat de Catalunya.
URL:https://caritas.barcelona/agenda-caritas/curs-basic-de-voluntariat-social-2025-01_volsbas01-durada-14-hores-5-sessions/
LOCATION:Seminari Conciliar de Barcelona\, Diputació\, 231\, Barcelona\, Barcelona\, 08007\, Espanya
ATTACH;FMTTYPE=image/jpeg:https://caritas.barcelona/wp-content/uploads/2023/07/VOLSBAS_Proposta.jpg
ORGANIZER;CN="C%C3%A0ritas Barcelona":MAILTO:caritas@caritas.barcelona
GEO:41.3882329;2.1629603
X-APPLE-STRUCTURED-LOCATION;VALUE=URI;X-ADDRESS=Seminari Conciliar de Barcelona Diputació 231 Barcelona Barcelona 08007 Espanya;X-APPLE-RADIUS=500;X-TITLE=Diputació\, 231:geo:2.1629603,41.3882329
END:VEVENT
BEGIN:VEVENT
DTSTART;TZID=Europe/Madrid:20250204T090000
DTEND;TZID=Europe/Madrid:20250204T111000
DTSTAMP:20260423T083338
CREATED:20241220T191435Z
LAST-MODIFIED:20250124T164705Z
UID:10002074-1738659600-1738667400@caritas.barcelona
SUMMARY:Presentació de l'informe 'Exclusió compartida. Viure en una habitació en un context d'exclusió residencial i social'
DESCRIPTION:La publicació analitza els reptes i dificultats d’accés i manteniment d’un habitatge digne\, amb les que es troben\, especialment\, les persones en situació d’exclusió social; i ofereix propostes per ajudar a orientar de manera més efectiva les accions que han de dur a terme les administracions públiques\, les empreses\, les entitats i la ciutadania en general. \n \nDes del Observatori de la Realitat Social de Càritas Diocesana de Barcelona i l’Observatori d’Habitatge Digne de l’Institut d’Innovació Social (Esade) et convidem a participar en la presentació del nostre informe sobre els lloguers i sublloguers d’habitacions en un context d’exclusió residencial i social a Catalunya\, un fenomen que afecta de manera alarmant a cada vegada més persones en situació de vulnerabilitat. \nL’acte tindrà lloc el dimarts 4 de febrer de 9h a 11.10h a Esade Campus Barcelona (edifi I). \nPROGRAMA:\n• 8.30 h – 8.55 h Recepció d’assistents.\n• 9.00 h – 9.05 h Benvinguda a càrrec d’Ignasi Martí\, director de l’Institut d’Innovació Social i de l’Observatori de l’Habitatge Digne d’Esade.\n• 9.05 h – 9.50 h Presentació de l’estudi per part de Guillermo Oteros\, tècnic d’Anàlisi Social i Incidència de Càritas Diocesana de Barcelona i Raluca Budian\, directora associada i investigadora de l’Observatori de l’Habitatge Digne de Esade.\n• 9.50 h – 10.35 h Taula Rodona amb dos testimonis\, la Sonia i la Katherine\, i la seva treballadora social de referència de Càritas Diocesana de Barcelona\, Maria Ferrández. Modera: Sonia Lacalle\, cap d’Assessoria Jurídica Social de Càritas Diocesana de Barcelona.\n• 10.35 h – 10.40 h Cloenda a càrrec d’Eduard Sala\, director de Càritas Diocesana de Barcelona.\n• 10.40 h – 11.10 h Cafè i networking. \nIncripcions: AQUÍ
URL:https://caritas.barcelona/agenda-caritas/presentacio-de-lestudi-exclusio-compartida/
LOCATION:Esade Campus Barcelona\, Av. de Pedralbes\, 60\, 62\, Les Corts\, Barcelona\, Barcelona\, 08034\, Espanya
ATTACH;FMTTYPE=image/png:https://caritas.barcelona/wp-content/uploads/2024/12/ex9q4v1o.png
ORGANIZER;CN="C%C3%A0ritas Barcelona":MAILTO:caritas@caritas.barcelona
GEO:41.3938081;2.114669
X-APPLE-STRUCTURED-LOCATION;VALUE=URI;X-ADDRESS=Esade Campus Barcelona Av. de Pedralbes 60 62 Les Corts Barcelona Barcelona 08034 Espanya;X-APPLE-RADIUS=500;X-TITLE=Av. de Pedralbes\, 60\, 62\, Les Corts:geo:2.114669,41.3938081
END:VEVENT
BEGIN:VEVENT
DTSTART;TZID=Europe/Madrid:20250212T160000
DTEND;TZID=Europe/Madrid:20250212T173000
DTSTAMP:20260423T083338
CREATED:20250110T105311Z
LAST-MODIFIED:20250228T122101Z
UID:10002076-1739376000-1739381400@caritas.barcelona
SUMMARY:SESSIÓ INFORMATIVA SOBRE VOLUNTARIAT-Format presencial-12 de febrer a les 16h (en castellà)
DESCRIPTION:Aquest és el primer pas per ser voluntari o voluntària de Càritas. Des del programa de Voluntariat\, organitzem sessions informatives periòdiques\, per a totes aquelles persones que vulguin ser voluntàries a la nostra institució. \nAquesta sessió s’impartirà en castellà\nSi vols apuntar-te a una sessió informativa sobre el voluntariat a Càritas\, inscriu-te a través del següent formulari\, indicant la sessió a la qual vols assistir: \nFes-te voluntari | Caritas Barcelona \nLloc: Seminari Conciliar de Barcelona. C/ de la Diputació\, 231\, Barcelona (08007)\n  \nEl programa de voluntariat de Càritas Barcelona compta amb el suport de la Generalitat de Catalunya.
URL:https://caritas.barcelona/agenda-caritas/sessio-informativa-sobre-voluntariat-format-presencial-12-de-febrer-a-les-16h-en-castella/
LOCATION:Seminari Conciliar de Barcelona\, Diputació\, 231\, Barcelona\, Barcelona\, 08007\, Espanya
ATTACH;FMTTYPE=image/jpeg:https://caritas.barcelona/wp-content/uploads/2020/06/header-rrhh.jpg
ORGANIZER;CN="C%C3%A0ritas Barcelona":MAILTO:caritas@caritas.barcelona
GEO:41.3882329;2.1629603
X-APPLE-STRUCTURED-LOCATION;VALUE=URI;X-ADDRESS=Seminari Conciliar de Barcelona Diputació 231 Barcelona Barcelona 08007 Espanya;X-APPLE-RADIUS=500;X-TITLE=Diputació\, 231:geo:2.1629603,41.3882329
END:VEVENT
BEGIN:VEVENT
DTSTART;TZID=Europe/Madrid:20250215T100000
DTEND;TZID=Europe/Madrid:20250223T170000
DTSTAMP:20260423T083338
CREATED:20250131T084650Z
LAST-MODIFIED:20250131T084922Z
UID:10002086-1739613600-1740330000@caritas.barcelona
SUMMARY:III Jornades de l’Església de Barcelona per la interacció entre cultures
DESCRIPTION:En el marc de la Jornada Mundial del Migrant i el Refugiat\, per tercer any consecutiu\, les entitats de l’Església de Barcelona que treballem amb i per a la població migrant organitzem un ampli ventall d’activitats adreçades a visibilitzar la resposta a les diverses problemàtiques socials\, culturals i espirituals de la població migrada a casa nostra. \n \nDel 15 al 23 de febrer de 2025 tindran lloc les III Jornades de l’Església de Barcelona per la interacció entre cultures ‘Teixim Comunitats Acollidores. Construint un nou nosaltres‘\, organitzades pel Secretariat Diocesà de Pastoral i Càritas Diocesana de Barcelona. Us animem a participar de les diverses activitats organitzades: \n\nFlashmob ‘Teixim Comunitats Acollidores’: Acte inaugural de les Jornades amb l’elaboració d’un telar de grans dimensions. Durant la realització de l’obra\, dirigida per un artista\, s’oferiran activitats diverses.\n\n                   Dia i hora: 15/02/2025 (10h) \n                   Lloc: Plaça Nova\, 1 (davant del Palau Episcopal) \n  \n\nTaula Rodona ‘Comunitats acollidores i missioneres’: Presentació del document ‘Comunitats acollidores i Missioneres’\, emès per la Conferència Episcopal i bones pràctiques\, i col·loqui posterior.\n\n                   Dia i hora: 18/02/2025 (19h) \n                   Lloc:  Parròquia de Santa Anna (C. Santa Anna\, 29) \n  \n\nMissa intercultural: A càrrec de diferents comunitats d’origen estranger de  l’Església de Barcelona.                                                                  \n\n                   Dia i hora: 23/02/2025 (17h) \n                   Lloc: Basílica de Santa Maria del Mar (plaça de Santa Maria\, 1) \n  \nI moltes altres activitats! \nCONSULTA TOTA LA PROGRAMACIÓ AQUÍ!
URL:https://caritas.barcelona/agenda-caritas/iii-jornades-de-lesglesia-de-barcelona-per-la-interaccio-entre-cultures/
LOCATION:Barcelona
ATTACH;FMTTYPE=image/jpeg:https://caritas.barcelona/wp-content/uploads/2025/01/AAFF_CARTELL_MIGRACIO_041224-scaled.jpg
END:VEVENT
BEGIN:VEVENT
DTSTART;TZID=Europe/Madrid:20250219T100000
DTEND;TZID=Europe/Madrid:20250219T120000
DTSTAMP:20260423T083338
CREATED:20250131T121835Z
LAST-MODIFIED:20250212T094603Z
UID:10002088-1739959200-1739966400@caritas.barcelona
SUMMARY:SESSIÓ INFORMATIVA SOBRE VOLUNTARIAT AMB PERSONES GRANS-Format presencial-19 de febrer a les 10h (en català)
DESCRIPTION:Aquest és el primer pas per ser voluntari o voluntària de Càritas. Des del programa de Voluntariat\, organitzem sessions informatives periòdiques\, per a totes aquelles persones que vulguin ser voluntàries a la nostra institució. \nAquesta sessió s’impartirà en català\nSi vols apuntar-te a la sessió informativa per fer voluntariat als projectes d’acompanyament a persones grans de Càritas\, inscriu-te a través del següent formulari\, indicant la SESSIÓ INFORMATIVA SOBRE VOLUNTARIAT AMB PERSONES GRANS: \nFes-te voluntari | Caritas Barcelona \nLloc: Plaça Nova\, 1\, Barcelona (08002)\n  \nEl programa de voluntariat de Càritas Barcelona compta amb el suport de la Generalitat de Catalunya.
URL:https://caritas.barcelona/agenda-caritas/sessio-informativa-sobre-voluntariat-amb-persones-grans-format-presencial-19-de-febrer-a-les-10h-en-catala/
LOCATION:Barcelona 1 – Districtes de Ciutat Vella\, Eixample i barri del Poble-sec\, Plaça Nova\, 1\, Barcelona\, Barcelona\, 08002\, Espanya
ATTACH;FMTTYPE=image/jpeg:https://caritas.barcelona/wp-content/uploads/2025/01/acompanyament.jpg
ORGANIZER;CN="C%C3%A0ritas Barcelona":MAILTO:caritas@caritas.barcelona
GEO:41.3840277;2.1751608
X-APPLE-STRUCTURED-LOCATION;VALUE=URI;X-ADDRESS=Barcelona 1 – Districtes de Ciutat Vella Eixample i barri del Poble-sec Plaça Nova 1 Barcelona Barcelona 08002 Espanya;X-APPLE-RADIUS=500;X-TITLE=Plaça Nova\, 1:geo:2.1751608,41.3840277
END:VEVENT
BEGIN:VEVENT
DTSTART;TZID=Europe/Madrid:20250219T173000
DTEND;TZID=Europe/Madrid:20250219T193000
DTSTAMP:20260423T083338
CREATED:20250129T091414Z
LAST-MODIFIED:20250129T091414Z
UID:10002084-1739986200-1739993400@caritas.barcelona
SUMMARY:14è Cicle de reflexions - Acollir i acompanyar a la mobilitat humana des de la Comunitat Bones pràctiques als espais comunitaris de de CDB
DESCRIPTION:A càrrec de membres implicats en diversos projectes a l’Espai polivalent de l’Hospitalet de Llobregat\, l’Espai Polivalent de Santa Maria Magdalena i Projectes del barri de Torre Baró. \n  \nSessió adreçada a tot l’equip humà de CDB \nData: Dimecres 19 de febrer de 17.30 a 19.30 h \nLloc: Plaça Nova\, núm. 1 \nCal inscripció prèvia a través d’aquest FORMULARI \n  \nAquesta convocatòria del Cicle forma part de de les III Jornades de l’Església de Barcelona per la interacció entre cultures: teixint comunitat acollidores.
URL:https://caritas.barcelona/agenda-caritas/14e-cicle-de-reflexions-acollir-i-acompanyar-a-la-mobilitat-humana-des-de-la-comunitat-bones-practiques-als-espais-comunitaris-de-de-cdb/
LOCATION:Barcelona 1 – Districtes de Ciutat Vella\, Eixample i barri del Poble-sec\, Plaça Nova\, 1\, Barcelona\, Barcelona\, 08002\, Espanya
ATTACH;FMTTYPE=image/png:https://caritas.barcelona/wp-content/uploads/2025/01/cicle.png
ORGANIZER;CN="C%C3%A0ritas Barcelona":MAILTO:caritas@caritas.barcelona
GEO:41.3840277;2.1751608
X-APPLE-STRUCTURED-LOCATION;VALUE=URI;X-ADDRESS=Barcelona 1 – Districtes de Ciutat Vella Eixample i barri del Poble-sec Plaça Nova 1 Barcelona Barcelona 08002 Espanya;X-APPLE-RADIUS=500;X-TITLE=Plaça Nova\, 1:geo:2.1751608,41.3840277
END:VEVENT
BEGIN:VEVENT
DTSTART;TZID=Europe/Madrid:20250226T160000
DTEND;TZID=Europe/Madrid:20250226T180000
DTSTAMP:20260423T083338
CREATED:20250131T122721Z
LAST-MODIFIED:20250212T094503Z
UID:10002090-1740585600-1740592800@caritas.barcelona
SUMMARY:SESSIÓ INFORMATIVA SOBRE VOLUNTARIAT DE REFORÇOS EDUCATIUS-Format presencial-26 de febrer a les 16h (en català)
DESCRIPTION:Aquest és el primer pas per ser voluntari o voluntària de Càritas. Des del programa de Voluntariat\, organitzem sessions informatives periòdiques\, per a totes aquelles persones que vulguin ser voluntàries a la nostra institució. \nAquesta sessió s’impartirà en català\nSi vols apuntar-te a la sessió informativa per fer voluntariat als projectes reforços educatius de Càritas\, inscriu-te a través del següent formulari\, indicant la SESSIÓ INFORMATIVA SOBRE VOLUNTARIAT DE REFORÇOS EDUCATIUS: \nFes-te voluntari | Caritas Barcelona \nLloc: Plaça Nova\, 1\, Barcelona (08002)\n  \nEl programa de voluntariat de Càritas Barcelona compta amb el suport de la Generalitat de Catalunya.
URL:https://caritas.barcelona/agenda-caritas/sessio-informativa-sobre-voluntariat-de-reforcos-educatius-format-presencial-26-de-febrer-a-les-16h-en-catala/
LOCATION:Barcelona 1 – Districtes de Ciutat Vella\, Eixample i barri del Poble-sec\, Plaça Nova\, 1\, Barcelona\, Barcelona\, 08002\, Espanya
ATTACH;FMTTYPE=image/jpeg:https://caritas.barcelona/wp-content/uploads/2025/01/reforc-eductivo.jpg
ORGANIZER;CN="C%C3%A0ritas Barcelona":MAILTO:caritas@caritas.barcelona
GEO:41.3840277;2.1751608
X-APPLE-STRUCTURED-LOCATION;VALUE=URI;X-ADDRESS=Barcelona 1 – Districtes de Ciutat Vella Eixample i barri del Poble-sec Plaça Nova 1 Barcelona Barcelona 08002 Espanya;X-APPLE-RADIUS=500;X-TITLE=Plaça Nova\, 1:geo:2.1751608,41.3840277
END:VEVENT
END:VCALENDAR