BEGIN:VCALENDAR
VERSION:2.0
PRODID:-//Caritas Barcelona - ECPv6.15.18//NONSGML v1.0//EN
CALSCALE:GREGORIAN
METHOD:PUBLISH
X-WR-CALNAME:Caritas Barcelona
X-ORIGINAL-URL:https://caritas.barcelona
X-WR-CALDESC:Esdeveniments per Caritas Barcelona
REFRESH-INTERVAL;VALUE=DURATION:PT1H
X-Robots-Tag:noindex
X-PUBLISHED-TTL:PT1H
BEGIN:VTIMEZONE
TZID:Europe/Madrid
BEGIN:DAYLIGHT
TZOFFSETFROM:+0100
TZOFFSETTO:+0200
TZNAME:CEST
DTSTART:20230326T010000
END:DAYLIGHT
BEGIN:STANDARD
TZOFFSETFROM:+0200
TZOFFSETTO:+0100
TZNAME:CET
DTSTART:20231029T010000
END:STANDARD
BEGIN:DAYLIGHT
TZOFFSETFROM:+0100
TZOFFSETTO:+0200
TZNAME:CEST
DTSTART:20240331T010000
END:DAYLIGHT
BEGIN:STANDARD
TZOFFSETFROM:+0200
TZOFFSETTO:+0100
TZNAME:CET
DTSTART:20241027T010000
END:STANDARD
BEGIN:DAYLIGHT
TZOFFSETFROM:+0100
TZOFFSETTO:+0200
TZNAME:CEST
DTSTART:20250330T010000
END:DAYLIGHT
BEGIN:STANDARD
TZOFFSETFROM:+0200
TZOFFSETTO:+0100
TZNAME:CET
DTSTART:20251026T010000
END:STANDARD
END:VTIMEZONE
BEGIN:VEVENT
DTSTART;VALUE=DATE:20240902
DTEND;VALUE=DATE:20241103
DTSTAMP:20260423T133738
CREATED:20241114T193022Z
LAST-MODIFIED:20241114T193022Z
UID:10002050-1725235200-1730591999@caritas.barcelona
SUMMARY:Concurs fotogràfic ‘Sense Claus’
DESCRIPTION:Càritas Barcelona organitza el primer concurs fotogràfic ‘Sense Claus’ sobre el sensellarisme obert a totes les persones participants dels nostres projectes majors de 16 anys. \nAquest certamen s’organitza amb l’objectiu de visibilitzar en primera persona què suposa i què se sent en viure una situació d’exclusió residencial\, conscients que una imatge val més que mil paraules. \nSi participes en algun dels nostres projectes i tens més de 16 anys\, t’animem a participar del concurs! T’esperen tres fantàstics premis! A més\, les 30 millors fotografies s’exposaran al Casal de barri del Pou de la Figuera. \n \n 
URL:https://caritas.barcelona/agenda-caritas/concurs-fotografic-sense-claus-2/
LOCATION:Barcelona
ATTACH;FMTTYPE=image/png:https://caritas.barcelona/wp-content/uploads/2024/11/giglulfj.png
ORGANIZER;CN="C%C3%A0ritas Barcelona":MAILTO:caritas@caritas.barcelona
END:VEVENT
BEGIN:VEVENT
DTSTART;TZID=Europe/Madrid:20240918T093000
DTEND;TZID=Europe/Madrid:20241009T130000
DTSTAMP:20260423T133738
CREATED:20240807T064755Z
LAST-MODIFIED:20240807T064755Z
UID:10002027-1726651800-1728478800@caritas.barcelona
SUMMARY:CURS BÀSIC DE VOLUNTARIAT SOCIAL 2024.09_VOLSBAS07 - Durada 14 hores (4 sessions)
DESCRIPTION:Curs bàsic de voluntariat social \nPer comprendre i adquirir les competències bàsiques a l’hora d’iniciar-se en l’acció voluntària en una entitat social. \nA càrrec del professorat de l’Escola de formació del voluntariat de CDB. \nPersones destinatàries: persones amb sensibilitat social i que s’inicien o volen iniciar-se en el voluntariat en aquest àmbit. \nHorari: Curs de 14 hores impartit en 4 sessions de quatre hores\, dimecres 18 i 25 de setembre i 2 i 9 d’octubre\, de 9.30 a 13.00 h. \nModalitat: PRESENCIAL \nCal inscripció prèvia. Places limitades. Persones interessades inscriviu-vos clicant en aquest\nFORMULARI D’INSCRIPCIÓ   \nCost d’inscripció: Aportació de 10€. Per a les persones que ja formen part de l’equip de voluntariat de Càritas\, aquesta aportació és totalment lliure i voluntària. (Les persones que no puguin assumir aquest cost\, poden sol·licitar exempció del pagament). \nCodi curs: 2024.09_VOLSBAS07 \nCurs reconegut pel Pla de formació de l’associacionsime i el voluntariat de Catalunya (PFAVC) \nEl programa de voluntariat de Càritas Barcelona compta amb el suport de la Generalitat de Catalunya.
URL:https://caritas.barcelona/agenda-caritas/curs-basic-de-voluntariat-social-2024-09_volsbas07-durada-14-hores-4-sessions/
LOCATION:Seminari Conciliar de Barcelona\, Diputació\, 231\, Barcelona\, Barcelona\, 08007\, Espanya
ATTACH;FMTTYPE=image/jpeg:https://caritas.barcelona/wp-content/uploads/2023/07/VOLSBAS_Proposta.jpg
ORGANIZER;CN="C%C3%A0ritas Barcelona":MAILTO:caritas@caritas.barcelona
GEO:41.3882329;2.1629603
X-APPLE-STRUCTURED-LOCATION;VALUE=URI;X-ADDRESS=Seminari Conciliar de Barcelona Diputació 231 Barcelona Barcelona 08007 Espanya;X-APPLE-RADIUS=500;X-TITLE=Diputació\, 231:geo:2.1629603,41.3882329
END:VEVENT
BEGIN:VEVENT
DTSTART;TZID=Europe/Madrid:20241002T160000
DTEND;TZID=Europe/Madrid:20241002T190000
DTSTAMP:20260423T133738
CREATED:20230921T112552Z
LAST-MODIFIED:20240913T114924Z
UID:10001700-1727884800-1727895600@caritas.barcelona
SUMMARY:Obrim camins a l’esperança: fem comunitat
DESCRIPTION:Acte inaugural del curs 2024-2025 de la família Càritas: Obrim camins a l’esperança: fem comunitat \n \nDesprés del període de vacances\, les persones que formem part de la família Càritas tenim nous reptes per endavant. Ens retrobarem en l’acte inaugural en el qual reflexionarem sobre la nostra acció comunitària i exposarem les principals línies d’acció de futur. \nDurant la inauguració del curs\, es comptarà amb la participació de Juan José López Jiménez\, company de Cáritas Española\, així com de tot l’equip directiu de Càritas Diocesana de Barcelona. \nHorari: dimecres 2 d’octubre de 16h a 19h. \nLloc: Seminari Conciliar de Barcelona.
URL:https://caritas.barcelona/agenda-caritas/gestando-caminos-para-caritas-presente-y-futuro-de-caritas-en-una-realidad-social-compleja/
LOCATION:Seminari Conciliar de Barcelona\, Diputació\, 231\, Barcelona\, Barcelona\, 08007\, Espanya
ATTACH;FMTTYPE=image/jpeg:https://caritas.barcelona/wp-content/uploads/2023/09/WhatsApp-Image-2024-09-09-at-14.01.49.jpeg
ORGANIZER;CN="C%C3%A0ritas Barcelona":MAILTO:caritas@caritas.barcelona
GEO:41.3882329;2.1629603
X-APPLE-STRUCTURED-LOCATION;VALUE=URI;X-ADDRESS=Seminari Conciliar de Barcelona Diputació 231 Barcelona Barcelona 08007 Espanya;X-APPLE-RADIUS=500;X-TITLE=Diputació\, 231:geo:2.1629603,41.3882329
END:VEVENT
BEGIN:VEVENT
DTSTART;TZID=Europe/Madrid:20241013T173000
DTEND;TZID=Europe/Madrid:20241013T183000
DTSTAMP:20260423T133738
CREATED:20241008T120247Z
LAST-MODIFIED:20241008T120247Z
UID:10002037-1728840600-1728844200@caritas.barcelona
SUMMARY:Concert per a Càritas
DESCRIPTION:Et convidem al concert en benefici de Càritas a l’Església de Santa Anna a Mataró. \n \nEl concert es durà a terme el diumenge 13 d’octubre a les 17.30h a l’església de Santa Anna (Plaça de Santa Anna\, 21) i comptarà amb la participació de la Coral Infantil Rodasons i la Coral Primavera per la Pau. Les aportacions voluntàries aniran destinades als diferents projectes de Càritas.
URL:https://caritas.barcelona/agenda-caritas/concert-per-a-caritas/
LOCATION:Barcelona
ATTACH;FMTTYPE=image/jpeg:https://caritas.barcelona/wp-content/uploads/2024/10/AAFF_CARTELL_CONCERT_MATARO_OK_web-scaled-e1728388690761.jpg
END:VEVENT
BEGIN:VEVENT
DTSTART;TZID=Europe/Madrid:20241014T170000
DTEND;TZID=Europe/Madrid:20241014T183000
DTSTAMP:20260423T133738
CREATED:20240731T112958Z
LAST-MODIFIED:20241015T111845Z
UID:10002025-1728925200-1728930600@caritas.barcelona
SUMMARY:SESSIÓ INFORMATIVA SOBRE VOLUNTARIAT-Format virtual-14 d'octubre a les 17hs (en castellà)
DESCRIPTION:Aquest és el primer pas per ser voluntari o voluntària de Càritas. Des del programa de Voluntariat\, organitzem sessions informatives periòdiques\, per a totes aquelles persones que vulguin ser voluntàries a la nostra institució.  \nAquesta sessió s’impartirà en castellà\nSi vols apuntar-te a una sessió informativa sobre el voluntariat a Càritas\, inscriu-te a través del següent formulari\, indicant la sessió a la qual vols assistir: \nFes-te voluntari | Caritas Barcelona \n  \nEl programa de voluntariat de Càritas Barcelona compta amb el suport de la Generalitat de Catalunya.
URL:https://caritas.barcelona/agenda-caritas/sessio-informativa-sobre-voluntariat-format-virtual-14-doctubre-a-les-17hs-en-castella/
LOCATION:Barcelona
ATTACH;FMTTYPE=image/jpeg:https://caritas.barcelona/wp-content/uploads/2020/06/header-rrhh.jpg
ORGANIZER;CN="C%C3%A0ritas Barcelona":MAILTO:caritas@caritas.barcelona
END:VEVENT
BEGIN:VEVENT
DTSTART;TZID=Europe/Madrid:20241021T170000
DTEND;TZID=Europe/Madrid:20241118T190000
DTSTAMP:20260423T133738
CREATED:20240807T072008Z
LAST-MODIFIED:20240819T100956Z
UID:10002029-1729530000-1731956400@caritas.barcelona
SUMMARY:CURS BÀSIC DE VOLUNTARIAT SOCIAL 2024.10_VOLSBAS08 - Durada 14 hores (4 sessions)
DESCRIPTION:Curs bàsic de voluntariat social \nPer comprendre i adquirir les competències bàsiques a l’hora d’iniciar-se en l’acció voluntària en una entitat social. \nA càrrec del professorat de l’Escola de formació del voluntariat de CDB. \nPersones destinatàries: persones amb sensibilitat social i que s’inicien o volen iniciar-se en el voluntariat en aquest àmbit. \nHorari: Curs de 14 hores impartit en 4 sessions de quatre hores\, dilluns 21 i 28 d’octubre i 4 i 11 de novembre\, de 17.00 a 20.00 h\, i 18 de novembre\, de 17.00 a 19.00 h \nModalitat: PRESENCIAL \nCal inscripció prèvia. Places limitades. Persones interessades inscriviu-vos clicant en aquest\nFORMULARI D’INSCRIPCIÓ   \nCost d’inscripció: Aportació de 10€. Per a les persones que ja formen part de l’equip de voluntariat de Càritas\, aquesta aportació és totalment lliure i voluntària. (Les persones que no puguin assumir aquest cost\, poden sol·licitar exempció del pagament). \nCodi curs: 2024.10_VOLSBAS08 \nCurs reconegut pel Pla de formació de l’associacionsime i el voluntariat de Catalunya (PFAVC) \nEl programa de voluntariat de Càritas Barcelona compta amb el suport de la Generalitat de Catalunya.
URL:https://caritas.barcelona/agenda-caritas/curs-basic-de-voluntariat-social-2024-10_volsbas09-durada-14-hores-4-sessions/
LOCATION:Seminari Conciliar de Barcelona\, Diputació\, 231\, Barcelona\, Barcelona\, 08007\, Espanya
ATTACH;FMTTYPE=image/jpeg:https://caritas.barcelona/wp-content/uploads/2023/07/VOLSBAS_Proposta.jpg
ORGANIZER;CN="C%C3%A0ritas Barcelona":MAILTO:caritas@caritas.barcelona
GEO:41.3882329;2.1629603
X-APPLE-STRUCTURED-LOCATION;VALUE=URI;X-ADDRESS=Seminari Conciliar de Barcelona Diputació 231 Barcelona Barcelona 08007 Espanya;X-APPLE-RADIUS=500;X-TITLE=Diputació\, 231:geo:2.1629603,41.3882329
END:VEVENT
BEGIN:VEVENT
DTSTART;TZID=Europe/Madrid:20241030T100000
DTEND;TZID=Europe/Madrid:20241030T113000
DTSTAMP:20260423T133738
CREATED:20241001T065354Z
LAST-MODIFIED:20241001T065354Z
UID:10002035-1730282400-1730287800@caritas.barcelona
SUMMARY:SESSIÓ INFORMATIVA SOBRE VOLUNTARIAT-Format presencial -30 d'octubre a les 10h (en català)
DESCRIPTION:Aquest és el primer pas per ser voluntari o voluntària de Càritas. Des del programa de Voluntariat\, organitzem sessions informatives periòdiques\, per a totes aquelles persones que vulguin ser voluntàries a la nostra institució. \nAquesta sessió s’impartirà en català\nSi vols apuntar-te a una sessió informativa sobre el voluntariat a Càritas\, inscriu-te a través del següent formulari\, indicant la sessió a la qual vols assistir: \nFes-te voluntari | Caritas Barcelona \nLloc: Seminari Conciliar de Barcelona. C/ de la Diputació\, 231\, Barcelona (08007)\n  \nEl programa de voluntariat de Càritas Barcelona compta amb el suport de la Generalitat de Catalunya.
URL:https://caritas.barcelona/agenda-caritas/sessio-informativa-sobre-voluntariat-format-presencial-30-doctubre-a-les-10h-en-catala/
LOCATION:Seminari Conciliar de Barcelona\, Diputació\, 231\, Barcelona\, Barcelona\, 08007\, Espanya
ATTACH;FMTTYPE=image/jpeg:https://caritas.barcelona/wp-content/uploads/2020/06/header-rrhh.jpg
ORGANIZER;CN="C%C3%A0ritas Barcelona":MAILTO:caritas@caritas.barcelona
GEO:41.3882329;2.1629603
X-APPLE-STRUCTURED-LOCATION;VALUE=URI;X-ADDRESS=Seminari Conciliar de Barcelona Diputació 231 Barcelona Barcelona 08007 Espanya;X-APPLE-RADIUS=500;X-TITLE=Diputació\, 231:geo:2.1629603,41.3882329
END:VEVENT
BEGIN:VEVENT
DTSTART;TZID=Europe/Madrid:20241030T153000
DTEND;TZID=Europe/Madrid:20241120T173000
DTSTAMP:20260423T133738
CREATED:20241011T103016Z
LAST-MODIFIED:20241011T104119Z
UID:10002042-1730302200-1732123800@caritas.barcelona
SUMMARY:Curs Elements clau de la proposta social de l’Església TARDES
DESCRIPTION:Formació inicial \nVuitena i novena edició (octubre-novembre de 2024) \nObjectius del curs  \n\nReconèixer que la missió de Càritas connecta amb els principis bàsics de la proposta social de l’Església.\nReconèixer els elements clau de la Proposta (Doctrina) social de l’Església.\nDesvetllar l’interès per la qüestió social en el si de l’Església.\n\nProfessorat: Mn. Joan Costa\, Míriam Feu\, Josep Matías i Domènech Valls. \nOpció a) octubre-novembre de 2024. TARDES \nDimecres 30 d’octubre i 6\, 13 i 20 de novembre  de 15.30 a 17.30 h \nInscripció clicant en aquest codi de curs: 2024.10.DOCESGL.01 \n  \nLloc: Seminari Conciliar de Barcelona. Carrer Diputació\, 231\, Barcelona. \nPersones destinatàries: personal contractat i voluntari de Càritas Diocesana de Barcelona
URL:https://caritas.barcelona/agenda-caritas/curs-elements-clau-de-la-proposta-social-de-lesglesia/
LOCATION:Seminari Conciliar de Barcelona\, Diputació\, 231\, Barcelona\, Barcelona\, 08007\, Espanya
ATTACH;FMTTYPE=image/jpeg:https://caritas.barcelona/wp-content/uploads/2024/10/foto-papa.jpg
ORGANIZER;CN="C%C3%A0ritas Barcelona":MAILTO:caritas@caritas.barcelona
GEO:41.3882329;2.1629603
X-APPLE-STRUCTURED-LOCATION;VALUE=URI;X-ADDRESS=Seminari Conciliar de Barcelona Diputació 231 Barcelona Barcelona 08007 Espanya;X-APPLE-RADIUS=500;X-TITLE=Diputació\, 231:geo:2.1629603,41.3882329
END:VEVENT
END:VCALENDAR