BEGIN:VCALENDAR
VERSION:2.0
PRODID:-//Caritas Barcelona - ECPv6.15.18//NONSGML v1.0//EN
CALSCALE:GREGORIAN
METHOD:PUBLISH
X-WR-CALNAME:Caritas Barcelona
X-ORIGINAL-URL:https://caritas.barcelona
X-WR-CALDESC:Esdeveniments per Caritas Barcelona
REFRESH-INTERVAL;VALUE=DURATION:PT1H
X-Robots-Tag:noindex
X-PUBLISHED-TTL:PT1H
BEGIN:VTIMEZONE
TZID:Europe/Madrid
BEGIN:DAYLIGHT
TZOFFSETFROM:+0100
TZOFFSETTO:+0200
TZNAME:CEST
DTSTART:20230326T010000
END:DAYLIGHT
BEGIN:STANDARD
TZOFFSETFROM:+0200
TZOFFSETTO:+0100
TZNAME:CET
DTSTART:20231029T010000
END:STANDARD
BEGIN:DAYLIGHT
TZOFFSETFROM:+0100
TZOFFSETTO:+0200
TZNAME:CEST
DTSTART:20240331T010000
END:DAYLIGHT
BEGIN:STANDARD
TZOFFSETFROM:+0200
TZOFFSETTO:+0100
TZNAME:CET
DTSTART:20241027T010000
END:STANDARD
BEGIN:DAYLIGHT
TZOFFSETFROM:+0100
TZOFFSETTO:+0200
TZNAME:CEST
DTSTART:20250330T010000
END:DAYLIGHT
BEGIN:STANDARD
TZOFFSETFROM:+0200
TZOFFSETTO:+0100
TZNAME:CET
DTSTART:20251026T010000
END:STANDARD
END:VTIMEZONE
BEGIN:VEVENT
DTSTART;VALUE=DATE:20240902
DTEND;VALUE=DATE:20241103
DTSTAMP:20260423T144552
CREATED:20241114T193022Z
LAST-MODIFIED:20241114T193022Z
UID:10002050-1725235200-1730591999@caritas.barcelona
SUMMARY:Concurs fotogràfic ‘Sense Claus’
DESCRIPTION:Càritas Barcelona organitza el primer concurs fotogràfic ‘Sense Claus’ sobre el sensellarisme obert a totes les persones participants dels nostres projectes majors de 16 anys. \nAquest certamen s’organitza amb l’objectiu de visibilitzar en primera persona què suposa i què se sent en viure una situació d’exclusió residencial\, conscients que una imatge val més que mil paraules. \nSi participes en algun dels nostres projectes i tens més de 16 anys\, t’animem a participar del concurs! T’esperen tres fantàstics premis! A més\, les 30 millors fotografies s’exposaran al Casal de barri del Pou de la Figuera. \n \n 
URL:https://caritas.barcelona/agenda-caritas/concurs-fotografic-sense-claus-2/
LOCATION:Barcelona
ATTACH;FMTTYPE=image/png:https://caritas.barcelona/wp-content/uploads/2024/11/giglulfj.png
ORGANIZER;CN="C%C3%A0ritas Barcelona":MAILTO:caritas@caritas.barcelona
END:VEVENT
BEGIN:VEVENT
DTSTART;TZID=Europe/Madrid:20240916T170000
DTEND;TZID=Europe/Madrid:20240916T183000
DTSTAMP:20260423T144552
CREATED:20240731T112240Z
LAST-MODIFIED:20240731T112240Z
UID:10002021-1726506000-1726511400@caritas.barcelona
SUMMARY:SESSIÓ INFORMATIVA SOBRE VOLUNTARIAT-Format presencial-16 de setembre a les 17h (en català)
DESCRIPTION:Aquest és el primer pas per ser voluntari o voluntària de Càritas. Des del programa de Voluntariat\, organitzem sessions informatives periòdiques\, per a totes aquelles persones que vulguin ser voluntàries a la nostra institució. \nAquesta sessió s’impartirà en català\nSi vols apuntar-te a una sessió informativa sobre el voluntariat a Càritas\, inscriu-te a través del següent formulari\, indicant la sessió a la qual vols assistir: \nFes-te voluntari | Caritas Barcelona \nLloc: Seminari Conciliar de Barcelona. C/ de la Diputació\, 231\, Barcelona (08007) \n  \nEl programa de voluntariat de Càritas Barcelona compta amb el suport de la Generalitat de Catalunya.
URL:https://caritas.barcelona/agenda-caritas/sessio-informativa-sobre-voluntariat-format-presencial-16-de-setembre-a-les-17h-en-catala/
LOCATION:Seminari Conciliar de Barcelona\, Diputació\, 231\, Barcelona\, Barcelona\, 08007\, Espanya
ATTACH;FMTTYPE=image/jpeg:https://caritas.barcelona/wp-content/uploads/2020/06/header-rrhh.jpg
ORGANIZER;CN="C%C3%A0ritas Barcelona":MAILTO:caritas@caritas.barcelona
GEO:41.3882329;2.1629603
X-APPLE-STRUCTURED-LOCATION;VALUE=URI;X-ADDRESS=Seminari Conciliar de Barcelona Diputació 231 Barcelona Barcelona 08007 Espanya;X-APPLE-RADIUS=500;X-TITLE=Diputació\, 231:geo:2.1629603,41.3882329
END:VEVENT
BEGIN:VEVENT
DTSTART;TZID=Europe/Madrid:20240918T093000
DTEND;TZID=Europe/Madrid:20241009T130000
DTSTAMP:20260423T144552
CREATED:20240807T064755Z
LAST-MODIFIED:20240807T064755Z
UID:10002027-1726651800-1728478800@caritas.barcelona
SUMMARY:CURS BÀSIC DE VOLUNTARIAT SOCIAL 2024.09_VOLSBAS07 - Durada 14 hores (4 sessions)
DESCRIPTION:Curs bàsic de voluntariat social \nPer comprendre i adquirir les competències bàsiques a l’hora d’iniciar-se en l’acció voluntària en una entitat social. \nA càrrec del professorat de l’Escola de formació del voluntariat de CDB. \nPersones destinatàries: persones amb sensibilitat social i que s’inicien o volen iniciar-se en el voluntariat en aquest àmbit. \nHorari: Curs de 14 hores impartit en 4 sessions de quatre hores\, dimecres 18 i 25 de setembre i 2 i 9 d’octubre\, de 9.30 a 13.00 h. \nModalitat: PRESENCIAL \nCal inscripció prèvia. Places limitades. Persones interessades inscriviu-vos clicant en aquest\nFORMULARI D’INSCRIPCIÓ   \nCost d’inscripció: Aportació de 10€. Per a les persones que ja formen part de l’equip de voluntariat de Càritas\, aquesta aportació és totalment lliure i voluntària. (Les persones que no puguin assumir aquest cost\, poden sol·licitar exempció del pagament). \nCodi curs: 2024.09_VOLSBAS07 \nCurs reconegut pel Pla de formació de l’associacionsime i el voluntariat de Catalunya (PFAVC) \nEl programa de voluntariat de Càritas Barcelona compta amb el suport de la Generalitat de Catalunya.
URL:https://caritas.barcelona/agenda-caritas/curs-basic-de-voluntariat-social-2024-09_volsbas07-durada-14-hores-4-sessions/
LOCATION:Seminari Conciliar de Barcelona\, Diputació\, 231\, Barcelona\, Barcelona\, 08007\, Espanya
ATTACH;FMTTYPE=image/jpeg:https://caritas.barcelona/wp-content/uploads/2023/07/VOLSBAS_Proposta.jpg
ORGANIZER;CN="C%C3%A0ritas Barcelona":MAILTO:caritas@caritas.barcelona
GEO:41.3882329;2.1629603
X-APPLE-STRUCTURED-LOCATION;VALUE=URI;X-ADDRESS=Seminari Conciliar de Barcelona Diputació 231 Barcelona Barcelona 08007 Espanya;X-APPLE-RADIUS=500;X-TITLE=Diputació\, 231:geo:2.1629603,41.3882329
END:VEVENT
BEGIN:VEVENT
DTSTART;TZID=Europe/Madrid:20240926T090000
DTEND;TZID=Europe/Madrid:20240926T140000
DTSTAMP:20260423T144552
CREATED:20240910T072412Z
LAST-MODIFIED:20240920T115527Z
UID:10002033-1727341200-1727359200@caritas.barcelona
SUMMARY:Jornada 'Camí a la regularització: formació i ocupació per a tothom'
DESCRIPTION:Jornada en la qual analitzarem\, amb la veu de diferents testimonis i experts\, les diferents vies per afavorir la incorporació al mercat laboral de les persones que es troben en situació administrativa irregular\, i més concretament\, la mesura d’arrelament per formació. \n \nEl proper dijous 26 de setembre de 9h a 14h et convidem a assistir a la jornada de Càritas Barcelona ‘Camí a la regularització: formació i ocupació per a tothom’ que tindrà lloc a l’auditori de Barcelona Activa – Seu Central (carrer de la Llacuna\, 162). \nPROGRAMA: \n• 9:00-9:10: Acreditacions\n• 9:15h – 9:30h: Presentació de la jornada\, a càrrec del Sr. Eduard Sala\, Director de Càritas Diocesana de Barcelona i Mª Ángeles González Macías\, Directora Executiva d’Ocupació i Proximitat Barcelona Activa\n• 9:30h – 10:10h: Ponència: “Migració\, competències i canvi social en la societat digital”. A càrrec del Sr. Genís Roca\, consultor\, professor universitari i president de la Fundació PuntCat.\n• 10:30 – 11:00. Pausa-cafè\n• 11:15-12:00. Taula rodona. Arrelament per a la formació i canvis en la Llei d’estrangeria. \nModera: Elisabet Ureña\, cap del Departament de Migració de Càritas Diocesana de Barcelona.\nParticipen:\n– Alejandro Hochberg\, jefe de la oficina de extranjería en Barcelona.\n– Sergi Santacana\, Advocat i vocal de la Comissió d’Estrangeria de l’ Il·lustre Col·legi d’advocats de Barcelona (ICAB) \n• 12.00h– 13:45h. Taula d’experiències \nModera: Dessirée Garcia\, cap del Programa de Formació i Inserció Laboral de Càritas Diocesana de Barcelona\nParticipen: \n– BICICLOT SCCL\, Marc Domenech\, Coordinador de formació professional\n– MITIE FACILITIES SERVICES S.A\, Óscar García Sánchez Director de Grans Comptes\n– FUNDACIÓ INTERMEDIA\, Jordi Olivan Pardo\, Oficina Pedagògica Incorpora i Coordinador de Programes Intermedia\n– SINERGIA\, Team & Training\, S.L. David Pradal Garí\, soci fundador\n– Testimoni: Raniely Siquiera Alves \n• 13:45 h-14:00h. Tancament de la jornada a càrrec de Amèlia de Juan\, Cap Acció Social Càritas \nINSCRIPCIONS: AQUÍ
URL:https://caritas.barcelona/agenda-caritas/jornada-cami-a-la-regularitzacio-formacio-i-ocupacio-per-a-tothom/
LOCATION:Barcelona Activa – Seu Central\, Carrer de la Llacuna\, Barcelona\, Barcelona\, 08018\, Spain
ATTACH;FMTTYPE=image/jpeg:https://caritas.barcelona/wp-content/uploads/2024/09/INVITACIO_090924-scaled-e1725963795229.jpg
GEO:41.4064913;2.1928684
X-APPLE-STRUCTURED-LOCATION;VALUE=URI;X-ADDRESS=Barcelona Activa – Seu Central Carrer de la Llacuna Barcelona Barcelona 08018 Spain;X-APPLE-RADIUS=500;X-TITLE=Carrer de la Llacuna:geo:2.1928684,41.4064913
END:VEVENT
BEGIN:VEVENT
DTSTART;TZID=Europe/Madrid:20240930T170000
DTEND;TZID=Europe/Madrid:20240930T183000
DTSTAMP:20260423T144552
CREATED:20240731T112506Z
LAST-MODIFIED:20240731T112506Z
UID:10002023-1727715600-1727721000@caritas.barcelona
SUMMARY:SESSIÓ INFORMATIVA SOBRE VOLUNTARIAT-Format presencial (CORNELLÀ)-30 de setembre a les 17h (en català)
DESCRIPTION:Aquest és el primer pas per ser voluntari o voluntària de Càritas. Des del programa de Voluntariat\, organitzem sessions informatives periòdiques\, per a totes aquelles persones que vulguin ser voluntàries a la nostra institució. \nAquesta sessió s’impartirà en català\nSi vols apuntar-te a una sessió informativa sobre el voluntariat a Càritas\, inscriu-te a través del següent formulari\, indicant la sessió a la qual vols assistir: \nFes-te voluntari | Caritas Barcelona \nLloc: Av. Sant Ildefons\, 15\, Cornellà de Llobregat (08940) \n  \nEl programa de voluntariat de Càritas Barcelona compta amb el suport de la Generalitat de Catalunya.
URL:https://caritas.barcelona/agenda-caritas/sessio-informativa-sobre-voluntariat-format-presencial-cornella-30-de-setembre-a-les-17h-en-catala/
LOCATION:Càritas Diocesana de Barcelona – Zona Pastoral 4\, Av. Sant Ildefons\, 15\, Cornellà de Llobregat\, Barcelona\, 08940\, Espanya
ATTACH;FMTTYPE=image/jpeg:https://caritas.barcelona/wp-content/uploads/2020/06/header-rrhh.jpg
ORGANIZER;CN="C%C3%A0ritas Barcelona":MAILTO:caritas@caritas.barcelona
GEO:41.3655204;2.1396855
X-APPLE-STRUCTURED-LOCATION;VALUE=URI;X-ADDRESS=Càritas Diocesana de Barcelona – Zona Pastoral 4 Av. Sant Ildefons 15 Cornellà de Llobregat Barcelona 08940 Espanya;X-APPLE-RADIUS=500;X-TITLE=Av. Sant Ildefons\, 15:geo:2.1396855,41.3655204
END:VEVENT
END:VCALENDAR