BEGIN:VCALENDAR
VERSION:2.0
PRODID:-//Caritas Barcelona - ECPv6.15.18//NONSGML v1.0//EN
CALSCALE:GREGORIAN
METHOD:PUBLISH
X-ORIGINAL-URL:https://caritas.barcelona
X-WR-CALDESC:Esdeveniments per Caritas Barcelona
REFRESH-INTERVAL;VALUE=DURATION:PT1H
X-Robots-Tag:noindex
X-PUBLISHED-TTL:PT1H
BEGIN:VTIMEZONE
TZID:Europe/Madrid
BEGIN:DAYLIGHT
TZOFFSETFROM:+0100
TZOFFSETTO:+0200
TZNAME:CEST
DTSTART:20230326T010000
END:DAYLIGHT
BEGIN:STANDARD
TZOFFSETFROM:+0200
TZOFFSETTO:+0100
TZNAME:CET
DTSTART:20231029T010000
END:STANDARD
BEGIN:DAYLIGHT
TZOFFSETFROM:+0100
TZOFFSETTO:+0200
TZNAME:CEST
DTSTART:20240331T010000
END:DAYLIGHT
BEGIN:STANDARD
TZOFFSETFROM:+0200
TZOFFSETTO:+0100
TZNAME:CET
DTSTART:20241027T010000
END:STANDARD
BEGIN:DAYLIGHT
TZOFFSETFROM:+0100
TZOFFSETTO:+0200
TZNAME:CEST
DTSTART:20250330T010000
END:DAYLIGHT
BEGIN:STANDARD
TZOFFSETFROM:+0200
TZOFFSETTO:+0100
TZNAME:CET
DTSTART:20251026T010000
END:STANDARD
END:VTIMEZONE
BEGIN:VEVENT
DTSTART;VALUE=DATE:20240601
DTEND;VALUE=DATE:20240602
DTSTAMP:20260423T184648
CREATED:20240415T100228Z
LAST-MODIFIED:20240610T112809Z
UID:10002011-1717200000-1717286399@caritas.barcelona
SUMMARY:Mataró x Càritas
DESCRIPTION:Vine a gaudir d’un dia ple d’activitats amb Càritas Mataró! \n \nFarem una arrossada popular i durant tot el dia a la plaça Santa Anna: activitats familiars\, música\, botiga solidària… I molt més!! \n\nPrograma d’activitats:\n12:00 h – Inauguració de la jornada: Agrupació musical del Maresme. \n13:00 h – Exhibició castellera amb Castellers Passerells del TecnoCampus i Engrescats de la URL. \n14:00 h – Arrossada popular (7 €/ persona). \n17:00 h – Acauã (Homenatge a Luis Gonzaga). \n18:00 h – Els OK (Shadows Tribute Band). \n19:00 h – The Ohio Band (Escola de música El carreró). \n  \nDia: Dissabte 1 de juny de 2024 \nHorari: Tot el dia \nLloc: Plaça de Santa Anna
URL:https://caritas.barcelona/agenda-caritas/mataro-x-caritas/
LOCATION:Plaça Santa Anna\, Plaça Santa Anna\, Mataró\, Barcelona\, 08031\, Espanya
ATTACH;FMTTYPE=image/jpeg:https://caritas.barcelona/wp-content/uploads/2024/04/IMG-20240409-WA0003.jpg
GEO:41.537728;2.4447633
X-APPLE-STRUCTURED-LOCATION;VALUE=URI;X-ADDRESS=Plaça Santa Anna Plaça Santa Anna Mataró Barcelona 08031 Espanya;X-APPLE-RADIUS=500;X-TITLE=Plaça Santa Anna:geo:2.4447633,41.537728
END:VEVENT
BEGIN:VEVENT
DTSTART;TZID=Europe/Madrid:20240605T170000
DTEND;TZID=Europe/Madrid:20240605T183000
DTSTAMP:20260423T184648
CREATED:20240514T102424Z
LAST-MODIFIED:20240514T102424Z
UID:10002017-1717606800-1717612200@caritas.barcelona
SUMMARY:SESSIÓ INFORMATIVA SOBRE VOLUNTARIAT\, ESPECIAL ESTIU-Format presencial-5 de juny a les 17h (en castellà)
DESCRIPTION:Aquest és el primer pas per ser voluntari o voluntària de Càritas. Des del programa de Voluntariat\, organitzem sessions informatives periòdiques\, per a totes aquelles persones que vulguin ser voluntàries a la nostra institució. \nAquesta sessió s’impartirà en castellà\nSi vols apuntar-te a una sessió informativa sobre el voluntariat a Càritas\, inscriu-te a través del següent formulari\, indicant la sessió a la qual vols assistir: \nFes-te voluntari | Caritas Barcelona \nLloc: Seminari Conciliar de Barcelona. C/ de la Diputació\, 231\, Barcelona (08007) \n  \nEl programa de voluntariat de Càritas Barcelona compta amb el suport de la Generalitat de Catalunya.
URL:https://caritas.barcelona/agenda-caritas/sessio-informativa-sobre-voluntariat-especial-estiu-format-presencial-5-de-juny-a-les-17h-en-castella/
LOCATION:Seminari Conciliar de Barcelona\, Diputació\, 231\, Barcelona\, Barcelona\, 08007\, Espanya
ATTACH;FMTTYPE=image/jpeg:https://caritas.barcelona/wp-content/uploads/2020/06/header-rrhh.jpg
ORGANIZER;CN="C%C3%A0ritas Barcelona":MAILTO:caritas@caritas.barcelona
GEO:41.3882329;2.1629603
X-APPLE-STRUCTURED-LOCATION;VALUE=URI;X-ADDRESS=Seminari Conciliar de Barcelona Diputació 231 Barcelona Barcelona 08007 Espanya;X-APPLE-RADIUS=500;X-TITLE=Diputació\, 231:geo:2.1629603,41.3882329
END:VEVENT
END:VCALENDAR