BEGIN:VCALENDAR
VERSION:2.0
PRODID:-//Caritas Barcelona - ECPv6.15.18//NONSGML v1.0//EN
CALSCALE:GREGORIAN
METHOD:PUBLISH
X-WR-CALNAME:Caritas Barcelona
X-ORIGINAL-URL:https://caritas.barcelona
X-WR-CALDESC:Esdeveniments per Caritas Barcelona
REFRESH-INTERVAL;VALUE=DURATION:PT1H
X-Robots-Tag:noindex
X-PUBLISHED-TTL:PT1H
BEGIN:VTIMEZONE
TZID:Europe/Madrid
BEGIN:DAYLIGHT
TZOFFSETFROM:+0100
TZOFFSETTO:+0200
TZNAME:CEST
DTSTART:20230326T010000
END:DAYLIGHT
BEGIN:STANDARD
TZOFFSETFROM:+0200
TZOFFSETTO:+0100
TZNAME:CET
DTSTART:20231029T010000
END:STANDARD
BEGIN:DAYLIGHT
TZOFFSETFROM:+0100
TZOFFSETTO:+0200
TZNAME:CEST
DTSTART:20240331T010000
END:DAYLIGHT
BEGIN:STANDARD
TZOFFSETFROM:+0200
TZOFFSETTO:+0100
TZNAME:CET
DTSTART:20241027T010000
END:STANDARD
BEGIN:DAYLIGHT
TZOFFSETFROM:+0100
TZOFFSETTO:+0200
TZNAME:CEST
DTSTART:20250330T010000
END:DAYLIGHT
BEGIN:STANDARD
TZOFFSETFROM:+0200
TZOFFSETTO:+0100
TZNAME:CET
DTSTART:20251026T010000
END:STANDARD
END:VTIMEZONE
BEGIN:VEVENT
DTSTART;TZID=Europe/Madrid:20240406T110000
DTEND;TZID=Europe/Madrid:20240406T123000
DTSTAMP:20260423T214059
CREATED:20240404T105457Z
LAST-MODIFIED:20240408T134635Z
UID:10002008-1712401200-1712406600@caritas.barcelona
SUMMARY:Missa pel 5è aniversari de la casa d'acollida Pere Oliveras
DESCRIPTION:Us convidem a celebrar el 5è aniversari de la casa d’acollida Pere Oliveras per a homes en procés de reinserció penitenciària de Càritas Diocesana de Barcelona. \n \nMossèn Pere Oliveras va ser un capellà del barri de Sants que es va dedicar als més necessitats i va deixar una gran empremta i testimoni en aquesta zona de Barcelona. Fa 5 anys\, seguint el seu llegat i la seva tasca\, Càritas Barcelona va inaugurar aquest recurs socioeducatiu des del qual acollim i acompanyem homes en règim penitenciari que es troben en situació d’exclusió. \nDurant la celebració comptarem amb la benvinguda de Lourdes Ginestà\, directora del servei; una missa concelebrada per Enric Aymerich\, Ramon Batlle\, Salvador Bacardit i Josep Lluís Socias; i la cloenda a càrrec d’Eduard Sala\, director de Càritas Diocesana de Barcelona.  \nL’acte de celebració tindrà lloc el dissabte 6 d’abril a les 11h a la Parròquia de Santa Maria de Sants (pl.Bonet i Muixí\, 5)
URL:https://caritas.barcelona/agenda-caritas/missa-pel-5e-aniversari-de-la-casa-dacollida-pere-oliveras/
LOCATION:Església de Santa Maria de Sants\, Plaça de Bonet i Muixí\, Barcelona\, Barcelona\, 08014\, Espanya
ATTACH;FMTTYPE=image/png:https://caritas.barcelona/wp-content/uploads/2024/04/Disseny-sense-titol-2.png
GEO:41.3745897;2.1365196
X-APPLE-STRUCTURED-LOCATION;VALUE=URI;X-ADDRESS=Església de Santa Maria de Sants Plaça de Bonet i Muixí Barcelona Barcelona 08014 Espanya;X-APPLE-RADIUS=500;X-TITLE=Plaça de Bonet i Muixí:geo:2.1365196,41.3745897
END:VEVENT
BEGIN:VEVENT
DTSTART;TZID=Europe/Madrid:20240408T180000
DTEND;TZID=Europe/Madrid:20240408T200000
DTSTAMP:20260423T214059
CREATED:20240220T095705Z
LAST-MODIFIED:20240220T100713Z
UID:10001995-1712599200-1712606400@caritas.barcelona
SUMMARY:Mustafà és al replà
DESCRIPTION:Obra de teatre social a càrrec de Forn de teatre Pa’tothom\, entitat de Barcelona especialitzada en Teatre de l’Oprimit. \n  \nDirigida per: Jordi Forcadas \nInterpretada per: Judit Saula\, Holga Pallejà\, Elton Canga\, Lluís Cases i Eduard Benito \nSessió dinamitzada per Montse Forcadas \n  \nEn una comunitat de veïns ens trobem amb un problema que afecta tothom. Malgrat que hi ha una convivència normal\, davant certs interessos sorgeixen conflictes on aniran aflorant actituds carregades de prejudicis i estereotips respecte a l’altre. Això crea una barrera comunicativa i una distància que fa impossible trobar una solució conjunta. \n  \nHorari: de 18.00 a 20.00 h \nLloc: Centre parroquial de Sant Josep. Carrer sant Josep\, 18. Mataró \nCom s’hi arriba: RENFE\, línia R1-Rodalies. A deu/quinze minuts de l’estació de Mataró \nEntrada gratuïta. Places limitades. Cal inscripció clicant a INSCRIPCIÓ OBRA TEATRE \nAquesta obra és la primera sessió del Curs bàsic en migració i refugi\, que s’impartirà cada dilluns des del 8 d’abril al 13 de maig de 2023. Es pot assistir a l’obra de teatre independentment de si es participa o no al curs.
URL:https://caritas.barcelona/agenda-caritas/mustafa-es-al-repla-2/
LOCATION:Centre parroquial de Sant Josep. Mataró.\, Carrer sant Josep\, 18\, Mataró\, Barcelona\, 08302\, Espanya
ATTACH;FMTTYPE=image/jpeg:https://caritas.barcelona/wp-content/uploads/2022/12/Foto-Mustafa-es-al-repla.jpg
ORGANIZER;CN="C%C3%A0ritas Barcelona":MAILTO:caritas@caritas.barcelona
GEO:41.5369818;2.4423164
X-APPLE-STRUCTURED-LOCATION;VALUE=URI;X-ADDRESS=Centre parroquial de Sant Josep. Mataró. Carrer sant Josep 18 Mataró Barcelona 08302 Espanya;X-APPLE-RADIUS=500;X-TITLE=Carrer sant Josep\, 18:geo:2.4423164,41.5369818
END:VEVENT
BEGIN:VEVENT
DTSTART;TZID=Europe/Madrid:20240408T180000
DTEND;TZID=Europe/Madrid:20240513T200000
DTSTAMP:20260423T214059
CREATED:20240220T102544Z
LAST-MODIFIED:20240410T103124Z
UID:10001997-1712599200-1715630400@caritas.barcelona
SUMMARY:Curs bàsic en migració i refugi
DESCRIPTION:Des de Càritas Barcelona volem reflexionar sobre la diversitat cultural en la societat actual\, i conèixer i adquirir eines per a la gestió i tractament dels seus estereotips\, prejudicis i rumors. \n \nEl curs anirà a càrrec de Forn de Teatre Pa’tothom\, equip de formadors de l’Escola de formació del Voluntariat de CDB i agents antirumors de l’institut Diversitas\, i té com a objectius: \n·       Reflexionar sobre el fet de la diversitat cultural en la nostra societat i adquirir claus interpretatives per comprendre la complexitat de la nostra societat des del punt de vista de la diversitat cultural. \n·       Conèixer algunes eines per al treball\, la gestió i el tractament d’estereotips\, prejudicis i rumors sobre diversitat cultural. \nPersones destinatàries: Persones interessades a formar-se en el tema de la gestió de la diversitat cultural. Voluntaris i membres dels grups de Càritas i de les comunitats cristianes que col·laborin en projectes d’acció social\, d’atenció i acompanyament a persones nouvingudes. \nDies: Dilluns 8 (obra de teatre)\, 15\, 22 i 29 abril i dilluns 6 i 13 maig de 2024 \nHorari: de 18.00 a 20.00 h \nLloc: Centre parroquial de Sant Josep. Carrer sant Josep\, 18. Mataró \nCom s’hi arriba?: RENFE\, línia R1-Rodalies. A deu/quinze minuts de l’estació de Mataró \nPlaces limitades. Cal inscripció prèvia a través del següent FORMULARI \nEl curs consta de 6 sessions de dues hores i forma part del PFAVC (Pla de Formació de l’Associacionisme i el Voluntariat de Catalunya). A les persones que assisteixin com a mínim al 80% de les sessions se’ls expedirà un diploma d’assistència.
URL:https://caritas.barcelona/agenda-caritas/curs-basic-en-migracio-i-refugi-3/
LOCATION:Centre parroquial de Sant Josep. Mataró.\, Carrer sant Josep\, 18\, Mataró\, Barcelona\, 08302\, Espanya
ATTACH;FMTTYPE=image/jpeg:https://caritas.barcelona/wp-content/uploads/2024/02/curs-migracio.jpg
ORGANIZER;CN="C%C3%A0ritas Barcelona":MAILTO:caritas@caritas.barcelona
GEO:41.5369818;2.4423164
X-APPLE-STRUCTURED-LOCATION;VALUE=URI;X-ADDRESS=Centre parroquial de Sant Josep. Mataró. Carrer sant Josep 18 Mataró Barcelona 08302 Espanya;X-APPLE-RADIUS=500;X-TITLE=Carrer sant Josep\, 18:geo:2.4423164,41.5369818
END:VEVENT
BEGIN:VEVENT
DTSTART;TZID=Europe/Madrid:20240410T093000
DTEND;TZID=Europe/Madrid:20240424T134500
DTSTAMP:20260423T214059
CREATED:20240322T130420Z
LAST-MODIFIED:20240424T130449Z
UID:10002003-1712741400-1713966300@caritas.barcelona
SUMMARY:CURS BÀSIC DE VOLUNTARIAT SOCIAL - 2024.04_VOLSBAS03 - Durada 12 hores (3 sessions)
DESCRIPTION:Curs bàsic de voluntariat social \nPer comprendre i adquirir les competències bàsiques a l’hora d’iniciar-se en l’acció voluntària en una entitat social. \nA càrrec del professorat de l’Escola de formació del voluntariat de CDB. \nPersones destinatàries: persones amb sensibilitat social i que s’inicien o volen iniciar-se en el voluntariat en aquest àmbit. \nHorari: Curs de 12 hores impartit en 3 sessions de quatre hores\, dimecres 10\, 17 i 24 d’abril de 2024\, de 9.30 a 13.45 h \nModalitat: PRESENCIAL \nCal inscripció prèvia. Places limitades. Persones interessades inscriviu-vos clicant en aquest FORMULARI D’INSCRIPCIÓ    \nCost d’inscripció: Aportació de 10€. Per a les persones que ja formen part de l’equip de voluntariat de Càritas\, aquesta aportació és totalment lliure i voluntària. (Les persones que no puguin assumir aquest cost\, poden sol·licitar exempció del pagament). \nCodi curs: 2024.04_VOLSBAS03 \nCurs reconegut pel Pla de formació de l’associacionsime i el voluntariat de Catalunya (PFAVC)
URL:https://caritas.barcelona/agenda-caritas/curs-basic-de-voluntariat-social-2024-04_volsbas03-durada-12-hores-3-sessions/
LOCATION:Seminari Conciliar de Barcelona\, Diputació\, 231\, Barcelona\, Barcelona\, 08007\, Espanya
ATTACH;FMTTYPE=image/jpeg:https://caritas.barcelona/wp-content/uploads/2023/07/VOLSBAS_Proposta.jpg
ORGANIZER;CN="C%C3%A0ritas Barcelona":MAILTO:caritas@caritas.barcelona
GEO:41.3882329;2.1629603
X-APPLE-STRUCTURED-LOCATION;VALUE=URI;X-ADDRESS=Seminari Conciliar de Barcelona Diputació 231 Barcelona Barcelona 08007 Espanya;X-APPLE-RADIUS=500;X-TITLE=Diputació\, 231:geo:2.1629603,41.3882329
END:VEVENT
BEGIN:VEVENT
DTSTART;TZID=Europe/Madrid:20240410T170000
DTEND;TZID=Europe/Madrid:20240410T183000
DTSTAMP:20260423T214059
CREATED:20240304T135657Z
LAST-MODIFIED:20240304T135657Z
UID:10001999-1712768400-1712773800@caritas.barcelona
SUMMARY:SESSIÓ INFORMATIVA SOBRE VOLUNTARIAT-Format presencial-10 de abril a les 17h (en català)
DESCRIPTION:Aquest és el primer pas per ser voluntari o voluntària de Càritas. Des del programa de Voluntariat\, organitzem sessions informatives periòdiques\, per a totes aquelles persones que vulguin ser voluntàries a la nostra institució. \nAquesta sessió s’impartirà en català\nSi vols apuntar-te a una sessió informativa sobre el voluntariat a Càritas\, inscriu-te a través del següent formulari\, indicant la sessió a la qual vols assistir: \nFes-te voluntari | Caritas Barcelona \nLloc: Plaça Nova\, 1\, Barcelona (08002)
URL:https://caritas.barcelona/agenda-caritas/sessio-informativa-sobre-voluntariat-format-presencial-10-de-abril-a-les-17h-en-catala/
LOCATION:Barcelona 1 – Districtes de Ciutat Vella\, Eixample i barri del Poble-sec\, Plaça Nova\, 1\, Barcelona\, Barcelona\, 08002\, Espanya
ATTACH;FMTTYPE=image/jpeg:https://caritas.barcelona/wp-content/uploads/2020/06/header-rrhh.jpg
ORGANIZER;CN="C%C3%A0ritas Barcelona":MAILTO:caritas@caritas.barcelona
GEO:41.3840277;2.1751608
X-APPLE-STRUCTURED-LOCATION;VALUE=URI;X-ADDRESS=Barcelona 1 – Districtes de Ciutat Vella Eixample i barri del Poble-sec Plaça Nova 1 Barcelona Barcelona 08002 Espanya;X-APPLE-RADIUS=500;X-TITLE=Plaça Nova\, 1:geo:2.1751608,41.3840277
END:VEVENT
BEGIN:VEVENT
DTSTART;TZID=Europe/Madrid:20240422T120000
DTEND;TZID=Europe/Madrid:20240422T133000
DTSTAMP:20260423T214059
CREATED:20240315T125015Z
LAST-MODIFIED:20240426T072936Z
UID:10002001-1713787200-1713792600@caritas.barcelona
SUMMARY:SESSIÓ INFORMATIVA SOBRE VOLUNTARIAT-Format virtual-22 de abril a les 12h (en castellà)
DESCRIPTION:Aquest és el primer pas per ser voluntari o voluntària de Càritas. Des del programa de Voluntariat\, organitzem sessions informatives periòdiques\, per a totes aquelles persones que vulguin ser voluntàries a la nostra institució.  \nAquesta sessió s’impartirà en castellà\nSi vols apuntar-te a una sessió informativa sobre el voluntariat a Càritas\, inscriu-te a través del següent formulari\, indicant la sessió a la qual vols assistir: \nFes-te voluntari | Caritas Barcelona 
URL:https://caritas.barcelona/agenda-caritas/sessio-informativa-sobre-voluntariat-format-virtual-22-de-abril-a-les-10h-en-castella/
LOCATION:Barcelona
ATTACH;FMTTYPE=image/jpeg:https://caritas.barcelona/wp-content/uploads/2020/06/header-rrhh.jpg
ORGANIZER;CN="C%C3%A0ritas Barcelona":MAILTO:caritas@caritas.barcelona
END:VEVENT
BEGIN:VEVENT
DTSTART;TZID=Europe/Madrid:20240423T100000
DTEND;TZID=Europe/Madrid:20240423T190000
DTSTAMP:20260423T214059
CREATED:20240410T091646Z
LAST-MODIFIED:20240417T073909Z
UID:10002009-1713866400-1713898800@caritas.barcelona
SUMMARY:Per Sant Jordi\, posa-hi el cor
DESCRIPTION:Viu un Sant Jordi solidari amb Càritas Barcelona! \n \nHi haurà venda de roses i molt més: \n\nDurant tot el matí: Taller “Fes-te la teva rosa”.\nA les 12h: signatura del llibre “Va de vida” d’Eduard Sala\, director de Càritas Barcelona.\nDe 12h a 14h: Actuació musical “Elvis Presley”.\nDe 18h a 19h: Conta-contes: El ball de l’elefant.\nDurant tota la tarda: Grava el teu vídeo 360º i penja’l a les xarxes amb l’etiqueta #Càritas360.\n\nData: Dimarts 23/04/2024 \nHora: 10h – 19h \nLloc: Plaça Nova\, I\, Barcelona \nTota la recaptació anirà destinada a finançar projectes socials de l’entitat.
URL:https://caritas.barcelona/agenda-caritas/per-sant-jordi-posa-hi-el-cor/
LOCATION:Plaça Nova\, Plaça Nova\, Barcelona\, Barcelona\, 08002\, Espanya
ATTACH;FMTTYPE=image/jpeg:https://caritas.barcelona/wp-content/uploads/2024/04/IMG_8248-2.jpg
GEO:41.3842534;2.1751129
X-APPLE-STRUCTURED-LOCATION;VALUE=URI;X-ADDRESS=Plaça Nova Plaça Nova Barcelona Barcelona 08002 Espanya;X-APPLE-RADIUS=500;X-TITLE=Plaça Nova:geo:2.1751129,41.3842534
END:VEVENT
BEGIN:VEVENT
DTSTART;TZID=Europe/Madrid:20240424T173000
DTEND;TZID=Europe/Madrid:20240424T190000
DTSTAMP:20260423T214059
CREATED:20240419T110307Z
LAST-MODIFIED:20240419T110307Z
UID:10001758-1713979800-1713985200@caritas.barcelona
SUMMARY:CICLE DE REFLEXIONS: Compromís de Càritas amb la sostenibilitat i l’ecologia
DESCRIPTION:Què hi puc fer com a persona voluntària? \nLa sostenibilitat permet satisfer les necessitats actuals de la societat vetllant per una sinergia entre el desenvolupament econòmic\, el social i el respecte per la natura. Des de Càritas\, partint d’una visió general de l’encíclica Laudato Si\, realitzem polítiques de sostenibilitat per tenir cura de la nostra casa comuna. \nA càrrec de l’equip de Zona pastoral 2\, Sílvia Albareda\, professora i investigadora de l’Educació per la Sostenibilitat a la UIC i Ferran Casamitjana\, del departament RSC i Compliment Normatiu de CDB. \n  \nSessió adreçada a tot l’equip humà de CDB \nData: Dimecres 24 d’abril a les 17.30 h \nLloc: Escola Sant Josep-Teresianes (C/Nàpols\, 359 – cantonada Travessera de Gràcia) Metro L4: Joanic \n  \nCal inscripció prèvia a través d’aquest FORMULARI
URL:https://caritas.barcelona/agenda-caritas/cicle-de-reflexions-compromis-de-caritas-amb-la-sostenibilitat-i-lecologia/
LOCATION:Escola Sant Josep-Teresianes\, C/Nàpols\, 359\, Barcelona\, Barcelona\, 08025\, Espanya
ATTACH;FMTTYPE=image/jpeg:https://caritas.barcelona/wp-content/uploads/2024/04/cicle.jpg
ORGANIZER;CN="C%C3%A0ritas Barcelona":MAILTO:caritas@caritas.barcelona
GEO:41.4058232;2.1651714
X-APPLE-STRUCTURED-LOCATION;VALUE=URI;X-ADDRESS=Escola Sant Josep-Teresianes C/Nàpols 359 Barcelona Barcelona 08025 Espanya;X-APPLE-RADIUS=500;X-TITLE=C/Nàpols\, 359:geo:2.1651714,41.4058232
END:VEVENT
BEGIN:VEVENT
DTSTART;VALUE=DATE:20240428
DTEND;VALUE=DATE:20240429
DTSTAMP:20260423T214059
CREATED:20240415T104842Z
LAST-MODIFIED:20240415T110722Z
UID:10002013-1714262400-1714348799@caritas.barcelona
SUMMARY:Caminada popular x Sant Jordi
DESCRIPTION:Anima’t i vine a la 27a marxa per Sant Jordi! \n \nLa Marxa Sant Jordi és una activitat esportiva de caire popular que pots fer caminant\, corrent o en marxa. Es porta a terme cada any pels voltants de la diada de Sant Jordi i aquest any arriba la 27a edició. Compta amb dos itineraris diferents: un d’uns 10 km i un més llarg d’uns 20 km. \nAl llarg de la caminada hi haurà avituallament\, botifarra i obsequis per a tothom! \n👉🏼 Cal inscripció prèvia clicant aquí. \n  \nDia: Diumenge 28 d’abril 2024 \nHorari: Sortida a les 8 h \nLloc: Camp Municipal de Cros de Mataró (punt de sortida) \n  \n1 € de cada inscripció es destina a Càritas Mataró Diocesana de Barcelona.
URL:https://caritas.barcelona/agenda-caritas/caminada-popular-x-sant-jordi/
LOCATION:Camp Municipal de Cros de Mataró\, Camí dels Contrabandistes\, Mataró\, Barcelona\, 08304\, Espanya
ATTACH;FMTTYPE=image/jpeg:https://caritas.barcelona/wp-content/uploads/2024/04/IMG-20240409-WA0004.jpg
GEO:41.5604887;2.4439858
X-APPLE-STRUCTURED-LOCATION;VALUE=URI;X-ADDRESS=Camp Municipal de Cros de Mataró Camí dels Contrabandistes Mataró Barcelona 08304 Espanya;X-APPLE-RADIUS=500;X-TITLE=Camí dels Contrabandistes:geo:2.4439858,41.5604887
END:VEVENT
END:VCALENDAR