BEGIN:VCALENDAR
VERSION:2.0
PRODID:-//Caritas Barcelona - ECPv6.15.18//NONSGML v1.0//EN
CALSCALE:GREGORIAN
METHOD:PUBLISH
X-ORIGINAL-URL:https://caritas.barcelona
X-WR-CALDESC:Esdeveniments per Caritas Barcelona
REFRESH-INTERVAL;VALUE=DURATION:PT1H
X-Robots-Tag:noindex
X-PUBLISHED-TTL:PT1H
BEGIN:VTIMEZONE
TZID:Europe/Madrid
BEGIN:DAYLIGHT
TZOFFSETFROM:+0100
TZOFFSETTO:+0200
TZNAME:CEST
DTSTART:20230326T010000
END:DAYLIGHT
BEGIN:STANDARD
TZOFFSETFROM:+0200
TZOFFSETTO:+0100
TZNAME:CET
DTSTART:20231029T010000
END:STANDARD
BEGIN:DAYLIGHT
TZOFFSETFROM:+0100
TZOFFSETTO:+0200
TZNAME:CEST
DTSTART:20240331T010000
END:DAYLIGHT
BEGIN:STANDARD
TZOFFSETFROM:+0200
TZOFFSETTO:+0100
TZNAME:CET
DTSTART:20241027T010000
END:STANDARD
BEGIN:DAYLIGHT
TZOFFSETFROM:+0100
TZOFFSETTO:+0200
TZNAME:CEST
DTSTART:20250330T010000
END:DAYLIGHT
BEGIN:STANDARD
TZOFFSETFROM:+0200
TZOFFSETTO:+0100
TZNAME:CET
DTSTART:20251026T010000
END:STANDARD
END:VTIMEZONE
BEGIN:VEVENT
DTSTART;TZID=Europe/Madrid:20240122T093000
DTEND;TZID=Europe/Madrid:20240205T134500
DTSTAMP:20260424T000641
CREATED:20231107T123017Z
LAST-MODIFIED:20231107T123017Z
UID:10001958-1705915800-1707140700@caritas.barcelona
SUMMARY:CURS BÀSIC DE VOLUNTARIAT SOCIAL - 2024.01_VOLSBAS01 - Durada 12 hores (3 sessions)
DESCRIPTION:Curs bàsic de voluntariat social \nPer comprendre i adquirir les competències bàsiques a l’hora d’iniciar-se en l’acció voluntària en una entitat social. \nA càrrec del professorat de l’Escola de formació del voluntariat de CDB. \nPersones destinatàries: persones amb sensibilitat social i que s’inicien o volen iniciar-se en el voluntariat en aquest àmbit. \nHorari: Curs de 12 hores impartit en 3 sessions de quatre hores\, dilluns 22 i 29 de gener i 5 de febrer de 2024\, de 9.30 a 13.45 h \nModalitat: PRESENCIAL \nCal inscripció prèvia. Places limitades. Persones interessades inscriviu-vos clicant en aquest FORMULARI D’INSCRIPCIÓ    \nCost d’inscripció: Aportació de 10€. Per a les persones que ja formen part de l’equip de voluntariat de Càritas\, aquesta aportació és totalment lliure i voluntària. (Les persones que no puguin assumir aquest cost\, poden sol·licitar exempció del pagament). \nCodi curs: 2024.01_VOLSBAS01 \nCurs reconegut pel Pla de formació de l’associacionsime i el voluntariat de Catalunya (PFAVC)
URL:https://caritas.barcelona/agenda-caritas/curs-basic-de-voluntariat-social-2024-01_volsbas01-durada-12-hores-3-sessions/
LOCATION:Seminari Conciliar de Barcelona\, Diputació\, 231\, Barcelona\, Barcelona\, 08007\, Espanya
ATTACH;FMTTYPE=image/jpeg:https://caritas.barcelona/wp-content/uploads/2023/07/VOLSBAS_Proposta.jpg
ORGANIZER;CN="C%C3%A0ritas Barcelona":MAILTO:caritas@caritas.barcelona
GEO:41.3882329;2.1629603
X-APPLE-STRUCTURED-LOCATION;VALUE=URI;X-ADDRESS=Seminari Conciliar de Barcelona Diputació 231 Barcelona Barcelona 08007 Espanya;X-APPLE-RADIUS=500;X-TITLE=Diputació\, 231:geo:2.1629603,41.3882329
END:VEVENT
BEGIN:VEVENT
DTSTART;TZID=Europe/Madrid:20240203T080000
DTEND;TZID=Europe/Madrid:20240211T170000
DTSTAMP:20260424T000641
CREATED:20240123T164006Z
LAST-MODIFIED:20240124T121549Z
UID:10001983-1706947200-1707670800@caritas.barcelona
SUMMARY:II Jornades de l’Església de Barcelona per la interacció entre cultures
DESCRIPTION:En el marc de la Jornada Mundial del Migrant i el Refugiat\, per segon any consecutiu\, les entitats de l’Església de Barcelona que treballem amb i per a la població migrant organitzem un ampli ventall d’activitats adreçades a visibilitzar la resposta a les diverses problemàtiques socials\, culturals i espirituals de la població migrada a casa nostra. \n \nDel 3 a l’11 de febrer de 2024 tindran lloc les II Jornades de l’Església de Barcelona per la interacció entre cultures organitzades pel Secretariat Diocesà de Pastoral amb Migrants\, Camins-F. Social Escola Pia\, Càritas Diocesana de Barcelona i El Lloc de la Dona. Us animem a participar de les diverses activitats organitzades: \n\nConferència: La migració des de la mirada de la Doctrina Social de l’Església. Xerrada amb la participació de persones migrants i teòlegs que ens aproparan conjuntament a la visió de la Doctrina Social de l’Església vers els moviments migratoris.\n\n                   Dia i hora: 07/02/2024 (19h) \n                   Lloc: Parròquia de Santa Anna (carrer de Santa Anna\, 29) \n  \n\nActivitat lúdica: Compartim la diversitat. Acció per acostar-nos de forma lúdica als motius pels quals migren les persones i a la realitat als països d’origen. Comptarà amb activitats musicals\, dansa\, conta contes\, activitats infantils\, entre d’altres.  \n\n                    Dia i hora: 10/02/2024 (d’11h a 14h) \n                   Lloc:  Jardí dels Tarongers (carrer d’Elisabets\, 8) \n  \n\nMissa intercultural. Celebració de l’Eucaristia dominical amb la participació de les diverses Parròquies i Comunitats personals de Barcelona. Serà oberta a tota la Diòcesi\, a diverses llengües i expressions de la fe per celebrar una litúrgia festiva i participativa.                                                                                                                           \n\n                   Dia i hora: 11/02/2024 (17h) \n                   Lloc: Basílica de Santa Maria del Mar (plaça de Santa Maria\, 1) \n  \nI MOLTES ALTRES ACTIVITATS! \nT’hi esperem!
URL:https://caritas.barcelona/agenda-caritas/ii-jornades-de-lesglesia-de-barcelona-per-la-interaccio-entre-cultures/
LOCATION:Barcelona
ATTACH;FMTTYPE=image/jpeg:https://caritas.barcelona/wp-content/uploads/2024/01/CARTELL_MIGRACIO_201223_ok-scaled.jpg
END:VEVENT
BEGIN:VEVENT
DTSTART;TZID=Europe/Madrid:20240203T120000
DTEND;TZID=Europe/Madrid:20240203T130000
DTSTAMP:20260424T000641
CREATED:20240123T161025Z
LAST-MODIFIED:20240130T095354Z
UID:10001741-1706961600-1706965200@caritas.barcelona
SUMMARY:Flashmob: Lliures de decidir si quedar-se o migrar
DESCRIPTION:Activitat organitzada dins del marc de les II Jornades de l’Església de Barcelona per la interacció entre cultures \n \nFlash-mob sota la direcció de la Xixa Teatre i representada per voluntaris i participants de les entitats organitzadores per visibilitzar el dret de les persones a decidir lliurement si quedar-se als seus països d’origen o exercir el dret a migrar\, així com els motius que duen les persones a migrar. \nData: 03/02/2024 \nHora: Assaig: 10h / Acció del flashmob: 12 h \n\nPortar: samarreta o part de de dalt VERMELLA o BLANCA i part de baix NEGRA o FOSCA.\n\nLloc: Pla de la Seu (davant de la Catedral de Barcelona)
URL:https://caritas.barcelona/agenda-caritas/flashmob-lliures-de-decidir-si-quedar-se-o-migrar/
LOCATION:Pla de la Seu\, Pla de la Seu s/n\, Barcelona\, Barcelona\, 08001\, Espanya
ATTACH;FMTTYPE=image/jpeg:https://caritas.barcelona/wp-content/uploads/2024/01/CARTELL_FLASHMOB_220124_Pagina_1-e1706026174561.jpg
GEO:41.3845216;2.1758548
X-APPLE-STRUCTURED-LOCATION;VALUE=URI;X-ADDRESS=Pla de la Seu Pla de la Seu s/n Barcelona Barcelona 08001 Espanya;X-APPLE-RADIUS=500;X-TITLE=Pla de la Seu s/n:geo:2.1758548,41.3845216
END:VEVENT
BEGIN:VEVENT
DTSTART;TZID=Europe/Madrid:20240208T100000
DTEND;TZID=Europe/Madrid:20240208T113000
DTSTAMP:20260424T000641
CREATED:20231117T084315Z
LAST-MODIFIED:20240213T073906Z
UID:10001979-1707386400-1707391800@caritas.barcelona
SUMMARY:SESSIÓ INFORMATIVA SOBRE VOLUNTARIAT-Format presencial-8 de febrer a les 10h (en català)
DESCRIPTION:Aquest és el primer pas per ser voluntari o voluntària de Càritas. Des del programa de Voluntariat\, organitzem sessions informatives periòdiques\, per a totes aquelles persones que vulguin ser voluntàries a la nostra institució. \nAquesta sessió s’impartirà en català\nSi vols apuntar-te a una sessió informativa sobre el voluntariat a Càritas\, inscriu-te a través del següent formulari\, indicant la sessió a la qual vols assistir: \nFes-te voluntari | Caritas Barcelona \nCANVI: Lloc de realització: Diputació\, 231 (Seminari Conciliar de Barcelona)
URL:https://caritas.barcelona/agenda-caritas/sessio-informativa-sobre-voluntariat-format-presencial-8-de-febrer-a-les-10h-en-catala/
LOCATION:Seminari Conciliar de Barcelona\, Diputació\, 231\, Barcelona\, Barcelona\, 08007\, Espanya
ATTACH;FMTTYPE=image/jpeg:https://caritas.barcelona/wp-content/uploads/2020/06/header-rrhh.jpg
ORGANIZER;CN="C%C3%A0ritas Barcelona":MAILTO:caritas@caritas.barcelona
GEO:41.3882329;2.1629603
X-APPLE-STRUCTURED-LOCATION;VALUE=URI;X-ADDRESS=Seminari Conciliar de Barcelona Diputació 231 Barcelona Barcelona 08007 Espanya;X-APPLE-RADIUS=500;X-TITLE=Diputació\, 231:geo:2.1629603,41.3882329
END:VEVENT
BEGIN:VEVENT
DTSTART;TZID=Europe/Madrid:20240219T170000
DTEND;TZID=Europe/Madrid:20240219T183000
DTSTAMP:20260424T000641
CREATED:20231117T084350Z
LAST-MODIFIED:20240220T093544Z
UID:10001981-1708362000-1708367400@caritas.barcelona
SUMMARY:SESSIÓ INFORMATIVA SOBRE VOLUNTARIAT-Format virtual-19 de febrer a les 17h (en castellà)
DESCRIPTION:Aquest és el primer pas per ser voluntari o voluntària de Càritas. Des del programa de Voluntariat\, organitzem sessions informatives periòdiques\, per a totes aquelles persones que vulguin ser voluntàries a la nostra institució.  \nAquesta sessió s’impartirà en castellà\nSi vols apuntar-te a una sessió informativa sobre el voluntariat a Càritas\, inscriu-te a través del següent formulari\, indicant la sessió a la qual vols assistir: \nFes-te voluntari | Caritas Barcelona 
URL:https://caritas.barcelona/agenda-caritas/sessio-informativa-sobre-voluntariat-format-virtual-19-de-febrer-a-les-17h-en-castella/
LOCATION:Barcelona
ATTACH;FMTTYPE=image/jpeg:https://caritas.barcelona/wp-content/uploads/2020/06/header-rrhh.jpg
ORGANIZER;CN="C%C3%A0ritas Barcelona":MAILTO:caritas@caritas.barcelona
END:VEVENT
BEGIN:VEVENT
DTSTART;TZID=Europe/Madrid:20240226T170000
DTEND;TZID=Europe/Madrid:20240318T200000
DTSTAMP:20260424T000641
CREATED:20231107T124415Z
LAST-MODIFIED:20231107T124415Z
UID:10001962-1708966800-1710792000@caritas.barcelona
SUMMARY:CURS BÀSIC DE VOLUNTARIAT SOCIAL 2024.02_VOLSBAS02 - Durada 12 hores (4 sessions)
DESCRIPTION:Curs bàsic de voluntariat social \nPer comprendre i adquirir les competències bàsiques a l’hora d’iniciar-se en l’acció voluntària en una entitat social. \nA càrrec del professorat de l’Escola de formació del voluntariat de CDB. \nPersones destinatàries: persones amb sensibilitat social i que s’inicien o volen iniciar-se en el voluntariat en aquest àmbit. \nHorari: Curs de 12 hores impartit en 4 sessions de tres hores\, dilluns 26 de febrer i 4\, 11 i 18 de març de 2024 de 17.00 a 20.00 h \nModalitat: PRESENCIAL \nCal inscripció prèvia. Places limitades. Persones interessades inscriviu-vos clicant en aquest FORMULARI D’INSCRIPCIÓ    \nCost d’inscripció: Aportació de 10€. Per a les persones que ja formen part de l’equip de voluntariat de Càritas\, aquesta aportació és totalment lliure i voluntària. (Les persones que no puguin assumir aquest cost\, poden sol·licitar exempció del pagament). \nCodi curs: 2024.02_VOLSBAS02 \nCurs reconegut pel Pla de formació de l’associacionsime i el voluntariat de Catalunya (PFAVC)
URL:https://caritas.barcelona/agenda-caritas/curs-basic-de-voluntariat-social-2024-02_volsbas02-durada-12-hores-4-sessions/
LOCATION:Seminari Conciliar de Barcelona\, Diputació\, 231\, Barcelona\, Barcelona\, 08007\, Espanya
ATTACH;FMTTYPE=image/jpeg:https://caritas.barcelona/wp-content/uploads/2023/07/VOLSBAS_Proposta.jpg
ORGANIZER;CN="C%C3%A0ritas Barcelona":MAILTO:caritas@caritas.barcelona
GEO:41.3882329;2.1629603
X-APPLE-STRUCTURED-LOCATION;VALUE=URI;X-ADDRESS=Seminari Conciliar de Barcelona Diputació 231 Barcelona Barcelona 08007 Espanya;X-APPLE-RADIUS=500;X-TITLE=Diputació\, 231:geo:2.1629603,41.3882329
END:VEVENT
BEGIN:VEVENT
DTSTART;TZID=Europe/Madrid:20240228T173000
DTEND;TZID=Europe/Madrid:20240228T193000
DTSTAMP:20260424T000641
CREATED:20240213T094935Z
LAST-MODIFIED:20240213T094935Z
UID:10001991-1709141400-1709148600@caritas.barcelona
SUMMARY:CICLE DE REFLEXIONS: Envellir dignament i combatre l’edatisme
DESCRIPTION:Desde Càritas treballem per afrontar l’edatisme\, la discriminació\, la soledat no desitjada i el rebuig envers l’envelliment. Actualment vivim en una societat que premia allò nou i jove i censura tot el que representa fer-se gran. Malgrat això\, volem aturar-nos i posar consciència en què totes les persones envellim i tenim dret a viure una vellesa digna i amb respecte a totes les opcions de vida. \nTaula rodona dinamitzada per Imma Fernández\, tècnica del Programa de Gent Gran de Càritas Diocesana de Barcelona (CDB) amb la participació de la Dra. Mireia Baylina Melé\, metgessa especialista en Medicina Interna i màster en Geriatria\, professora a la Facultat de Medicina de la UIC\, Montserrat Vilaseca\, autora del llibre Vull viure a casa\, responsable del Programa “Visca els ancians” de la Comunitat de Sant Egidio i Mercè Mas Quintana\, treballadora social jubilada. Membre de la Comissió  Executiva del Consell de Gent Gran de Catalunya. \nPersones destinatàries: acció oberta a tots els voluntaris i agents de CDB \nHorari: dimecres 28 de febrer de 17.30 a 19.30 h \nLloc: Sala d’Actes de l’Escola Sant Ramon Nonat. Carretera de Collblanc 72. Metro L5: COLLBLANC \nCal inscripció prèvia a través d’aquest FORMULARI
URL:https://caritas.barcelona/agenda-caritas/cicle-de-reflexions-envellir-dignament-i-combatre-ledatisme/
LOCATION:Sala d’Actes de l’Escola Sant Ramon Nonat. Carretera de Collblanc 72. Metro L5: COLLBLANC\, Collblanc\, 72\, Barcelona\, Barcelona\, 08028\, Espanya
ATTACH;FMTTYPE=image/png:https://caritas.barcelona/wp-content/uploads/2024/02/cicle-28-febrer.png
ORGANIZER;CN="C%C3%A0ritas Barcelona":MAILTO:caritas@caritas.barcelona
GEO:41.376051;2.116752
X-APPLE-STRUCTURED-LOCATION;VALUE=URI;X-ADDRESS=Sala d’Actes de l’Escola Sant Ramon Nonat. Carretera de Collblanc 72. Metro L5: COLLBLANC Collblanc 72 Barcelona Barcelona 08028 Espanya;X-APPLE-RADIUS=500;X-TITLE=Collblanc\, 72:geo:2.116752,41.376051
END:VEVENT
END:VCALENDAR