BEGIN:VCALENDAR
VERSION:2.0
PRODID:-//Caritas Barcelona - ECPv6.15.18//NONSGML v1.0//EN
CALSCALE:GREGORIAN
METHOD:PUBLISH
X-WR-CALNAME:Caritas Barcelona
X-ORIGINAL-URL:https://caritas.barcelona
X-WR-CALDESC:Esdeveniments per Caritas Barcelona
REFRESH-INTERVAL;VALUE=DURATION:PT1H
X-Robots-Tag:noindex
X-PUBLISHED-TTL:PT1H
BEGIN:VTIMEZONE
TZID:Europe/Madrid
BEGIN:DAYLIGHT
TZOFFSETFROM:+0100
TZOFFSETTO:+0200
TZNAME:CEST
DTSTART:20220327T010000
END:DAYLIGHT
BEGIN:STANDARD
TZOFFSETFROM:+0200
TZOFFSETTO:+0100
TZNAME:CET
DTSTART:20221030T010000
END:STANDARD
BEGIN:DAYLIGHT
TZOFFSETFROM:+0100
TZOFFSETTO:+0200
TZNAME:CEST
DTSTART:20230326T010000
END:DAYLIGHT
BEGIN:STANDARD
TZOFFSETFROM:+0200
TZOFFSETTO:+0100
TZNAME:CET
DTSTART:20231029T010000
END:STANDARD
BEGIN:DAYLIGHT
TZOFFSETFROM:+0100
TZOFFSETTO:+0200
TZNAME:CEST
DTSTART:20240331T010000
END:DAYLIGHT
BEGIN:STANDARD
TZOFFSETFROM:+0200
TZOFFSETTO:+0100
TZNAME:CET
DTSTART:20241027T010000
END:STANDARD
END:VTIMEZONE
BEGIN:VEVENT
DTSTART;TZID=Europe/Madrid:20231106T170000
DTEND;TZID=Europe/Madrid:20231127T200000
DTSTAMP:20260424T035613
CREATED:20230705T073744Z
LAST-MODIFIED:20230912T091644Z
UID:10001939-1699290000-1701115200@caritas.barcelona
SUMMARY:CURS BÀSIC DE VOLUNTARIAT SOCIAL 2023.11_VOLSBAS09 - Durada 12 hores (4 sessions)
DESCRIPTION:Curs bàsic de voluntariat social \nPer comprendre i adquirir les competències bàsiques a l’hora d’iniciar-se en l’acció voluntària en una entitat social. \nA càrrec del professorat de l’Escola de formació del voluntariat de CDB. \nPersones destinatàries: persones amb sensibilitat social i que s’inicien o volen iniciar-se en el voluntariat en aquest àmbit. \nHorari: Curs de 12 hores impartit en 4 sessions de tres hores\, dilluns 6\, 13\, 20 i 27 de novembre de 2023 de 17.00 a 20.00 h \nModalitat: PRESENCIAL \nCal inscripció prèvia. Places limitades. Persones interessades inscriviu-vos clicant en aquest FORMULARI D’INSCRIPCIÓ    \nCost d’inscripció: Aportació de 10€. Per a les persones que ja formen part de l’equip de voluntariat de Càritas\, aquesta aportació és totalment lliure i voluntària. (Les persones que no puguin assumir aquest cost\, poden sol·licitar exempció del pagament). \nCodi curs: 2023.11_VOLSBAS09 \nCurs reconegut pel Pla de formació de l’associacionsime i el voluntariat de Catalunya (PFAVC)
URL:https://caritas.barcelona/agenda-caritas/curs-basic-de-voluntariat-social-2023-11_volsbas09-durada-12-hores-4-sessions/
LOCATION:Seminari Conciliar de Barcelona\, Diputació\, 231\, Barcelona\, Barcelona\, 08007\, Espanya
ATTACH;FMTTYPE=image/jpeg:https://caritas.barcelona/wp-content/uploads/2023/07/VOLSBAS_Proposta.jpg
ORGANIZER;CN="C%C3%A0ritas Barcelona":MAILTO:caritas@caritas.barcelona
GEO:41.3882329;2.1629603
X-APPLE-STRUCTURED-LOCATION;VALUE=URI;X-ADDRESS=Seminari Conciliar de Barcelona Diputació 231 Barcelona Barcelona 08007 Espanya;X-APPLE-RADIUS=500;X-TITLE=Diputació\, 231:geo:2.1629603,41.3882329
END:VEVENT
BEGIN:VEVENT
DTSTART;TZID=Europe/Madrid:20231108T100000
DTEND;TZID=Europe/Madrid:20231108T113000
DTSTAMP:20260424T035613
CREATED:20231006T151234Z
LAST-MODIFIED:20231115T084616Z
UID:10001951-1699437600-1699443000@caritas.barcelona
SUMMARY:SESSIÓ INFORMATIVA SOBRE VOLUNTARIAT-Format presencial-8 de novembre a les 10h (en català)
DESCRIPTION:Aquest és el primer pas per ser voluntari o voluntària de Càritas. Des del programa de Voluntariat\, organitzem sessions informatives periòdiques\, per a totes aquelles persones que vulguin ser voluntàries a la nostra institució. \nAquesta sessió s’impartirà en català\nSi vols apuntar-te a una sessió informativa sobre el voluntariat a Càritas\, inscriu-te a través del següent formulari\, indicant la sessió a la qual vols assistir: \nFes-te voluntari | Caritas Barcelona \nLloc de realització: Plaça Nova 1\, Barcelona
URL:https://caritas.barcelona/agenda-caritas/sessio-informativa-sobre-voluntariat-format-presencial-8-de-novembre-a-les-10h-en-catala/
LOCATION:Barcelona 1 – Districtes de Ciutat Vella\, Eixample i barri del Poble-sec\, Plaça Nova\, 1\, Barcelona\, Barcelona\, 08002\, Espanya
ORGANIZER;CN="C%C3%A0ritas Barcelona":MAILTO:caritas@caritas.barcelona
GEO:41.3840277;2.1751608
X-APPLE-STRUCTURED-LOCATION;VALUE=URI;X-ADDRESS=Barcelona 1 – Districtes de Ciutat Vella Eixample i barri del Poble-sec Plaça Nova 1 Barcelona Barcelona 08002 Espanya;X-APPLE-RADIUS=500;X-TITLE=Plaça Nova\, 1:geo:2.1751608,41.3840277
END:VEVENT
BEGIN:VEVENT
DTSTART;TZID=Europe/Madrid:20231116T163000
DTEND;TZID=Europe/Madrid:20231116T183000
DTSTAMP:20260424T035613
CREATED:20231108T120254Z
LAST-MODIFIED:20231108T121759Z
UID:10001963-1700152200-1700159400@caritas.barcelona
SUMMARY:El padró\, un dret per a tothom?
DESCRIPTION:L’empadronament és l’acte de registrar-se a l’ajuntament del municipi de residència habitual. Segons la llei\, poden empadronar-se totes les persones que resideixen a Catalunya\, amb independència de la seva situació administrativa\, però no sempre passa. \nDes de la Plataforma d’entitats cristianes amb les persones migrants\, volem reflexionar al voltant del padró durant l’acte “El padró\, un dret per a tothom?”. T’esperem dijous 16 de novembre a les 16.30 h\, a l’antic monestir de Sant Pau del Camp (c/ Sant Pau del Camp\, 99).
URL:https://caritas.barcelona/agenda-caritas/el-padro-un-dret-per-a-tothom/
LOCATION:Sant Pau del Camp\, Carrer de Sant Pau\, 101\, Barcelona\, Barcelona\, 08001\, Espanya
ATTACH;FMTTYPE=image/jpeg:https://caritas.barcelona/wp-content/uploads/2023/11/20231116_PADRO_ACTE_PETIT.jpg
ORGANIZER;CN="C%C3%A0ritas Barcelona":MAILTO:caritas@caritas.barcelona
GEO:41.3759322;2.1691632
X-APPLE-STRUCTURED-LOCATION;VALUE=URI;X-ADDRESS=Sant Pau del Camp Carrer de Sant Pau 101 Barcelona Barcelona 08001 Espanya;X-APPLE-RADIUS=500;X-TITLE=Carrer de Sant Pau\, 101:geo:2.1691632,41.3759322
END:VEVENT
BEGIN:VEVENT
DTSTART;TZID=Europe/Madrid:20231117T171500
DTEND;TZID=Europe/Madrid:20231118T220000
DTSTAMP:20260424T035613
CREATED:20231116T101405Z
LAST-MODIFIED:20231116T101405Z
UID:10001972-1700241300-1700344800@caritas.barcelona
SUMMARY:Congrés Inspira per a parròquies en sortida
DESCRIPTION:Un congrés per a comunitats parroquials que cerquen inspiració\, formació i motivació per a sortir a anunciar l’Evangeli al nostre món.  \n“Si la parròquia és capaç de reformar-se i adaptar-se contínuament\, seguirà sent la mateixa Església que viu entre les cases dels seus fills i filles.”  \nPapa Francesc\, EG\, 28  \n  \n \n  \nPersones destinatàries: preveres\, diaques\, religiosos i laics de comunitats parroquials. S’hi pot anar individualment\, però la recomanació és participar-hi com equip de responsables de la comunitat.  \nT’esperem el pròxim divendres 17 de novembre des de les 17.15 h fins dissabte 18 de novembre a les 22.00 h a la Salle Bonanova (Pg. De la Bonanova\, 8\, 08022 Barcelona)  \nMés informació i inscripció prèvia a través d’aquest ENLLAÇ. 
URL:https://caritas.barcelona/agenda-caritas/congres-inspira-per-a-parroquies-en-sortida/
LOCATION:La Salle Bonanova\, Passeig de la Bonanova\, 8\, Barcelona\, Barcelona\, 08022\, Espanya
ATTACH;FMTTYPE=image/jpeg:https://caritas.barcelona/wp-content/uploads/2023/11/congres-inspira.jpg
GEO:41.4070194;2.1309253
X-APPLE-STRUCTURED-LOCATION;VALUE=URI;X-ADDRESS=La Salle Bonanova Passeig de la Bonanova 8 Barcelona Barcelona 08022 Espanya;X-APPLE-RADIUS=500;X-TITLE=Passeig de la Bonanova\, 8:geo:2.1309253,41.4070194
END:VEVENT
BEGIN:VEVENT
DTSTART;TZID=Europe/Madrid:20231119T120000
DTEND;TZID=Europe/Madrid:20231119T150000
DTSTAMP:20260424T035613
CREATED:20231116T090754Z
LAST-MODIFIED:20231117T135148Z
UID:10001969-1700395200-1700406000@caritas.barcelona
SUMMARY:VII Jornada Mundial dels Pobres
DESCRIPTION:El diumenge 19 de novembre et convidem a la setena Jornada Mundial dels Pobres. Sota el lema“No apartis la mirada del pobre” mirarem d’aplegar-nos en una missa i un dinar de germanor per celebrarla. \n \nLa jornada se celebrará el diumenge 19 de novembre a partir de les 12h a Sant Pau del Camp\, a Barcelona (Carrer de Sant Pau\, 99). \nMissatge del papa Francesc: Cada dia ens comprometem a acollir els pobres\, però no és suficient. El diumenge anterior a la festa de Jesucrist\, Rei de tot el món\, ens reunim al voltant de la seva Taula per a rebre d’Ell\, una vegada més\, el do i el compromís de viure la pobresa i de servir els pobres. Trobeu el missatge sencer en aquest ENLLAÇ. \nCarta dominical ‘Siguem bona notícia per als pobres’: A la nostra diòcesi\, la situació és encara més greu\, ja que un 32% dels nostres germans (885.000 persones) es troben en aquesta terrible situació. No podem silenciar ni ser indiferents al clam de tants germans que demanen el nostre suport i la nostra solidaritat. \nINCRIPCIONS: 93 317 63 97 o sdmarginacio@arqbcn.cat.
URL:https://caritas.barcelona/agenda-caritas/vii-jornada-mundial-dels-pobres/
LOCATION:Sant Pau del Camp\, Carrer de Sant Pau\, 101\, Barcelona\, Barcelona\, 08001\, Espanya
ATTACH;FMTTYPE=image/jpeg:https://caritas.barcelona/wp-content/uploads/2023/11/WhatsApp-Image-2023-11-17-at-14.50.28.jpeg
GEO:41.3759322;2.1691632
X-APPLE-STRUCTURED-LOCATION;VALUE=URI;X-ADDRESS=Sant Pau del Camp Carrer de Sant Pau 101 Barcelona Barcelona 08001 Espanya;X-APPLE-RADIUS=500;X-TITLE=Carrer de Sant Pau\, 101:geo:2.1691632,41.3759322
END:VEVENT
BEGIN:VEVENT
DTSTART;TZID=Europe/Madrid:20231120T160000
DTEND;TZID=Europe/Madrid:20231120T173000
DTSTAMP:20260424T035613
CREATED:20231018T115421Z
LAST-MODIFIED:20231123T134503Z
UID:10001953-1700496000-1700501400@caritas.barcelona
SUMMARY:SESSIÓ INFORMATIVA SOBRE VOLUNTARIAT-Format virtual-20 de novembre a les 16h (en castellà)
DESCRIPTION:Aquest és el primer pas per ser voluntari o voluntària de Càritas. Des del programa de Voluntariat\, organitzem sessions informatives periòdiques\, per a totes aquelles persones que vulguin ser voluntàries a la nostra institució.  \nAquesta sessió s’impartirà en castellà\nSi vols apuntar-te a una sessió informativa sobre el voluntariat a Càritas\, inscriu-te a través del següent formulari\, indicant la sessió a la qual vols assistir: \nFes-te voluntari | Caritas Barcelona 
URL:https://caritas.barcelona/agenda-caritas/sessio-informativa-sobre-voluntariat-format-virtual-20-de-novembre-a-les-16h-en-castella/
LOCATION:Barcelona
ORGANIZER;CN="C%C3%A0ritas Barcelona":MAILTO:caritas@caritas.barcelona
END:VEVENT
BEGIN:VEVENT
DTSTART;TZID=Europe/Madrid:20231122T090000
DTEND;TZID=Europe/Madrid:20231122T130000
DTSTAMP:20260424T035614
CREATED:20231026T104926Z
LAST-MODIFIED:20231117T102734Z
UID:10001956-1700643600-1700658000@caritas.barcelona
SUMMARY:JORNADA: Respostes transformadores a la precarietat alimentaria
DESCRIPTION:El dimecres 22 de novembre (de 9h a 13h) us convidem a la presentació de l’estudi “Respostes transformadores a la precarietat alimentària. Estudi sobre les targetes moneder a l’Hospitalet de Llobregat”\, elaborat per l’Observatori de la Realitat de Càritas Diocesana de Barcelona\, juntament amb la Fundació La Vinya. \n \nEn aquesta jornada\, que se celebrarà a la Parròquia de Sant Joan Evangelista (Avinguda Europa\, 30 l’Hospitalet de Llobregat) parlarem sobre com es treballa per a garantir el dret a l’alimentació davant les creixents situacions de precarietat alimentària. \nEsperem que pugueu participar i gaudir d’aquesta sessió. Podeu inscriure-us en aquest ENLLAÇ \nA continuació pots consultar el programa de la jornada:
URL:https://caritas.barcelona/agenda-caritas/jornada-respostes-transformadores-a-la-precarietat-alimentaria/
LOCATION:Parròquia Sant Joan Evangelista\, Av. d'Europa\, 30\, L'Hospitalet de Llobregat\, Barcelona\, 08907\, Espanya
ATTACH;FMTTYPE=image/png:https://caritas.barcelona/wp-content/uploads/2023/10/Targeta.fw_.png
ORGANIZER;CN="C%C3%A0ritas Barcelona":MAILTO:caritas@caritas.barcelona
GEO:41.3549392;2.114336
X-APPLE-STRUCTURED-LOCATION;VALUE=URI;X-ADDRESS=Parròquia Sant Joan Evangelista Av. d'Europa 30 L'Hospitalet de Llobregat Barcelona 08907 Espanya;X-APPLE-RADIUS=500;X-TITLE=Av. d'Europa\, 30:geo:2.114336,41.3549392
END:VEVENT
BEGIN:VEVENT
DTSTART;TZID=Europe/Madrid:20231123T110000
DTEND;TZID=Europe/Madrid:20231123T130000
DTSTAMP:20260424T035614
CREATED:20231116T103630Z
LAST-MODIFIED:20231121T103408Z
UID:10001973-1700737200-1700744400@caritas.barcelona
SUMMARY:Comparteix la teva xarxa: No deixis que quedin fora de cobertura
DESCRIPTION:Amb motiu del Dia Internacional de les persones sense llar et convidem a participar de diverses accions dins la campanya de sensibilització 2023 promoguda per Càritas ‘Comparteix la teva xarxa’.  \n \nLes persones que pateixen el sensellarisme\, viuen desvinculades i desconnectades de molts àmbits de la nostra societat: padró\, domicili\, habitatge\, intimitat\, salut\, feina\, serveis socials\, família\, amics… Sense vincles relacionals que els proporcionin suport. Un aïllament que les fa invisibles i sense possibilitat de sortir d’aquest cercle de pobresa i exclusió social. Una realitat traumàtica i dolorosa que es fa més dura i agressiva en el cas de les dones que la pateixen.  \nCal recuperar la connexió de la societat amb les persones més vulnerables. Per això\, per poder recordar\, prendre consciència\, sensibilitzar\, reclamar i donar visibilitat\, suport i integrar els que se senten fora de tot\, sortim al carrer! Comparteix la teva xarxa i no deixis que es quedin fora de cobertura.  \nEns trobem el proper dijous 23 de novembre:  \nA BADALONA a les 11h a la Plaça Pompeu Fabra  \nA BARCELONA les 12h a Plaça Sant Jaume  \nA HOSPITALET a les 18h a la plaça de l’Ajuntament
URL:https://caritas.barcelona/agenda-caritas/comparteix-la-teva-xarxa-no-deixis-que-quedin-fora-de-cobertura/
LOCATION:Plaça Pompeu Fabra\, Carrer de la Creu\, 70\, 08912 Badalona\, Barcelona\, Espanya
ORGANIZER;CN="C%C3%A0ritas Barcelona":MAILTO:caritas@caritas.barcelona
GEO:41.4489732;2.2440985
X-APPLE-STRUCTURED-LOCATION;VALUE=URI;X-ADDRESS=Plaça Pompeu Fabra Carrer de la Creu 70 08912 Badalona Barcelona Espanya;X-APPLE-RADIUS=500;X-TITLE=Carrer de la Creu\, 70\, 08912 Badalona\, Barcelona:geo:2.2440985,41.4489732
END:VEVENT
BEGIN:VEVENT
DTSTART;TZID=Europe/Madrid:20231126T170000
DTEND;TZID=Europe/Madrid:20231126T190000
DTSTAMP:20260424T035614
CREATED:20231116T084041Z
LAST-MODIFIED:20231116T101252Z
UID:10001967-1701018000-1701025200@caritas.barcelona
SUMMARY:Nova etapa del Pla Pastoral diocesà: “L’encontre amb Jesucrist i el seu anunci”
DESCRIPTION:Trobada celebrativa d’inici de l’eix “L’encontre amb Jesucrist i el seu anunci” del Pla pastoral de l’Arxidiòcesi de Barcelona SORTIM! Acabarem amb la celebració de l’Eucaristia.  \n \nT’esperem el proper diumenge 26 de novembre\, festivitat de Crist Rei\, a les 17.00h a la  Parròquia de Sant Pius X (C/Cardenal Tedeschini 52\, Barcelona). 
URL:https://caritas.barcelona/agenda-caritas/nova-etapa-del-pla-pastoral-diocesa-lencontre-amb-jesucrist-i-el-seu-anunci/
LOCATION:Parròquia de Sant Pius X\, Carrer Cardenal Tedeschini 52\, Barcelona\, Barcelona\, 08027\, Espanya
ATTACH;FMTTYPE=image/jpeg:https://caritas.barcelona/wp-content/uploads/2023/11/thumbnail_image020-1.jpg
ORGANIZER;CN="Arquebisbat de Barcelona":MAILTO:secgral@arqbcn.cat
GEO:41.4261667;2.1819239
X-APPLE-STRUCTURED-LOCATION;VALUE=URI;X-ADDRESS=Parròquia de Sant Pius X Carrer Cardenal Tedeschini 52 Barcelona Barcelona 08027 Espanya;X-APPLE-RADIUS=500;X-TITLE=Carrer Cardenal Tedeschini 52:geo:2.1819239,41.4261667
END:VEVENT
BEGIN:VEVENT
DTSTART;TZID=Europe/Madrid:20231129T173000
DTEND;TZID=Europe/Madrid:20231129T193000
DTSTAMP:20260424T035614
CREATED:20231123T135537Z
LAST-MODIFIED:20231123T135537Z
UID:10001724-1701279000-1701286200@caritas.barcelona
SUMMARY:CICLE DE REFLEXIONS: L’acompanyament a les persones en situació de sense llar
DESCRIPTION:Davant dels canvis socials i de l’exclusió residencial que vivim\, volem reflexionar sobre l’acompanyament a les persones que estan en situació de sense llar (no només les que viuen al carrer\, sinó les que viuen en habitatges insegurs i inadequats) que són cada vegada més nombroses i diverses. Volem pensar en les causes i conseqüències\, i\, també\, com podem acompanyar-les per millorar la seva situació. \n  \nOrganitza: Zona Pastoral 1 i Programa Sense Llar i Habitatge de Càritas Diocesana de Barcelona \nPersones destinatàries: acció oberta \nHorari: dimecres 29 de novembre de 17.30 a 19.30 h \nLloc: Càritas Diocesana de Barcelona. Plaça Nova\, num.1 BCN. \nCal inscripció prèvia a través d’aquest FORMULARI
URL:https://caritas.barcelona/agenda-caritas/cicle-de-reflexions-lacompanyament-a-les-persones-en-situacio-de-sense-llar/
LOCATION:Barcelona 1 – Districtes de Ciutat Vella\, Eixample i barri del Poble-sec\, Plaça Nova\, 1\, Barcelona\, Barcelona\, 08002\, Espanya
ATTACH;FMTTYPE=image/jpeg:https://caritas.barcelona/wp-content/uploads/2023/11/cicle-reflexions.jpg
ORGANIZER;CN="C%C3%A0ritas Barcelona":MAILTO:caritas@caritas.barcelona
GEO:41.3840277;2.1751608
X-APPLE-STRUCTURED-LOCATION;VALUE=URI;X-ADDRESS=Barcelona 1 – Districtes de Ciutat Vella Eixample i barri del Poble-sec Plaça Nova 1 Barcelona Barcelona 08002 Espanya;X-APPLE-RADIUS=500;X-TITLE=Plaça Nova\, 1:geo:2.1751608,41.3840277
END:VEVENT
END:VCALENDAR