BEGIN:VCALENDAR
VERSION:2.0
PRODID:-//Caritas Barcelona - ECPv6.15.18//NONSGML v1.0//EN
CALSCALE:GREGORIAN
METHOD:PUBLISH
X-WR-CALNAME:Caritas Barcelona
X-ORIGINAL-URL:https://caritas.barcelona
X-WR-CALDESC:Esdeveniments per Caritas Barcelona
REFRESH-INTERVAL;VALUE=DURATION:PT1H
X-Robots-Tag:noindex
X-PUBLISHED-TTL:PT1H
BEGIN:VTIMEZONE
TZID:Europe/Madrid
BEGIN:DAYLIGHT
TZOFFSETFROM:+0100
TZOFFSETTO:+0200
TZNAME:CEST
DTSTART:20220327T010000
END:DAYLIGHT
BEGIN:STANDARD
TZOFFSETFROM:+0200
TZOFFSETTO:+0100
TZNAME:CET
DTSTART:20221030T010000
END:STANDARD
BEGIN:DAYLIGHT
TZOFFSETFROM:+0100
TZOFFSETTO:+0200
TZNAME:CEST
DTSTART:20230326T010000
END:DAYLIGHT
BEGIN:STANDARD
TZOFFSETFROM:+0200
TZOFFSETTO:+0100
TZNAME:CET
DTSTART:20231029T010000
END:STANDARD
BEGIN:DAYLIGHT
TZOFFSETFROM:+0100
TZOFFSETTO:+0200
TZNAME:CEST
DTSTART:20240331T010000
END:DAYLIGHT
BEGIN:STANDARD
TZOFFSETFROM:+0200
TZOFFSETTO:+0100
TZNAME:CET
DTSTART:20241027T010000
END:STANDARD
END:VTIMEZONE
BEGIN:VEVENT
DTSTART;TZID=Europe/Madrid:20230905T120000
DTEND;TZID=Europe/Madrid:20230905T133000
DTSTAMP:20260424T063725
CREATED:20230621T124434Z
LAST-MODIFIED:20230918T080436Z
UID:10001935-1693915200-1693920600@caritas.barcelona
SUMMARY:SESSIÓ INFORMATIVA SOBRE VOLUNTARIAT-Format virtual-5 de setembre a les 12h (en castellà)
DESCRIPTION:Aquest és el primer pas per ser voluntari o voluntària de Càritas. Des del programa de Voluntariat\, organitzem sessions informatives periòdiques\, per a totes aquelles persones que vulguin ser voluntàries a la nostra institució.  \nAquesta sessió s’impartirà en castellà\nSi vols apuntar-te a una sessió informativa sobre el voluntariat a Càritas\, inscriu-te a través del següent formulari\, indicant la sessió a la qual vols assistir: \nFes-te voluntari | Caritas Barcelona 
URL:https://caritas.barcelona/agenda-caritas/sessio-informativa-sobre-voluntariat-format-virtual-5-de-setembre-a-les-12h-en-castella/
LOCATION:Barcelona
ORGANIZER;CN="C%C3%A0ritas Barcelona":MAILTO:caritas@caritas.barcelona
END:VEVENT
BEGIN:VEVENT
DTSTART;TZID=Europe/Madrid:20230920T170000
DTEND;TZID=Europe/Madrid:20230920T183000
DTSTAMP:20260424T063725
CREATED:20230901T112956Z
LAST-MODIFIED:20231006T150325Z
UID:10001943-1695229200-1695234600@caritas.barcelona
SUMMARY:SESSIÓ INFORMATIVA SOBRE VOLUNTARIAT-Format presencial-20 de setembre a les 17h (en català)
DESCRIPTION:Aquest és el primer pas per ser voluntari o voluntària de Càritas. Des del programa de Voluntariat\, organitzem sessions informatives periòdiques\, per a totes aquelles persones que vulguin ser voluntàries a la nostra institució. \nAquesta sessió s’impartirà en català\nSi vols apuntar-te a una sessió informativa sobre el voluntariat a Càritas\, inscriu-te a través del següent formulari\, indicant la sessió a la qual vols assistir: \nFes-te voluntari | Caritas Barcelona \nLloc de realització: Plaça Nova 1\, Barcelona
URL:https://caritas.barcelona/agenda-caritas/sessio-informativa-sobre-voluntariat-format-presencial-20-de-setembre-a-les-17h-en-catala/
LOCATION:Barcelona 1 – Districtes de Ciutat Vella\, Eixample i barri del Poble-sec\, Plaça Nova\, 1\, Barcelona\, Barcelona\, 08002\, Espanya
ORGANIZER;CN="C%C3%A0ritas Barcelona":MAILTO:caritas@caritas.barcelona
GEO:41.3840277;2.1751608
X-APPLE-STRUCTURED-LOCATION;VALUE=URI;X-ADDRESS=Barcelona 1 – Districtes de Ciutat Vella Eixample i barri del Poble-sec Plaça Nova 1 Barcelona Barcelona 08002 Espanya;X-APPLE-RADIUS=500;X-TITLE=Plaça Nova\, 1:geo:2.1751608,41.3840277
END:VEVENT
BEGIN:VEVENT
DTSTART;TZID=Europe/Madrid:20230926T183000
DTEND;TZID=Europe/Madrid:20230926T200000
DTSTAMP:20260424T063725
CREATED:20230913T092223Z
LAST-MODIFIED:20230913T092223Z
UID:10001945-1695753000-1695758400@caritas.barcelona
SUMMARY:Celebració Ecumènica en el Temps de la Creació
DESCRIPTION:Cada any durant el Temps de la creació\, de l’1 de setembre al 4 d’octubre\, els cristians d’arreu del món estem cridats a aprofundir la nostra relació amb el Creador\, amb tots els nostres germans i amb tota la creació. \nEl lema d’enguany: “Que la justícia i la pau flueixin” vol despertar la nostra consciència al clam de la Terra i al clam dels pobres perquè junts podem ser un cabalós riu de justícia i pau que aporti nova vida a la Terra i a les generacions futures\, un riu capaç de moure les muntanyes d’injustícia que ens envolten. \nAquesta iniciativa ecumènica és una ocasió privilegiada per connectar amb altres confessions cristianes del nostre entorn i pregar conjuntament al nostre Pare i Creador\, per això us convidem a participar en la pregària ecumènica que es farà el dia 26 de setembre\, a les 18.30 h a la parròquia de Sant Pau del Camp de Barcelona (c/ de Sant Pau\, 99).
URL:https://caritas.barcelona/agenda-caritas/celebracio-ecumenica-en-el-temps-de-la-creacio/
LOCATION:Sant Pau del Camp\, Carrer de Sant Pau\, 101\, Barcelona\, Barcelona\, 08001\, Espanya
ATTACH;FMTTYPE=image/png:https://caritas.barcelona/wp-content/uploads/2023/09/Imatge1.png
GEO:41.3759322;2.1691632
X-APPLE-STRUCTURED-LOCATION;VALUE=URI;X-ADDRESS=Sant Pau del Camp Carrer de Sant Pau 101 Barcelona Barcelona 08001 Espanya;X-APPLE-RADIUS=500;X-TITLE=Carrer de Sant Pau\, 101:geo:2.1691632,41.3759322
END:VEVENT
BEGIN:VEVENT
DTSTART;TZID=Europe/Madrid:20230927T090000
DTEND;TZID=Europe/Madrid:20230927T140000
DTSTAMP:20260424T063725
CREATED:20230913T095002Z
LAST-MODIFIED:20230913T095755Z
UID:10001688-1695805200-1695823200@caritas.barcelona
SUMMARY:Jornada 'Irregularitat i ocupació\, un binomi possible'
DESCRIPTION:El proper 27/09/2023\, et convidem a participar a la jornada ‘Irregularitat i ocupació\, un binomi possible’ que tindrà lloc al Palau Macaya (Pg. de St. Joan\, 108) de 9h a 14h. \nEn aquesta jornada tindrem la possibilitat d’escoltar i compartir amb experts i expertes les possibilitats que ofereix el mercat de treball a les persones que no tenen regularitzada la seva situació\, així com el paper fonamental que hi tenen les empreses i l’administració. \nL’objectiu és posar a l’agenda pública recomanacions i demandes que han de permetre millorar les condicions de vida de les persones en situació d’irregularitat. \n  \n \n 
URL:https://caritas.barcelona/agenda-caritas/jornada-irregularitat-i-ocupacio-un-binomi-possible/
LOCATION:Palau Macaya\, Passeig de Sant Joan\, 108\, Barcelona\, Barcelona\, 08037\, Espanya
ORGANIZER;CN="C%C3%A0ritas Barcelona":MAILTO:caritas@caritas.barcelona
GEO:41.3999071;2.169349
X-APPLE-STRUCTURED-LOCATION;VALUE=URI;X-ADDRESS=Palau Macaya Passeig de Sant Joan 108 Barcelona Barcelona 08037 Espanya;X-APPLE-RADIUS=500;X-TITLE=Passeig de Sant Joan\, 108:geo:2.169349,41.3999071
END:VEVENT
BEGIN:VEVENT
DTSTART;TZID=Europe/Madrid:20230930T190000
DTEND;TZID=Europe/Madrid:20230930T200000
DTSTAMP:20260424T063725
CREATED:20230801T082953Z
LAST-MODIFIED:20230801T084924Z
UID:10001941-1696100400-1696104000@caritas.barcelona
SUMMARY:"Lliures"\, la 10a Vetlla de pregària davant del CIE de Zona Franca
DESCRIPTION:Vetlla de pregària al CIE de Zona Franca \nEl grup d’acompanyament a interns del CIE\, de Migra Studium\, organitza anualment una Vetlla de pregària davant del CIE de la Zona Franca que s’emmarca dins la Jornada Mundial de les Migracions i el Refugi a l’Església. \nJa fa 11 anys que un equip de voluntariat de Migra Studium visita les persones internes privades de llibertat al CIE de la Zona Franca. L’inici de la nostra activitat té com a detonant la mort de dues persones a l’interior d’un Centre d’Internament: Samba Martine al CIE d’Aluche (Madrid)\, el 19 de desembre de 2011\, Idrissa Diallo al CIE de Zona Franca (Barcelona)\, el 5 de gener de 2012. Aquests fets van provocar la reacció d’organitzacions de la societat civil i llavors Migra Studium va decidir exercir el seu legítim dret a conèixer què passa al CIE\, a qui s’hi interna i per què. \n  \nHorari: a partir de les 19.00 h (duració d’una hora aproximadament) \nModalitat: PRESENCIAL \nPer adherir-se a la iniciativa cal inscripció prèvia. Les persones interessades es poden inscriure clicant en aquest FORMULARI D’INSCRIPCIÓ. Hi ha temps fins al 25 de setembre. \n  \nDes del 2012\, Migra Studium ha realitzat més de 3.000 visites a 1.400 interns al CIE\, fet que ens ha permès corroborar que el CIE es tracta d’un dispositiu\, dels més repressius de la política migratòria\, on es priva de llibertat a persones estrangeres a l’espera de ser expulsades als seus països d’origen. El context de privació de llibertat és afavoridor de vulneracions de drets humans fonamentals\, si el sistema de control i garanties no actua amb rigor\, rapidesa i eficàcia. És per això que a totes les entitats i col·lectius\, us demanem la vostra adhesió i us animem a acompanyar-nos aquell dia. \nAQUÍ trobareu més detalls sobre el projecte de visites al CIE.
URL:https://caritas.barcelona/agenda-caritas/lliures-la-10a-vetlla-de-pregaria-davant-del-cie-de-zona-franca/
LOCATION:CIE Zona Franca\, Carrer E\, 40\,\, Barcelona\, Barcelona\, 08040\, Espanya
ATTACH;FMTTYPE=image/jpeg:https://caritas.barcelona/wp-content/uploads/2017/04/20170114_vetlla_CIE-6.jpg
GEO:41.3272943;2.1258456
X-APPLE-STRUCTURED-LOCATION;VALUE=URI;X-ADDRESS=CIE Zona Franca Carrer E 40 Barcelona Barcelona 08040 Espanya;X-APPLE-RADIUS=500;X-TITLE=Carrer E\, 40\,:geo:2.1258456,41.3272943
END:VEVENT
END:VCALENDAR