BEGIN:VCALENDAR
VERSION:2.0
PRODID:-//Caritas Barcelona - ECPv6.15.18//NONSGML v1.0//EN
CALSCALE:GREGORIAN
METHOD:PUBLISH
X-WR-CALNAME:Caritas Barcelona
X-ORIGINAL-URL:https://caritas.barcelona
X-WR-CALDESC:Esdeveniments per Caritas Barcelona
REFRESH-INTERVAL;VALUE=DURATION:PT1H
X-Robots-Tag:noindex
X-PUBLISHED-TTL:PT1H
BEGIN:VTIMEZONE
TZID:Europe/Madrid
BEGIN:DAYLIGHT
TZOFFSETFROM:+0100
TZOFFSETTO:+0200
TZNAME:CEST
DTSTART:20220327T010000
END:DAYLIGHT
BEGIN:STANDARD
TZOFFSETFROM:+0200
TZOFFSETTO:+0100
TZNAME:CET
DTSTART:20221030T010000
END:STANDARD
BEGIN:DAYLIGHT
TZOFFSETFROM:+0100
TZOFFSETTO:+0200
TZNAME:CEST
DTSTART:20230326T010000
END:DAYLIGHT
BEGIN:STANDARD
TZOFFSETFROM:+0200
TZOFFSETTO:+0100
TZNAME:CET
DTSTART:20231029T010000
END:STANDARD
BEGIN:DAYLIGHT
TZOFFSETFROM:+0100
TZOFFSETTO:+0200
TZNAME:CEST
DTSTART:20240331T010000
END:DAYLIGHT
BEGIN:STANDARD
TZOFFSETFROM:+0200
TZOFFSETTO:+0100
TZNAME:CET
DTSTART:20241027T010000
END:STANDARD
END:VTIMEZONE
BEGIN:VEVENT
DTSTART;TZID=Europe/Madrid:20230427T093000
DTEND;TZID=Europe/Madrid:20230511T134500
DTSTAMP:20260424T114650
CREATED:20230303T125550Z
LAST-MODIFIED:20230303T125550Z
UID:10001895-1682587800-1683812700@caritas.barcelona
SUMMARY:CURS BÀSIC DE VOLUNTARIAT SOCIAL-2023/04VOLSBAS.04-Durada 12 hores (3 sessions)
DESCRIPTION:Curs bàsic de voluntariat social \nPer comprendre i adquirir les competències bàsiques a l’hora d’iniciar-se en l’acció voluntària en una entitat social. \nA càrrec del professorat de l’Escola de formació del voluntariat de CDB. \nPersones destinatàries: persones amb sensibilitat social i que s’inicien o volen iniciar-se en el voluntariat en aquest àmbit. \nHorari: Curs de 12 hores impartit en 3 sessions de quatre hores\, dijous 27 d’abril i 4 i 11 de maig de 2023 de 9.30 a 13.45 h \nModalitat: PRESENCIAL \nCal inscripció prèvia. Places limitades. Persones interessades inscriviu-vos clicant en aquest FORMULARI D’INSCRIPCIÓ    \nCost d’inscripció: Aportació de 10€. Per a les persones que ja formen part de l’equip de voluntariat de Càritas\, aquesta aportació és totalment lliure i voluntària. (Les persones que no puguin assumir aquest cost\, poden sol·licitar exempció del pagament). \nCodi curs: 2023/04VOLSBAS.04 \nCurs reconegut pel Pla de formació de l’associacionsime i el voluntariat de Catalunya (PFAVC)
URL:https://caritas.barcelona/agenda-caritas/curs-basic-de-voluntariat-social-2023-04volsbas-04-durada-12-hores-3-sessions/
LOCATION:Seminari Conciliar de Barcelona\, Diputació\, 231\, Barcelona\, Barcelona\, 08007\, Espanya
ATTACH;FMTTYPE=image/jpeg:https://caritas.barcelona/wp-content/uploads/2021/07/WhatsApp-Image-2021-07-14-at-23.47.57-1.jpeg
ORGANIZER;CN="C%C3%A0ritas Barcelona":MAILTO:caritas@caritas.barcelona
GEO:41.3882329;2.1629603
X-APPLE-STRUCTURED-LOCATION;VALUE=URI;X-ADDRESS=Seminari Conciliar de Barcelona Diputació 231 Barcelona Barcelona 08007 Espanya;X-APPLE-RADIUS=500;X-TITLE=Diputació\, 231:geo:2.1629603,41.3882329
END:VEVENT
BEGIN:VEVENT
DTSTART;TZID=Europe/Madrid:20230504T160000
DTEND;TZID=Europe/Madrid:20230511T190000
DTSTAMP:20260424T114650
CREATED:20230505T142603Z
LAST-MODIFIED:20230505T144333Z
UID:10001921-1683216000-1683831600@caritas.barcelona
SUMMARY:Setmana per la Pau - Arcadi Oliveres
DESCRIPTION:La Setmana per la Pau – Arcadi Oliveres ja ha arrencat \nS’hi faran activitats diverses per tal de reflexionar entorn al tema\, des de l’àmbit més artístic fins a trobades per meditar o dinàmiques conversacionals. Durarà fins a l’11 de maig i tindrà lloc arreu de Barcelona\, gairebé de forma diària. \nActes: presentació de la Setmana i lliurament dels premis del Concurs de Murals per la Pau (al Palau Robert)\, concert d’Albert Oliveres (a L’Antàrtida)\, conversatori per a joves (a la Nau Bostik)\, “La Pau del Cor” (a la Plaça Sant Jaume)\, “La Plaça del Diàleg” (a la Rambla del Raval). \n \nLa major part de les propostes tindrà lloc entre setmana a excepció del concert\, que es podrà anar a veure el dissabte.
URL:https://caritas.barcelona/agenda-caritas/setmana-per-la-pau-arcadi-oliveres/
LOCATION:Barcelona
ATTACH;FMTTYPE=image/jpeg:https://caritas.barcelona/wp-content/uploads/2023/05/WhatsApp-Image-2023-05-04-at-18.47.32.jpeg
END:VEVENT
BEGIN:VEVENT
DTSTART;TZID=Europe/Madrid:20230506T153000
DTEND;TZID=Europe/Madrid:20230506T220000
DTSTAMP:20260424T114650
CREATED:20230417T113337Z
LAST-MODIFIED:20230417T114042Z
UID:10001658-1683387000-1683410400@caritas.barcelona
SUMMARY:Betel'23: Manteniu-vos\, Ell ho farà
DESCRIPTION:Et convidem\, dissabte 6 de maig\, a Betel23\, una jornada formativa i vivencial entorn de la fe catòlica per a joves en edat universitària i professionals\, amb inquietuds\, preguntes\, desitjos i il·lusions. \nEs tracta d’un esdeveniment de mig dia\, organitzat per l’Equip Esglèsia Jove Barcelona\, on es combinen xerrades en viu\, testimoniatges\, tallers\, oració i música amb l’objectiu de conèixer a altres joves de Barcelona i voltants i tenir una experiència de fe. \nPrograma: \n\n\n\n15.30\nAcreditacions\n\n\n16.30\nSessió 1 \nEnhamed\nClaudine Uwasakindi\n\n\n18.15\nTallers\n\n\n19.15\nSessió 2\n\nJulio Alberto\nMarta Rodríguez\nActuación Comunidad del Cenáculo\n\n\n20.30\nAdoració\n\n\n21.45\nSopar\n\n\n\nCompra les teves entrades clicant AQUÍ \nPots consultar més informació en la pàgina web de l’esdeveniment: https://betelbcn.com/
URL:https://caritas.barcelona/agenda-caritas/betel23-manteniu-vos-ell-ho-fara/
LOCATION:Teatre La Salle Bonanova\, Paseo Bonanova\, 8\, Barcelona\, Espanya
ATTACH;FMTTYPE=image/jpeg:https://caritas.barcelona/wp-content/uploads/2023/04/vertic_880_0.jpg
GEO:41.4070194;2.1309253
X-APPLE-STRUCTURED-LOCATION;VALUE=URI;X-ADDRESS=Teatre La Salle Bonanova Paseo Bonanova 8 Barcelona Espanya;X-APPLE-RADIUS=500;X-TITLE=Paseo Bonanova\, 8:geo:2.1309253,41.4070194
END:VEVENT
BEGIN:VEVENT
DTSTART;TZID=Europe/Madrid:20230508T163000
DTEND;TZID=Europe/Madrid:20230508T180000
DTSTAMP:20260424T114650
CREATED:20230308T125816Z
LAST-MODIFIED:20230621T123015Z
UID:10001903-1683563400-1683568800@caritas.barcelona
SUMMARY:SESSIÓ INFORMATIVA SOBRE VOLUNTARIAT-Format virtual-8 de maig a les 16.30h (en català)
DESCRIPTION:Aquest és el primer pas per ser voluntari o voluntària de Càritas. Des del programa de Voluntariat\, organitzem sessions informatives periòdiques\, per a totes aquelles persones que vulguin ser voluntàries a la nostra institució.  \nAquesta sessió s’impartirà en català\nSi vols apuntar-te a una sessió informativa sobre el voluntariat a Càritas\, inscriu-te a través del següent formulari\, indicant la sessió a la qual vols assistir: \nFes-te voluntari | Caritas Barcelona 
URL:https://caritas.barcelona/agenda-caritas/sessio-informativa-sobre-voluntariat-format-virtual-8-de-maig-a-les-16-30h-en-catala/
LOCATION:Barcelona
ORGANIZER;CN="C%C3%A0ritas Barcelona":MAILTO:caritas@caritas.barcelona
END:VEVENT
BEGIN:VEVENT
DTSTART;TZID=Europe/Madrid:20230510T173000
DTEND;TZID=Europe/Madrid:20230510T193000
DTSTAMP:20260424T114650
CREATED:20230502T160028Z
LAST-MODIFIED:20230502T160028Z
UID:10001669-1683739800-1683747000@caritas.barcelona
SUMMARY:CICLE DE REFLEXIONS: Sensellarisme: la vida fora de cobertura
DESCRIPTION:Les persones en situació de sense llar veuen vulnerats la majoria dels seus drets\, no tenen cobertura social o legal. Des de Càritas us convidem al Cicle Programa Sense Llar i Habitatge on parlarem sobre els canvis estructurals necessaris per acompanyar millor les persones sense llar perquè puguin restablir vincles i xarxa social\, laboral\, familiar i comunitària\, i garantir els seus drets com a persones i ciutadans. \nSessió a càrrec del Programa Sense Llar i Habitatge de CDB i l’equip d’Acció Social de Zona Pastoral 2 de CDB \n  \nHora: de 17.30 a 19.30 h \nLloc: Parròquia Sant Joan d’Horta\, Carrer Campoamor\, 4 (Barcelona) Metro L5 HORTA \nCal inscripció prèvia clicant en el següent FORMULARI
URL:https://caritas.barcelona/agenda-caritas/cicle-de-reflexions-sensellarisme-la-vida-fora-de-cobertura/
LOCATION:Parròquia Sant Joan d’Horta\, Carrer de Campoamor\, 4\, Barcelona\, Barcelona\, 08031\, Espanya
ATTACH;FMTTYPE=image/jpeg:https://caritas.barcelona/wp-content/uploads/2022/10/11-Cicle_foto-web-002-150x150-4.jpg
ORGANIZER;CN="C%C3%A0ritas Barcelona":MAILTO:caritas@caritas.barcelona
GEO:41.4331437;2.1584676
X-APPLE-STRUCTURED-LOCATION;VALUE=URI;X-ADDRESS=Parròquia Sant Joan d’Horta Carrer de Campoamor 4 Barcelona Barcelona 08031 Espanya;X-APPLE-RADIUS=500;X-TITLE=Carrer de Campoamor\, 4:geo:2.1584676,41.4331437
END:VEVENT
BEGIN:VEVENT
DTSTART;TZID=Europe/Madrid:20230511T093000
DTEND;TZID=Europe/Madrid:20230511T140000
DTSTAMP:20260424T114650
CREATED:20230418T081533Z
LAST-MODIFIED:20230510T150655Z
UID:10001661-1683797400-1683813600@caritas.barcelona
SUMMARY:NO M'ATURO: Fira d'ocupació 2023
DESCRIPTION:La 3a fira d’ocupació organitzada per Càritas Diocesana de Barcelona es durà a terme el dijous 11 de maig\, de 9:30h a 14h al Seminari Conciliar de Barcelona (carrer de la Diputació\, 231). \nLa fira d’ocupació de Càritas Diocesana de Barcelona és un espai de trobada entre el món empresarial i aquelles persones en situació de vulnerabilitat que cerquen oportunitats laborals. Durant la fira també hi haurà fins a 6 tallers diferents\, on les persones podran formar-se en diversos àmbits que poden afavorir la seva inserció al mercat laboral. \nINSCRIU-TE en una de les següents franges horàries per participar-hi: \nINSCRIPCIÓ AQUÍ\nT’hi esperem!
URL:https://caritas.barcelona/agenda-caritas/fira-ocupacio-2023/
LOCATION:Seminari Conciliar de Barcelona\, Diputació\, 231\, Barcelona\, Barcelona\, 08007\, Espanya
ATTACH;FMTTYPE=image/jpeg:https://caritas.barcelona/wp-content/uploads/2022/05/20220512_2A_FIRA_OCUPACIO_CARITAS_BCN-16-scaled.jpg
GEO:41.3882329;2.1629603
X-APPLE-STRUCTURED-LOCATION;VALUE=URI;X-ADDRESS=Seminari Conciliar de Barcelona Diputació 231 Barcelona Barcelona 08007 Espanya;X-APPLE-RADIUS=500;X-TITLE=Diputació\, 231:geo:2.1629603,41.3882329
END:VEVENT
BEGIN:VEVENT
DTSTART;TZID=Europe/Madrid:20230515T173000
DTEND;TZID=Europe/Madrid:20230612T203000
DTSTAMP:20260424T114650
CREATED:20230303T130648Z
LAST-MODIFIED:20230303T130648Z
UID:10001897-1684171800-1686601800@caritas.barcelona
SUMMARY:CURS BÀSIC DE VOLUNTARIAT SOCIAL-2023/05VOLSBAS.05-Durada 12 hores (4 sessions)
DESCRIPTION:Curs bàsic de voluntariat social \nPer comprendre i adquirir les competències bàsiques a l’hora d’iniciar-se en l’acció voluntària en una entitat social. \nA càrrec del professorat de l’Escola de formació del voluntariat de CDB. \nPersones destinatàries: persones amb sensibilitat social i que s’inicien o volen iniciar-se en el voluntariat en aquest àmbit. \nHorari: Curs de 12 hores impartit en 4 sessions de tres hores\, dilluns 15\, 22 i 29 de maig i 12 de juny de 2023 de 17.30 a 20.30 h \nModalitat: PRESENCIAL \nCal inscripció prèvia. Places limitades. Persones interessades inscriviu-vos clicant en aquest FORMULARI D’INSCRIPCIÓ    \nCost d’inscripció: Aportació de 10€. Per a les persones que ja formen part de l’equip de voluntariat de Càritas\, aquesta aportació és totalment lliure i voluntària. (Les persones que no puguin assumir aquest cost\, poden sol·licitar exempció del pagament). \nCodi curs: 2023/05VOLSBAS.05 \nCurs reconegut pel Pla de formació de l’associacionsime i el voluntariat de Catalunya (PFAVC)
URL:https://caritas.barcelona/agenda-caritas/curs-basic-de-voluntariat-social-2023-05volsbas-05-durada-12-hores-4-sessions/
LOCATION:Seminari Conciliar de Barcelona\, Diputació\, 231\, Barcelona\, Barcelona\, 08007\, Espanya
ATTACH;FMTTYPE=image/jpeg:https://caritas.barcelona/wp-content/uploads/2021/07/WhatsApp-Image-2021-07-14-at-23.47.57-1.jpeg
ORGANIZER;CN="C%C3%A0ritas Barcelona":MAILTO:caritas@caritas.barcelona
GEO:41.3882329;2.1629603
X-APPLE-STRUCTURED-LOCATION;VALUE=URI;X-ADDRESS=Seminari Conciliar de Barcelona Diputació 231 Barcelona Barcelona 08007 Espanya;X-APPLE-RADIUS=500;X-TITLE=Diputació\, 231:geo:2.1629603,41.3882329
END:VEVENT
BEGIN:VEVENT
DTSTART;TZID=Europe/Madrid:20230526T120000
DTEND;TZID=Europe/Madrid:20230526T133000
DTSTAMP:20260424T114650
CREATED:20230329T115237Z
LAST-MODIFIED:20230606T092738Z
UID:10001904-1685102400-1685107800@caritas.barcelona
SUMMARY:SESSIÓ INFORMATIVA SOBRE VOLUNTARIAT-Format presencial-26 de maig a les 12h (en castellà)
DESCRIPTION:Aquest és el primer pas per ser voluntari o voluntària de Càritas. Des del programa de Voluntariat\, organitzem sessions informatives periòdiques\, per a totes aquelles persones que vulguin ser voluntàries a la nostra institució. \nAquesta sessió s’impartirà en castellà\nSi vols apuntar-te a una sessió informativa sobre el voluntariat a Càritas\, inscriu-te a través del següent formulari\, indicant la sessió a la qual vols assistir: \nFes-te voluntari | Caritas Barcelona \nLloc de realització: Plaça Nova 1\, Barcelona
URL:https://caritas.barcelona/agenda-caritas/sessio-informativa-sobre-voluntariat-format-presencial-26-de-maig-a-les-12h-en-castella/
LOCATION:Barcelona 1 – Districtes de Ciutat Vella\, Eixample i barri del Poble-sec\, Plaça Nova\, 1\, Barcelona\, Barcelona\, 08002\, Espanya
ORGANIZER;CN="C%C3%A0ritas Barcelona":MAILTO:caritas@caritas.barcelona
GEO:41.3840277;2.1751608
X-APPLE-STRUCTURED-LOCATION;VALUE=URI;X-ADDRESS=Barcelona 1 – Districtes de Ciutat Vella Eixample i barri del Poble-sec Plaça Nova 1 Barcelona Barcelona 08002 Espanya;X-APPLE-RADIUS=500;X-TITLE=Plaça Nova\, 1:geo:2.1751608,41.3840277
END:VEVENT
BEGIN:VEVENT
DTSTART;TZID=Europe/Madrid:20230530T193000
DTEND;TZID=Europe/Madrid:20230530T210000
DTSTAMP:20260424T114650
CREATED:20230509T094959Z
LAST-MODIFIED:20230509T095331Z
UID:10001923-1685475000-1685480400@caritas.barcelona
SUMMARY:Festa del beat Pere Tarrés
DESCRIPTION:El proper dimarts 30 de maig a les 19:30 h tindrà lloc la festa del beat Pere Tarrés. \nVolem agrair la vida de tantes persones de la família Càritas que ens han deixat en els darrers temps i que han estat signes d’esperança i llavors d’amor fratern. \nPer això celebrem la vida i l’esperança i ens unim a la missa en record del beat Pere Tarrés que es celebra cada any a la parròquia de Sant Vicenç de Sarrià\, a la qual us convidem per aplegar-nos junts per agrair i celebrar la vida en plenitud. \n \n 
URL:https://caritas.barcelona/agenda-caritas/festa-del-beat-pere-tarres/
LOCATION:Parròquia de Sant Vicenç de Sarrià\, Carrer del Rector Voltà\, 5\, Barcelona\, Barcelona\, 08034\, Espanya
ATTACH;FMTTYPE=image/jpeg:https://caritas.barcelona/wp-content/uploads/2023/05/WhatsApp-Image-2023-05-08-at-09.34.18.jpeg
GEO:41.3996351;2.1210138
X-APPLE-STRUCTURED-LOCATION;VALUE=URI;X-ADDRESS=Parròquia de Sant Vicenç de Sarrià Carrer del Rector Voltà 5 Barcelona Barcelona 08034 Espanya;X-APPLE-RADIUS=500;X-TITLE=Carrer del Rector Voltà\, 5:geo:2.1210138,41.3996351
END:VEVENT
BEGIN:VEVENT
DTSTART;TZID=Europe/Madrid:20230530T220000
DTEND;TZID=Europe/Madrid:20230531T020000
DTSTAMP:20260424T114650
CREATED:20230505T105830Z
LAST-MODIFIED:20230815T124326Z
UID:10001915-1685484000-1685498400@caritas.barcelona
SUMMARY:Recompte sensellar 2023 Barcelona
DESCRIPTION:Un any més la Xarxa d’Atenció a Persones Sense Llar (XAPSLL)\, de la qual formem part\, organitza el Recompte 2023; una jornada dedicada a la visibilització del sensellarisme a Barcelona. \nGràcies a la implicació de persones com tu\, la nit del 30 de maig podran comptabilitzar-se les persones que dormen als carrers de la ciutat i als centres d’acollida i allotjament\, contribuint a conèixer millor aquesta realitat.
URL:https://caritas.barcelona/agenda-caritas/recompte-sensellar-2023-barcelona/
LOCATION:Barcelona
ATTACH;FMTTYPE=image/jpeg:https://caritas.barcelona/wp-content/uploads/2023/05/Sin-titulo-1.jpg
END:VEVENT
BEGIN:VEVENT
DTSTART;TZID=Europe/Madrid:20230530T220000
DTEND;TZID=Europe/Madrid:20230531T020000
DTSTAMP:20260424T114650
CREATED:20230505T110712Z
LAST-MODIFIED:20230815T093729Z
UID:10001917-1685484000-1685498400@caritas.barcelona
SUMMARY:Recompte sensellar 2023 Badalona
DESCRIPTION:La Taula Sense Llar de Badalona -integrada per les entitats socials Fundació Llegat Roca i Pi\, Càritas Diocesana de Barcelona\, Fundació Acollida i Esperança\, Creu Roja del Barcelonès Nord\, Fundació Mambré\, Sant Joan de Déu Serveis Socials i Asaupam\, i per l’Ajuntament de Badalona- impulsa el quart recompte de persones sense llar a la ciutat. \nEntitats i Ajuntament fan una crida ciutadana per sumar persones voluntàries per fer possible el Recompte la nit del 30 al 31 de maig de 2023. \nInscriu-te i participa-hi: https://www.taulasensellarbadalona.cat/voluntariat-recompte2023/
URL:https://caritas.barcelona/agenda-caritas/recompte-sensellar-2023-badalona/
LOCATION:Barcelona
ATTACH;FMTTYPE=image/jpeg:https://caritas.barcelona/wp-content/uploads/2023/05/badalona.jpg
END:VEVENT
BEGIN:VEVENT
DTSTART;TZID=Europe/Madrid:20230530T220000
DTEND;TZID=Europe/Madrid:20230531T020000
DTSTAMP:20260424T114650
CREATED:20230505T111633Z
LAST-MODIFIED:20230505T113533Z
UID:10001919-1685484000-1685498400@caritas.barcelona
SUMMARY:Recompte sensellar 2023 l'Hospitalet
DESCRIPTION:El dimarts 30 de maig de 2023 a la nit es durà a terme el 2n Recompte de persones en situació de sensellar a la ciutat de l’Hospitalet de Llobregat entre les 22 hores i les 2 de la matinada aproximadament. \nDesprés del primer Recompte efectuat a la ciutat de l’Hospitalet l’any 2021\, volem fer aquest segon Recompte per poder disposar de dades per fer una comparativa\, així com continuar constatant una realitat que continua essent invisibilitzada\, pel que té especial importància per conèixer quantes persones viuen en aquestes condicions. \nInscriu-te i participa: https://bit.ly/3AYckJ6
URL:https://caritas.barcelona/agenda-caritas/recompte-sensellar-2023-lhospitalet/
LOCATION:Barcelona
ATTACH;FMTTYPE=image/jpeg:https://caritas.barcelona/wp-content/uploads/2023/05/hospi.jpg
END:VEVENT
END:VCALENDAR