BEGIN:VCALENDAR
VERSION:2.0
PRODID:-//Caritas Barcelona - ECPv6.15.18//NONSGML v1.0//EN
CALSCALE:GREGORIAN
METHOD:PUBLISH
X-WR-CALNAME:Caritas Barcelona
X-ORIGINAL-URL:https://caritas.barcelona
X-WR-CALDESC:Esdeveniments per Caritas Barcelona
REFRESH-INTERVAL;VALUE=DURATION:PT1H
X-Robots-Tag:noindex
X-PUBLISHED-TTL:PT1H
BEGIN:VTIMEZONE
TZID:Europe/Madrid
BEGIN:DAYLIGHT
TZOFFSETFROM:+0100
TZOFFSETTO:+0200
TZNAME:CEST
DTSTART:20220327T010000
END:DAYLIGHT
BEGIN:STANDARD
TZOFFSETFROM:+0200
TZOFFSETTO:+0100
TZNAME:CET
DTSTART:20221030T010000
END:STANDARD
BEGIN:DAYLIGHT
TZOFFSETFROM:+0100
TZOFFSETTO:+0200
TZNAME:CEST
DTSTART:20230326T010000
END:DAYLIGHT
BEGIN:STANDARD
TZOFFSETFROM:+0200
TZOFFSETTO:+0100
TZNAME:CET
DTSTART:20231029T010000
END:STANDARD
BEGIN:DAYLIGHT
TZOFFSETFROM:+0100
TZOFFSETTO:+0200
TZNAME:CEST
DTSTART:20240331T010000
END:DAYLIGHT
BEGIN:STANDARD
TZOFFSETFROM:+0200
TZOFFSETTO:+0100
TZNAME:CET
DTSTART:20241027T010000
END:STANDARD
END:VTIMEZONE
BEGIN:VEVENT
DTSTART;TZID=Europe/Madrid:20230303T120000
DTEND;TZID=Europe/Madrid:20230303T133000
DTSTAMP:20260424T142630
CREATED:20230118T152813Z
LAST-MODIFIED:20230302T122001Z
UID:10001647-1677844800-1677850200@caritas.barcelona
SUMMARY:SESSIÓ INFORMATIVA SOBRE VOLUNTARIAT-Format presencial-3 de març a les 12h (en català)
DESCRIPTION:Aquest és el primer pas per ser voluntari o voluntària de Càritas. Des del programa de Voluntariat\, organitzem sessions informatives periòdiques\, per a totes aquelles persones que vulguin ser voluntàries a la nostra institució. \nAquesta sessió s’impartirà en català\nSi vols apuntar-te a una sessió informativa sobre el voluntariat a Càritas\, inscriu-te a través del formulari Fes-te voluntari | Caritas Barcelona indicant la sessió a la qual vols assistir. \nLloc de realització: Plaça Nova 1\, Barcelona
URL:https://caritas.barcelona/agenda-caritas/sessio-informativa-sobre-voluntariat-format-presencial-3-de-marc-a-les-12h-en-catala/
LOCATION:Barcelona 1 – Districtes de Ciutat Vella\, Eixample i barri del Poble-sec\, Plaça Nova\, 1\, Barcelona\, Barcelona\, 08002\, Espanya
ORGANIZER;CN="C%C3%A0ritas Barcelona":MAILTO:caritas@caritas.barcelona
GEO:41.3840277;2.1751608
X-APPLE-STRUCTURED-LOCATION;VALUE=URI;X-ADDRESS=Barcelona 1 – Districtes de Ciutat Vella Eixample i barri del Poble-sec Plaça Nova 1 Barcelona Barcelona 08002 Espanya;X-APPLE-RADIUS=500;X-TITLE=Plaça Nova\, 1:geo:2.1751608,41.3840277
END:VEVENT
BEGIN:VEVENT
DTSTART;TZID=Europe/Madrid:20230306T173000
DTEND;TZID=Europe/Madrid:20230327T203000
DTSTAMP:20260424T142630
CREATED:20221125T114626Z
LAST-MODIFIED:20221130T123654Z
UID:10001875-1678123800-1679949000@caritas.barcelona
SUMMARY:CURS BÀSIC DE VOLUNTARIAT SOCIAL-2023/03.VOLSBAS.02-Durada 12 hores (4 sessions)
DESCRIPTION:Curs bàsic de voluntariat social \nPer comprendre i adquirir les competències bàsiques a l’hora d’iniciar-se en l’acció voluntària en una entitat social. \nA càrrec del professorat de l’Escola de formació del voluntariat de CDB. \nPersones destinatàries: persones amb sensibilitat social i que s’inicien o volen iniciar-se en el voluntariat en aquest àmbit. \nHorari: Curs de 12 hores impartit en 4 sessions de tres hores\, dilluns 6\, 13\, 20 i 27 de març de 2023\, de 17.30 h a 20.30 h. \nModalitat: PRESENCIAL \nCal inscripció prèvia. Places limitades. Persones interessades inscriviu-vos clicant en aquest FORMULARI D’INSCRIPCIÓ    \nCost d’inscripció: Aportació de 10€. Per a les persones que ja formen part de l’equip de voluntariat de Càritas\, aquesta aportació és totalment lliure i voluntària. (Les persones que no puguin assumir aquest cost\, poden sol·licitar exempció del pagament). \nCodi curs: 2023/03.VOLSBAS.02 \nCurs reconegut pel Pla de formació de l’associacionsime i el voluntariat de Catalunya (PFAVC)
URL:https://caritas.barcelona/agenda-caritas/curs-basic-de-voluntariat-social-2023-03-volsbas-02-durada-12-hores-4-sessions/
LOCATION:Seminari Conciliar de Barcelona\, Diputació\, 231\, Barcelona\, Barcelona\, 08007\, Espanya
ATTACH;FMTTYPE=image/jpeg:https://caritas.barcelona/wp-content/uploads/2022/11/IMAGEN-CURS-VOLSBAS.jpeg
ORGANIZER;CN="C%C3%A0ritas Barcelona":MAILTO:caritas@caritas.barcelona
GEO:41.3882329;2.1629603
X-APPLE-STRUCTURED-LOCATION;VALUE=URI;X-ADDRESS=Seminari Conciliar de Barcelona Diputació 231 Barcelona Barcelona 08007 Espanya;X-APPLE-RADIUS=500;X-TITLE=Diputació\, 231:geo:2.1629603,41.3882329
END:VEVENT
BEGIN:VEVENT
DTSTART;TZID=Europe/Madrid:20230314T103000
DTEND;TZID=Europe/Madrid:20230314T120000
DTSTAMP:20260424T142630
CREATED:20230203T142833Z
LAST-MODIFIED:20230323T132802Z
UID:10001891-1678789800-1678795200@caritas.barcelona
SUMMARY:SESSIÓ INFORMATIVA SOBRE VOLUNTARIAT-Format virtual-14 de març a les 10.30h (en castellà)
DESCRIPTION:Aquest és el primer pas per ser voluntari o voluntària de Càritas. Des del programa de Voluntariat\, organitzem sessions informatives periòdiques\, per a totes aquelles persones que vulguin ser voluntàries a la nostra institució.  \nAquesta sessió s’impartirà en castellà \nSi vols apuntar-te a una sessió informativa sobre el voluntariat a Càritas\, inscriu-te a través del següent formulari\, indicant la sessió a la qual vols assistir: \nFes-te voluntari | Caritas Barcelona \n 
URL:https://caritas.barcelona/agenda-caritas/sessio-informativa-sobre-voluntariat-format-virtual-14-de-marc-a-les-10-30h-en-castella/
LOCATION:Barcelona
ORGANIZER;CN="C%C3%A0ritas Barcelona":MAILTO:caritas@caritas.barcelona
END:VEVENT
BEGIN:VEVENT
DTSTART;TZID=Europe/Madrid:20230330T183000
DTEND;TZID=Europe/Madrid:20230330T200000
DTSTAMP:20260424T142630
CREATED:20230306T092643Z
LAST-MODIFIED:20230306T093051Z
UID:10001899-1680201000-1680206400@caritas.barcelona
SUMMARY:The Letter (La Carta): Un missatge per la nostra Terra
DESCRIPTION:Us convidem al visionat de la pel·lícula “The Letter (La Carta): Un missatge per la nostra terra”\, que es projectarà als Cinemes Girona el proper dijous 30 de març a les 18:30 h. \nEn el marc de la Xarxa Laudato si’ es farà una presentació de la pel·lícula en versió original subtitulada en català. \nPer iniciativa de la Santa Seu\, s’ha produït aquesta pel·lícula que explica la història d’un viatge a Roma de líders de primera línia per a discutir la carta d’encíclica Laudato si’ (sobre la cura de la casa comuna) amb el Papa Francesc. \nLa DGAR ha finançat la subtitulació i organitza aquesta presentació i projecció gratuït conjuntament amb la Xarxa Laudato si’. \nPodeu trobar més informació a la pàgina web oficial de la pel·lícula: https://www.theletterfilm.org/es/ \nTambé es pot visionar la pel·lícula online\, amb subtítols en castellà\, a YouTube: https://youtu.be/Rps9bs85BII \n 
URL:https://caritas.barcelona/agenda-caritas/13708/
LOCATION:Cinemes Girona\, C/ de Girona\, 175\, Barcelona\, Barcelona\, 08037\, Espanya
ATTACH;FMTTYPE=image/jpeg:https://caritas.barcelona/wp-content/uploads/2023/03/The-Letter-Laudato-Si-Film-e1678094701615.jpg
GEO:41.3996576;2.1645592
X-APPLE-STRUCTURED-LOCATION;VALUE=URI;X-ADDRESS=Cinemes Girona C/ de Girona 175 Barcelona Barcelona 08037 Espanya;X-APPLE-RADIUS=500;X-TITLE=C/ de Girona\, 175:geo:2.1645592,41.3996576
END:VEVENT
END:VCALENDAR