BEGIN:VCALENDAR
VERSION:2.0
PRODID:-//Caritas Barcelona - ECPv6.15.18//NONSGML v1.0//EN
CALSCALE:GREGORIAN
METHOD:PUBLISH
X-ORIGINAL-URL:https://caritas.barcelona
X-WR-CALDESC:Esdeveniments per Caritas Barcelona
REFRESH-INTERVAL;VALUE=DURATION:PT1H
X-Robots-Tag:noindex
X-PUBLISHED-TTL:PT1H
BEGIN:VTIMEZONE
TZID:Europe/Madrid
BEGIN:DAYLIGHT
TZOFFSETFROM:+0100
TZOFFSETTO:+0200
TZNAME:CEST
DTSTART:20220327T010000
END:DAYLIGHT
BEGIN:STANDARD
TZOFFSETFROM:+0200
TZOFFSETTO:+0100
TZNAME:CET
DTSTART:20221030T010000
END:STANDARD
BEGIN:DAYLIGHT
TZOFFSETFROM:+0100
TZOFFSETTO:+0200
TZNAME:CEST
DTSTART:20230326T010000
END:DAYLIGHT
BEGIN:STANDARD
TZOFFSETFROM:+0200
TZOFFSETTO:+0100
TZNAME:CET
DTSTART:20231029T010000
END:STANDARD
BEGIN:DAYLIGHT
TZOFFSETFROM:+0100
TZOFFSETTO:+0200
TZNAME:CEST
DTSTART:20240331T010000
END:DAYLIGHT
BEGIN:STANDARD
TZOFFSETFROM:+0200
TZOFFSETTO:+0100
TZNAME:CET
DTSTART:20241027T010000
END:STANDARD
END:VTIMEZONE
BEGIN:VEVENT
DTSTART;TZID=Europe/Madrid:20230124T183000
DTEND;TZID=Europe/Madrid:20230228T201500
DTSTAMP:20260424T154309
CREATED:20221223T094002Z
LAST-MODIFIED:20221223T094920Z
UID:10001636-1674585000-1677615300@caritas.barcelona
SUMMARY:Curs bàsic en migració i refugi - Com comprenem i acollim la diversitat?
DESCRIPTION:A càrrec de Forn de Teatre Pa’tothom\, equip de formadors de l’Escola de formació del Voluntariat de CDB i agents antitumors de l’institut Diversitas. \n  \nCoincidint amb la Jornada Mundial del Migrant 2023\, reprenem aquest curs de 6 sessions que té per objectius: \n\nReflexionar sobre el fet de la diversitat cultural en la nostra societat i adquirir claus interpretatives per comprendre la complexitat de la nostra societat des del punt de vista de la diversitat cultural.\nConèixer algunes eines per al treball\, la gestió i el tractament d’estereotips\, prejudicis i rumors sobre diversitat cultural.\n\n  \nPersones destinatàries \nPersones interessades a formar-se en el tema de la gestió de la diversitat cultural. Voluntaris i membres dels grups de Càritas i de les comunitats cristianes que col·laborin en projectes d’acció social\, d’atenció i acompanyament a persones nouvingudes. \nHorari: de 18.15 a 20.15 h \nLloc: Parròquia de Sant Pau del Camp. Carrer de Sant Pau\, 99\, Barcelona \nCom s’hi arriba: metro PARAL·LEL (L2 i L3) \n  \nPlaces limitades. Cal inscripció prèvia a través del següent FORMULARI \n  \nEl curs consta de 6 sessions de dues hores i forma part del PFAVC (Pla de Formació de l’Associacionisme i el Voluntariat de Catalunya). A les persones que assisteixin com a mínim al 80% de les sessions se’ls expedirà un diploma d’assistència.
URL:https://caritas.barcelona/agenda-caritas/curs-basic-en-migracio-i-refugi-2/
LOCATION:Sant Pau del Camp\, Carrer de Sant Pau\, 101\, Barcelona\, Barcelona\, 08001\, Espanya
ORGANIZER;CN="C%C3%A0ritas Barcelona":MAILTO:caritas@caritas.barcelona
GEO:41.3759322;2.1691632
X-APPLE-STRUCTURED-LOCATION;VALUE=URI;X-ADDRESS=Sant Pau del Camp Carrer de Sant Pau 101 Barcelona Barcelona 08001 Espanya;X-APPLE-RADIUS=500;X-TITLE=Carrer de Sant Pau\, 101:geo:2.1691632,41.3759322
END:VEVENT
BEGIN:VEVENT
DTSTART;TZID=Europe/Madrid:20230207T093000
DTEND;TZID=Europe/Madrid:20230221T134500
DTSTAMP:20260424T154309
CREATED:20221125T113744Z
LAST-MODIFIED:20221130T123533Z
UID:10001873-1675762200-1676987100@caritas.barcelona
SUMMARY:CURS BÀSIC DE VOLUNTARIAT SOCIAL-2023/02.VOLSBAS.01-Durada 12 hores (3 sessions)
DESCRIPTION:Curs bàsic de voluntariat social \nPer comprendre i adquirir les competències bàsiques a l’hora d’iniciar-se en l’acció voluntària en una entitat social. \nA càrrec del professorat de l’Escola de formació del voluntariat de CDB. \nPersones destinatàries: persones amb sensibilitat social i que s’inicien o volen iniciar-se en el voluntariat en aquest àmbit. \nHorari: Curs de 12 hores impartit en 3 sessions de quatre hores\, dimarts 7\, 14 i 21 de febrer de 2023\, de 9.30 h a 13.45 h. \nModalitat: PRESENCIAL \nCal inscripció prèvia. Places limitades. Persones interessades inscriviu-vos clicant en aquest FORMULARI D’INSCRIPCIÓ    \nCost d’inscripció: Aportació de 10€. Per a les persones que ja formen part de l’equip de voluntariat de Càritas\, aquesta aportació és totalment lliure i voluntària. (Les persones que no puguin assumir aquest cost\, poden sol·licitar exempció del pagament). \nCodi curs: 2023/02.VOLSBAS.01 \nCurs reconegut pel Pla de formació de l’associacionsime i el voluntariat de Catalunya (PFAVC)
URL:https://caritas.barcelona/agenda-caritas/curs-basic-de-voluntariat-social-2023-02-volsbas-01-durada-12-hores-3-sessions/
LOCATION:Seminari Conciliar de Barcelona\, Diputació\, 231\, Barcelona\, Barcelona\, 08007\, Espanya
ATTACH;FMTTYPE=image/jpeg:https://caritas.barcelona/wp-content/uploads/2022/11/IMAGEN-CURS-VOLSBAS.jpeg
ORGANIZER;CN="C%C3%A0ritas Barcelona":MAILTO:caritas@caritas.barcelona
GEO:41.3882329;2.1629603
X-APPLE-STRUCTURED-LOCATION;VALUE=URI;X-ADDRESS=Seminari Conciliar de Barcelona Diputació 231 Barcelona Barcelona 08007 Espanya;X-APPLE-RADIUS=500;X-TITLE=Diputació\, 231:geo:2.1629603,41.3882329
END:VEVENT
BEGIN:VEVENT
DTSTART;TZID=Europe/Madrid:20230207T103000
DTEND;TZID=Europe/Madrid:20230207T120000
DTSTAMP:20260424T154309
CREATED:20221214T111145Z
LAST-MODIFIED:20230302T122906Z
UID:10001883-1675765800-1675771200@caritas.barcelona
SUMMARY:SESSIÓ INFORMATIVA SOBRE VOLUNTARIAT-Format virtual-7 de febrer a les 10.30h (en castellà)
DESCRIPTION:Aquest és el primer pas per ser voluntari o voluntària de Càritas. Des del programa de Voluntariat\, organitzem sessions informatives periòdiques\, per a totes aquelles persones que vulguin ser voluntàries a la nostra institució.  \nAquesta sessió s’impartirà en castellà \nSi vols apuntar-te a una sessió informativa sobre el voluntariat a Càritas\, inscriu-te a través del formulari Fes-te voluntari | Caritas Barcelona indicant la sessió a la qual vols assistir.  \n 
URL:https://caritas.barcelona/agenda-caritas/sessio-informativa-sobre-voluntariat-format-virtual-7-de-febrer-a-les-10-30h-en-castella/
LOCATION:Barcelona
ORGANIZER;CN="C%C3%A0ritas Barcelona":MAILTO:caritas@caritas.barcelona
END:VEVENT
BEGIN:VEVENT
DTSTART;TZID=Europe/Madrid:20230213T183000
DTEND;TZID=Europe/Madrid:20230213T193000
DTSTAMP:20260424T154309
CREATED:20230124T175306Z
LAST-MODIFIED:20230124T175306Z
UID:10001889-1676313000-1676316600@caritas.barcelona
SUMMARY:Dilluns dels Drets Humans: Punitivisme o Justícia Restaurativa?
DESCRIPTION:El dilluns 13 de febrer a les 18:30 h tindrà lloc la primera sessió del nou cicle dels Dilluns dels Drets Humans. \nAquest nou cicle que comencem aquest 2023 tindrà nou format\, nova localització i nova freqüència! \nEn aquesta primera sessió es parlarà del punitivisme i de la justícia restaurativa. Podria semblar que la noció de justícia restaurativa és cada cop més comuna i que s’està fent un lloc en diversos àmbits com el del dret internacional\, el penitenciari o el de l’educació\, però és realment així? \nPonents: \n\nLidia Serratussell\, cap de l’Àrea de Reparació i Atenció a la Víctima del Departament de Justícia de la Generalitat de Catalunya.\nAida C. Rodríguez\, directora de Drets Socials i Justícia Restaurativa al Síndic de Greuges de Catalunya.\n\nModeració: \n\nSonia Calvó\, periodista.\n\n  \nPer assistir a l’acte no és necessària inscripció prèvia. \n 
URL:https://caritas.barcelona/agenda-caritas/dilluns-dels-drets-humans-punitivisme-o-justicia-restaurativa/
LOCATION:Centre Cultural La Farinera del Clot\, Gran Via de les Corts Catalanes\, 837\, Barcelona\, 08018\, Espanya
ATTACH;FMTTYPE=image/jpeg:https://caritas.barcelona/wp-content/uploads/2023/01/FEMddh-1.jpg
GEO:41.4052294;2.1882072
X-APPLE-STRUCTURED-LOCATION;VALUE=URI;X-ADDRESS=Centre Cultural La Farinera del Clot Gran Via de les Corts Catalanes 837 Barcelona 08018 Espanya;X-APPLE-RADIUS=500;X-TITLE=Gran Via de les Corts Catalanes\, 837:geo:2.1882072,41.4052294
END:VEVENT
BEGIN:VEVENT
DTSTART;TZID=Europe/Madrid:20230215T173000
DTEND;TZID=Europe/Madrid:20230215T193000
DTSTAMP:20260424T154309
CREATED:20230116T083932Z
LAST-MODIFIED:20230123T113653Z
UID:10001643-1676482200-1676489400@caritas.barcelona
SUMMARY:CICLE DE REFLEXIONS: Com garantim a Càritas els drets dels infants
DESCRIPTION:Com garantim a Càritas els drets dels infants \nSessió a càrrec de Javi Revilla\, referent de Voluntariat de la zona pastoral 4\, Mireia Millan\, cap del Programa de Família i Infància de CDB i Elisabeth Viles\, tècnica del Programa de Família i Infància de CDB. \nPares i mares necessiten recursos\, suport i temps per cuidar de manera integral la família. A Càritas som sensibles a aquestes necessitats i per això dediquem temps i esforços a escoltar i acompanyar les famílies\, els infants i els adolescents a través de projectes\, com els espais polivalents\, els reforços educatius o els espais de criança\, que s’orienten a oferir-los una atenció integral que els permeti superar les causes de la seva situació de vulnerabilitat o indefensió. A partir de testimonis presentarem el sentit i la manera de treballar conjuntament en aquests projectes i també coneixerem les idees clau i les característiques principals de la nova Llei de Protecció a la infància. \n  \nDimecres 15 de febrer de 2023 \nHora: de 17.30 a 19.30 h \nLloc: Parròquia de Sant Ildefons. \nAv. Sant Ildefons\, 15 Cornellà de Llobregat \nCom arribar-hi: Metro SANT ILDEFONS  (L5) \n  \nCal inscripció prèvia clicant en aquest FORMULARI \no enviant correu a escoladevoluntariat@caritas.barcelona indicant dades de la persona que s’hi inscriu i aquest codi: 2023.02_CICLE.04 \n  \nOrganitza: zona pastoral 1 i programa de Gent Gran de CDB \nMés informació: 933 441 673 (Departament de Desenvolupament de Persones)
URL:https://caritas.barcelona/agenda-caritas/cicle-de-reflexions-com-garantim-a-caritas-els-drets-dels-infants/
LOCATION:Parròquia de Sant Ildefons\, Av. Sant Ildefons\, 15\, Cornellà de Llobregat\, 08940\, Espanya
ATTACH;FMTTYPE=image/jpeg:https://caritas.barcelona/wp-content/uploads/2022/11/CICLO-DE-REFELXIONS.jpg
ORGANIZER;CN="C%C3%A0ritas Barcelona":MAILTO:caritas@caritas.barcelona
GEO:41.364669;2.083731
X-APPLE-STRUCTURED-LOCATION;VALUE=URI;X-ADDRESS=Parròquia de Sant Ildefons Av. Sant Ildefons 15 Cornellà de Llobregat 08940 Espanya;X-APPLE-RADIUS=500;X-TITLE=Av. Sant Ildefons\, 15:geo:2.083731,41.364669
END:VEVENT
BEGIN:VEVENT
DTSTART;TZID=Europe/Madrid:20230222T170000
DTEND;TZID=Europe/Madrid:20230222T183000
DTSTAMP:20260424T154309
CREATED:20230113T093902Z
LAST-MODIFIED:20230302T123008Z
UID:10001640-1677085200-1677090600@caritas.barcelona
SUMMARY:SESSIÓ INFORMATIVA SOBRE VOLUNTARIAT-Format presencial-22 de febrer a les 17h (en català)
DESCRIPTION:Aquest és el primer pas per ser voluntari o voluntària de Càritas. Des del programa de Voluntariat\, organitzem sessions informatives periòdiques\, per a totes aquelles persones que vulguin ser voluntàries a la nostra institució. \nAquesta sessió s’impartirà en català\nSi vols apuntar-te a una sessió informativa sobre el voluntariat a Càritas\, inscriu-te a través del següent formulari indicant la sessió a la qual vols assistir: \nFes-te voluntari | Caritas Barcelona \nLloc de realització: Plaça Nova 1\, Barcelona
URL:https://caritas.barcelona/agenda-caritas/sessio-informativa-sobre-voluntariat-format-presencial-22-de-febrer-a-les-17h-en-catala/
LOCATION:Barcelona 1 – Districtes de Ciutat Vella\, Eixample i barri del Poble-sec\, Plaça Nova\, 1\, Barcelona\, Barcelona\, 08002\, Espanya
ORGANIZER;CN="C%C3%A0ritas Barcelona":MAILTO:caritas@caritas.barcelona
GEO:41.3840277;2.1751608
X-APPLE-STRUCTURED-LOCATION;VALUE=URI;X-ADDRESS=Barcelona 1 – Districtes de Ciutat Vella Eixample i barri del Poble-sec Plaça Nova 1 Barcelona Barcelona 08002 Espanya;X-APPLE-RADIUS=500;X-TITLE=Plaça Nova\, 1:geo:2.1751608,41.3840277
END:VEVENT
BEGIN:VEVENT
DTSTART;TZID=Europe/Madrid:20230223T093000
DTEND;TZID=Europe/Madrid:20230223T120000
DTSTAMP:20260424T154309
CREATED:20230210T184816Z
LAST-MODIFIED:20230210T185203Z
UID:10001893-1677144600-1677153600@caritas.barcelona
SUMMARY:Fòrum Social Metropolità
DESCRIPTION:Et convidem al Fòrum Social Metropolità el proper dijous 23 de febrer\, de 9:30 a 12h\, al Museu Picasso\, per una millor contractació i col·laboració econòmica i social entre els ajuntaments i les entitats socials: pràctiques d’èxit en les condicions actuals. \n9:00 – Recepció i café de benvinguda. \n9:30 – Benvinguda a càrrec de Sonia Fuertes Ledesma\, Comisionada d’Acció Social de l’Ajuntament de Barcelona. \n9:40 – Informació sobre el model compartit de relació entre els ajuntaments i el tercer sector social a la regió metropolitana de Barcelona a càrrec de Roger Civit Carbonell\, Director de la Taula d’entiats del Tercer Sector Social de Catalunya. \n9:50 – Taula rodona “Experiències reeixides de contractació i cooperació entre Ajuntaments i el Tercer Sector”. \n\n  Ajuntament El Prat de Llobregat\, a càrrec d’Arnau Garcia i Conesa\, Cap de Servei de l’Area d’Acció Social i Comunitària.\n  ABD a càrrec de Angels Guiteras Mestres\, Gerent de l’entitat.\n  Ajuntament de Mataró\, a càrrec de Maria Gil Amaya\, Cap de Serveis Socials.\n  Fundació Maresme\, a càrrec d’Ariadna Manent González\, Directora adjunta de la Fundació.\n  Ajuntament de Santa Coloma de Gramenet a càrrec de Mercè Rosa Gabardà\, Cap del departament de Prestacions.\n  Fundació Germina\, a càrrec de Mario Cuixart Cardús\, Director de la Fundació\n\n10.50 – Debat amb el públic \nModerat per Aurora Corral García\, Secretaria general de l’Ajuntament de Cerdanyola del Vallès i ex-Presidenta del Col·legi de Secretaris\, Interventors i Tresorers d’Administració Local (CSITAL) \n11:40 – Properes passes a seguir a cárrec de Josep Torrico Catalan de la Fundació Marianao\, Cap de l’Escola de Noves Oportunitats. \n11:50 – Cloenda a càrrec de Fernando Díaz Alpuente de la Fundació Acollida i Esperança\, Director adjunt de la Fundació. \n  \nUs esperem! \n  \n \n  \n  \n 
URL:https://caritas.barcelona/agenda-caritas/forum-social-metropolita/
LOCATION:Museu Picasso\, C/. de Montcada\, 15-23\, Barcelona\, 08003\, Espanya
ATTACH;FMTTYPE=image/png:https://caritas.barcelona/wp-content/uploads/2023/02/Linkedin-Portada.png
GEO:41.3852664;2.1809699
X-APPLE-STRUCTURED-LOCATION;VALUE=URI;X-ADDRESS=Museu Picasso C/. de Montcada 15-23 Barcelona 08003 Espanya;X-APPLE-RADIUS=500;X-TITLE=C/. de Montcada\, 15-23:geo:2.1809699,41.3852664
END:VEVENT
END:VCALENDAR