BEGIN:VCALENDAR
VERSION:2.0
PRODID:-//Caritas Barcelona - ECPv6.15.18//NONSGML v1.0//EN
CALSCALE:GREGORIAN
METHOD:PUBLISH
X-ORIGINAL-URL:https://caritas.barcelona
X-WR-CALDESC:Esdeveniments per Caritas Barcelona
REFRESH-INTERVAL;VALUE=DURATION:PT1H
X-Robots-Tag:noindex
X-PUBLISHED-TTL:PT1H
BEGIN:VTIMEZONE
TZID:Europe/Madrid
BEGIN:DAYLIGHT
TZOFFSETFROM:+0100
TZOFFSETTO:+0200
TZNAME:CEST
DTSTART:20220327T010000
END:DAYLIGHT
BEGIN:STANDARD
TZOFFSETFROM:+0200
TZOFFSETTO:+0100
TZNAME:CET
DTSTART:20221030T010000
END:STANDARD
BEGIN:DAYLIGHT
TZOFFSETFROM:+0100
TZOFFSETTO:+0200
TZNAME:CEST
DTSTART:20230326T010000
END:DAYLIGHT
BEGIN:STANDARD
TZOFFSETFROM:+0200
TZOFFSETTO:+0100
TZNAME:CET
DTSTART:20231029T010000
END:STANDARD
BEGIN:DAYLIGHT
TZOFFSETFROM:+0100
TZOFFSETTO:+0200
TZNAME:CEST
DTSTART:20240331T010000
END:DAYLIGHT
BEGIN:STANDARD
TZOFFSETFROM:+0200
TZOFFSETTO:+0100
TZNAME:CET
DTSTART:20241027T010000
END:STANDARD
END:VTIMEZONE
BEGIN:VEVENT
DTSTART;TZID=Europe/Madrid:20230101T120000
DTEND;TZID=Europe/Madrid:20230101T130000
DTSTAMP:20260424T171321
CREATED:20221222T124731Z
LAST-MODIFIED:20221222T125204Z
UID:10001632-1672574400-1672578000@caritas.barcelona
SUMMARY:Acte de carrer 'pau arreu de la terra'
DESCRIPTION:Et convidem a sumar-te a l’acte ‘Pau arreu de la terra’ que organitza la Comunitat de Sant’Egidio Barcelona \nSe celebrarà el proper 1 de gener de 2023 a les 12h. a l’Avinguda de la Catedral. Serà una Jornada per començar l’any reforçant la voluntat de pau i recordar totes les terres que sofreixen per la guerra i el terrorisme.
URL:https://caritas.barcelona/agenda-caritas/acte-pau-arreu-de-la-terra/
LOCATION:Pla de la Seu\, Pla de la Seu s/n\, Barcelona\, Barcelona\, 08001\, Espanya
ATTACH;FMTTYPE=image/png:https://caritas.barcelona/wp-content/uploads/2022/12/Captura.png
GEO:41.3845216;2.1758548
X-APPLE-STRUCTURED-LOCATION;VALUE=URI;X-ADDRESS=Pla de la Seu Pla de la Seu s/n Barcelona Barcelona 08001 Espanya;X-APPLE-RADIUS=500;X-TITLE=Pla de la Seu s/n:geo:2.1758548,41.3845216
END:VEVENT
BEGIN:VEVENT
DTSTART;TZID=Europe/Madrid:20230111T173000
DTEND;TZID=Europe/Madrid:20230111T193000
DTSTAMP:20260424T171321
CREATED:20221216T163622Z
LAST-MODIFIED:20221220T105911Z
UID:10001885-1673458200-1673465400@caritas.barcelona
SUMMARY:CICLE DE REFLEXIONS: Acompanyar? Escoltar? Informar?
DESCRIPTION:Acompanyar? Escoltar? Informar? \nQuè ens cal tenir en compte en l’acompanyament a les persones grans \nSessió a càrrec del programa de Gent Gran de Càritas i de l’equip d’Acció Social de la zona pastoral 1. Taula rodona amb professionals d’entitats que acompanyen gent gran. \nL’acompanyament a les persones és el nucli essencial de la nostra acció a Càritas. Acompanyar la gent gran comporta escoltar\, fer companyia\, donar suport en gestions i tràmits\, informar sobre drets… En aquesta jornada coneixerem eines i recursos que ens ofereixen entitats especialitzades i que ens ajudaran a poder acompanyar millor les persones grans. \nHora: de 17.30 a 19.30 h \nLloc: Parròquia de Sant Pau del Camp \nCarrer Sant Pau\, 99 (Barcelona) \nCom arribar-hi: Metro PARAL·LEL (L2\, L3) \n  \nCal inscripció prèvia clicant en aquest FORMULARI \nOrganitza equip zona pastoral 1 i Programa de Gent Gran de CDB
URL:https://caritas.barcelona/agenda-caritas/cicle-de-reflexions-acompanyar-escoltar-informar/
LOCATION:Sant Pau del Camp\, Carrer de Sant Pau\, 101\, Barcelona\, Barcelona\, 08001\, Espanya
ATTACH;FMTTYPE=image/jpeg:https://caritas.barcelona/wp-content/uploads/2022/11/CICLO-DE-REFELXIONS.jpg
ORGANIZER;CN="C%C3%A0ritas Barcelona":MAILTO:caritas@caritas.barcelona
GEO:41.3759322;2.1691632
X-APPLE-STRUCTURED-LOCATION;VALUE=URI;X-ADDRESS=Sant Pau del Camp Carrer de Sant Pau 101 Barcelona Barcelona 08001 Espanya;X-APPLE-RADIUS=500;X-TITLE=Carrer de Sant Pau\, 101:geo:2.1691632,41.3759322
END:VEVENT
BEGIN:VEVENT
DTSTART;TZID=Europe/Madrid:20230117T103000
DTEND;TZID=Europe/Madrid:20230117T120000
DTSTAMP:20260424T171321
CREATED:20221214T102448Z
LAST-MODIFIED:20230302T122615Z
UID:10001879-1673951400-1673956800@caritas.barcelona
SUMMARY:SESSIÓ INFORMATIVA SOBRE VOLUNTARIAT-Format virtual-17 de gener a les 10.30h (en català)
DESCRIPTION:Aquest és el primer pas per ser voluntari o voluntària de Càritas. Des del programa de Voluntariat\, organitzem sessions informatives periòdiques\, per a totes aquelles persones que vulguin ser voluntàries a la nostra institució. \nAquesta sessió s’impartirà en català\nSi vols apuntar-te a una sessió informativa sobre el voluntariat a Càritas\, inscriu-te a través del formulari Fes-te voluntari | Caritas Barcelona indicant la sessió a la qual vols assistir.
URL:https://caritas.barcelona/agenda-caritas/sessio-informativa-sobre-voluntariat-format-virtual-17-de-gener-a-les-1030h-en-catala/
LOCATION:Barcelona
ORGANIZER;CN="C%C3%A0ritas Barcelona":MAILTO:caritas@caritas.barcelona
END:VEVENT
BEGIN:VEVENT
DTSTART;TZID=Europe/Madrid:20230124T183000
DTEND;TZID=Europe/Madrid:20230124T201500
DTSTAMP:20260424T171321
CREATED:20221216T164739Z
LAST-MODIFIED:20221220T110113Z
UID:10001887-1674585000-1674591300@caritas.barcelona
SUMMARY:Obra de teatre: Mustafà és al replà
DESCRIPTION:A càrrec de Forn de teatre Pa’tothom\, entitat de Barcelona especialitzada en Teatre de l’Oprimit. \nDirigida per: Jordi Forcadas \nInterpretada per: Judit Saula\, Holga Pallejà\, Elton Canga\, Lluís Cases i Eduard Benito \nSessió dinamitzada per Montse Forcadas \n  \nEn una comunitat de veïns ens trobem amb un problema que afecta tothom. Malgrat que hi ha una convivència normal\, davant certs interessos sorgeixen conflictes on aniran aflorant actituds carregades de prejudicis i estereotips respecte a l’altre. Això crea una barrera comunicativa i una distància que fa impossible trobar una solució conjunta. \n  \nHorari: de 18.30 a 20.15 h \nLloc: Parròquia de Sant Pau del Camp. Carrer de Sant Pau\, 99\, Barcelona \nCom s’hi arriba: metro PARAL·LEL (L2 i L3) \n  \nPlaces limitades. Cal inscripció prèvia a través del següent FORMULARI \nAquesta obra és la primera sessió del Curs bàsic en migració i refugi\, que s’impartirà cada dimarts des del 24 de gener fins al 28 de febrer de 2023.
URL:https://caritas.barcelona/agenda-caritas/obra-de-teatre-mustafa-es-al-repla/
LOCATION:Sant Pau del Camp\, Carrer de Sant Pau\, 101\, Barcelona\, Barcelona\, 08001\, Espanya
ATTACH;FMTTYPE=image/jpeg:https://caritas.barcelona/wp-content/uploads/2022/12/Foto-Mustafa-es-al-repla.jpg
ORGANIZER;CN="C%C3%A0ritas Barcelona":MAILTO:caritas@caritas.barcelona
GEO:41.3759322;2.1691632
X-APPLE-STRUCTURED-LOCATION;VALUE=URI;X-ADDRESS=Sant Pau del Camp Carrer de Sant Pau 101 Barcelona Barcelona 08001 Espanya;X-APPLE-RADIUS=500;X-TITLE=Carrer de Sant Pau\, 101:geo:2.1691632,41.3759322
END:VEVENT
BEGIN:VEVENT
DTSTART;TZID=Europe/Madrid:20230124T183000
DTEND;TZID=Europe/Madrid:20230228T201500
DTSTAMP:20260424T171321
CREATED:20221223T094002Z
LAST-MODIFIED:20221223T094920Z
UID:10001636-1674585000-1677615300@caritas.barcelona
SUMMARY:Curs bàsic en migració i refugi - Com comprenem i acollim la diversitat?
DESCRIPTION:A càrrec de Forn de Teatre Pa’tothom\, equip de formadors de l’Escola de formació del Voluntariat de CDB i agents antitumors de l’institut Diversitas. \n  \nCoincidint amb la Jornada Mundial del Migrant 2023\, reprenem aquest curs de 6 sessions que té per objectius: \n\nReflexionar sobre el fet de la diversitat cultural en la nostra societat i adquirir claus interpretatives per comprendre la complexitat de la nostra societat des del punt de vista de la diversitat cultural.\nConèixer algunes eines per al treball\, la gestió i el tractament d’estereotips\, prejudicis i rumors sobre diversitat cultural.\n\n  \nPersones destinatàries \nPersones interessades a formar-se en el tema de la gestió de la diversitat cultural. Voluntaris i membres dels grups de Càritas i de les comunitats cristianes que col·laborin en projectes d’acció social\, d’atenció i acompanyament a persones nouvingudes. \nHorari: de 18.15 a 20.15 h \nLloc: Parròquia de Sant Pau del Camp. Carrer de Sant Pau\, 99\, Barcelona \nCom s’hi arriba: metro PARAL·LEL (L2 i L3) \n  \nPlaces limitades. Cal inscripció prèvia a través del següent FORMULARI \n  \nEl curs consta de 6 sessions de dues hores i forma part del PFAVC (Pla de Formació de l’Associacionisme i el Voluntariat de Catalunya). A les persones que assisteixin com a mínim al 80% de les sessions se’ls expedirà un diploma d’assistència.
URL:https://caritas.barcelona/agenda-caritas/curs-basic-en-migracio-i-refugi-2/
LOCATION:Sant Pau del Camp\, Carrer de Sant Pau\, 101\, Barcelona\, Barcelona\, 08001\, Espanya
ORGANIZER;CN="C%C3%A0ritas Barcelona":MAILTO:caritas@caritas.barcelona
GEO:41.3759322;2.1691632
X-APPLE-STRUCTURED-LOCATION;VALUE=URI;X-ADDRESS=Sant Pau del Camp Carrer de Sant Pau 101 Barcelona Barcelona 08001 Espanya;X-APPLE-RADIUS=500;X-TITLE=Carrer de Sant Pau\, 101:geo:2.1691632,41.3759322
END:VEVENT
BEGIN:VEVENT
DTSTART;TZID=Europe/Madrid:20230127T120000
DTEND;TZID=Europe/Madrid:20230127T133000
DTSTAMP:20260424T171321
CREATED:20221214T105315Z
LAST-MODIFIED:20230302T122149Z
UID:10001882-1674820800-1674826200@caritas.barcelona
SUMMARY:SESSIÓ INFORMATIVA SOBRE VOLUNTARIAT-Format presencial-27 de gener a les 12h (en castellà)
DESCRIPTION:Aquest és el primer pas per ser voluntari o voluntària de Càritas. Des del programa de Voluntariat\, organitzem sessions informatives periòdiques\, per a totes aquelles persones que vulguin ser voluntàries a la nostra institució. \nAquesta sessió s’impartirà en castellà\nSi vols apuntar-te a una sessió informativa sobre el voluntariat a Càritas\, inscriu-te a través del formulari Fes-te voluntari | Caritas Barcelona indicant la sessió a la qual vols assistir. \nLloc de realització: Plaça Nova 1\, Barcelona
URL:https://caritas.barcelona/agenda-caritas/sessio-informativa-sobre-voluntariat-format-presencial-27-de-gener-a-les-12h-en-castella/
LOCATION:Barcelona
ORGANIZER;CN="C%C3%A0ritas Barcelona":MAILTO:caritas@caritas.barcelona
END:VEVENT
END:VCALENDAR