BEGIN:VCALENDAR
VERSION:2.0
PRODID:-//Caritas Barcelona - ECPv6.15.18//NONSGML v1.0//EN
CALSCALE:GREGORIAN
METHOD:PUBLISH
X-ORIGINAL-URL:https://caritas.barcelona
X-WR-CALDESC:Esdeveniments per Caritas Barcelona
REFRESH-INTERVAL;VALUE=DURATION:PT1H
X-Robots-Tag:noindex
X-PUBLISHED-TTL:PT1H
BEGIN:VTIMEZONE
TZID:Europe/Madrid
BEGIN:DAYLIGHT
TZOFFSETFROM:+0100
TZOFFSETTO:+0200
TZNAME:CEST
DTSTART:20210328T010000
END:DAYLIGHT
BEGIN:STANDARD
TZOFFSETFROM:+0200
TZOFFSETTO:+0100
TZNAME:CET
DTSTART:20211031T010000
END:STANDARD
BEGIN:DAYLIGHT
TZOFFSETFROM:+0100
TZOFFSETTO:+0200
TZNAME:CEST
DTSTART:20220327T010000
END:DAYLIGHT
BEGIN:STANDARD
TZOFFSETFROM:+0200
TZOFFSETTO:+0100
TZNAME:CET
DTSTART:20221030T010000
END:STANDARD
BEGIN:DAYLIGHT
TZOFFSETFROM:+0100
TZOFFSETTO:+0200
TZNAME:CEST
DTSTART:20230326T010000
END:DAYLIGHT
BEGIN:STANDARD
TZOFFSETFROM:+0200
TZOFFSETTO:+0100
TZNAME:CET
DTSTART:20231029T010000
END:STANDARD
END:VTIMEZONE
BEGIN:VEVENT
DTSTART;TZID=Europe/Madrid:20221212T183000
DTEND;TZID=Europe/Madrid:20221212T200000
DTSTAMP:20260424T185328
CREATED:20221201T091249Z
LAST-MODIFIED:20221201T091249Z
UID:10001877-1670869800-1670875200@caritas.barcelona
SUMMARY:Dilluns dels Drets Humans: Volem la pau?
DESCRIPTION:El dilluns 12 de desembre a les 18:30 h tindrà lloc una nova sessió dels Dilluns dels Drets Humans a la Sala d’Actes de Cristianisme i Justícia. \nPonents: \n\nJordi Armadans\, politòleg i periodista. Exdirector de FundiPau\, analista i formador sobre cultura de pau\, conflictes i drets humans.\nPatricia Simón\, periodista i escriptora especialitzada en informació internacional i drets humans.\n\nModeració: \n\nJoan Salicrú\, periodista i codirector de la revista Valors.\n\nArran del conflicte a Ucraïna constatem una certa pèrdua de consens vers el pacifisme i la cultura de pau. En aquesta sessió reflexionarem entorn les següents qüestions: Què ha canviat des d’aquelles manifestacions globals del 2003 contra la invasió d’Iraq que ens va abocar als carrers? Creiem possible que encara podem aturar la guerra o el desencís i un cert nihilisme han passat per sobre dels moviments antimilitaristes? \nTotes les sessions es podran seguir per Internet des d’aquest enllaç: www.cristianismeijusticia.net/en-directe \nPer assistir a l’acte no és necessària inscripció prèvia.
URL:https://caritas.barcelona/agenda-caritas/dilluns-dels-drets-humans-volem-la-pau/
LOCATION:Cristianisme i Justícia\, Roger de Llúria\, 13\, Barcelona\, Barcelona\, 08010\, Espanya
ATTACH;FMTTYPE=image/jpeg:https://caritas.barcelona/wp-content/uploads/2022/10/dilluns-drets-humans.jpg
GEO:41.3906452;2.1719173
X-APPLE-STRUCTURED-LOCATION;VALUE=URI;X-ADDRESS=Cristianisme i Justícia Roger de Llúria 13 Barcelona Barcelona 08010 Espanya;X-APPLE-RADIUS=500;X-TITLE=Roger de Llúria\, 13:geo:2.1719173,41.3906452
END:VEVENT
BEGIN:VEVENT
DTSTART;TZID=Europe/Madrid:20221214T173000
DTEND;TZID=Europe/Madrid:20221214T193000
DTSTAMP:20260424T185328
CREATED:20221017T115215Z
LAST-MODIFIED:20221201T093129Z
UID:10001857-1671039000-1671046200@caritas.barcelona
SUMMARY:CICLE DE REFLEXIONS: Com fem un nosaltres cada cop més gran?
DESCRIPTION:Equitat\, reconeixement i interacció positiva entre cultures \nSessió conduïda per Omaira Beltran\, tècnica en Intervenció Intercultural del programa de Migració i Refugi de Càritas Diocesana de Barcelona. Intervindran Gerard Guerra\, rector de Sant Joaquim i Sant Jaume de Santa Coloma de Gramenet i responsable arxiprestal de Càritas\, i també testimonis de diversos projectes interculturals de la diòcesi de Barcelona. \nIntegració? Acollida? Assimilació? Multiculturalitat? Interculturalitat? Convivència? Aprendre junts? La interculturalitat es un tipus de gestió de la diversitat\, que ja tastem en alguns dels espais de relació a Càritas i que vol deixar enrere altres models como l’assimilacionisme o el multicultuiralisme per posar en pràctica un model de construcció social que es basa en la creació conjunta i en la transformació comunitària de la societat. Volem reflexionar junts\, escoltar-nos\, aprendre els uns dels altres i engrescar-nos en aquesta aventura de la diversitat que ens qüestiona i ens enriqueix. \n  \nHora: Dimecres 14 de desembre de 17.30 a 19.30 h \nLloc: Centre de Càritas de la zona pastoral 5 \nCarrer Sant Marc 19 (Badalona) \nCal inscripció prèvia clicant en aquest FORMULARI
URL:https://caritas.barcelona/agenda-caritas/cicle-de-reflexions-com-fem-un-nosaltres-cada-cop-mes-gran/
LOCATION:Centre de Càritas de la zona pastoral 5\, Carrer Sant Marc 19\, Badalona\, Barcelona\, 08918\, Espanya
ATTACH;FMTTYPE=image/jpeg:https://caritas.barcelona/wp-content/uploads/2022/11/CICLO-DE-REFELXIONS.jpg
ORGANIZER;CN="C%C3%A0ritas Barcelona":MAILTO:caritas@caritas.barcelona
GEO:41.4394215;2.2298585
X-APPLE-STRUCTURED-LOCATION;VALUE=URI;X-ADDRESS=Centre de Càritas de la zona pastoral 5 Carrer Sant Marc 19 Badalona Barcelona 08918 Espanya;X-APPLE-RADIUS=500;X-TITLE=Carrer Sant Marc 19:geo:2.2298585,41.4394215
END:VEVENT
BEGIN:VEVENT
DTSTART;TZID=Europe/Madrid:20221216T100000
DTEND;TZID=Europe/Madrid:20221216T113000
DTSTAMP:20260424T185328
CREATED:20221031T132329Z
LAST-MODIFIED:20221216T165509Z
UID:10001861-1671184800-1671190200@caritas.barcelona
SUMMARY:SESSIÓ INFORMATIVA SOBRE VOLUNTARIAT-Format virtual 16 de desembre a les 10h (en català)
DESCRIPTION:Aquest és el primer pas per ser voluntari o voluntària de Càritas. Des del programa de Voluntariat\, organitzem sessions informatives periòdiques\, per a totes aquelles persones que vulguin ser voluntàries a la nostra institució. \nAquesta sessió s’impartirà en català\nSi vols apuntar-te a una sessió informativa sobre el voluntariat a Càritas\, inscriu-te a través del formulari Fes-te voluntari | Caritas Barcelona indicant la sessió a la qual vols assistir.
URL:https://caritas.barcelona/agenda-caritas/sessio-informativa-sobre-voluntariat-format-virtual-16-de-desembre-a-les-10h-en-castella/
LOCATION:Barcelona
ORGANIZER;CN="C%C3%A0ritas Barcelona":MAILTO:caritas@caritas.barcelona
END:VEVENT
END:VCALENDAR