BEGIN:VCALENDAR
VERSION:2.0
PRODID:-//Caritas Barcelona - ECPv6.15.18//NONSGML v1.0//EN
CALSCALE:GREGORIAN
METHOD:PUBLISH
X-ORIGINAL-URL:https://caritas.barcelona
X-WR-CALDESC:Esdeveniments per Caritas Barcelona
REFRESH-INTERVAL;VALUE=DURATION:PT1H
X-Robots-Tag:noindex
X-PUBLISHED-TTL:PT1H
BEGIN:VTIMEZONE
TZID:Europe/Madrid
BEGIN:DAYLIGHT
TZOFFSETFROM:+0100
TZOFFSETTO:+0200
TZNAME:CEST
DTSTART:20210328T010000
END:DAYLIGHT
BEGIN:STANDARD
TZOFFSETFROM:+0200
TZOFFSETTO:+0100
TZNAME:CET
DTSTART:20211031T010000
END:STANDARD
BEGIN:DAYLIGHT
TZOFFSETFROM:+0100
TZOFFSETTO:+0200
TZNAME:CEST
DTSTART:20220327T010000
END:DAYLIGHT
BEGIN:STANDARD
TZOFFSETFROM:+0200
TZOFFSETTO:+0100
TZNAME:CET
DTSTART:20221030T010000
END:STANDARD
BEGIN:DAYLIGHT
TZOFFSETFROM:+0100
TZOFFSETTO:+0200
TZNAME:CEST
DTSTART:20230326T010000
END:DAYLIGHT
BEGIN:STANDARD
TZOFFSETFROM:+0200
TZOFFSETTO:+0100
TZNAME:CET
DTSTART:20231029T010000
END:STANDARD
END:VTIMEZONE
BEGIN:VEVENT
DTSTART;TZID=Europe/Madrid:20220706T100000
DTEND;TZID=Europe/Madrid:20220929T200000
DTSTAMP:20260425T020502
CREATED:20220708T102442Z
LAST-MODIFIED:20220708T103111Z
UID:10001819-1657101600-1664481600@caritas.barcelona
SUMMARY:EXPOSICIÓ “TRAVESSAR FRONTERES”
DESCRIPTION:La identitat de les dones migrades\, a través de les seves fotografies  \nA partir del 6 de juliol i fins al 29 de setembre (agost tancat)\, us convidem a visitar l’exposició fotogràfica de Cruzando Fronteras a la Casa de la Barceloneta 1761.  \nImpulsada pels projectes D’acció Comunitària Intergènere i el Pla Comunitari de la Barceloneta\, l’exposició recull les fotografies de dones de diversos orígens que\, a través de les seves peces\, retraten la seva realitat i construeixen la seva identitat. \n 
URL:https://caritas.barcelona/agenda-caritas/exposicio-cruzando-fronteras/
LOCATION:Casa de la Barceloneta 1761\, Carrer de Sant Carles\, 6\, Barcelona\, Barcelona\, 08003\, Espanya
ATTACH;FMTTYPE=image/jpeg:https://caritas.barcelona/wp-content/uploads/2022/07/fotos-expo-e1657275873604.jpeg
GEO:41.3789003;2.1885735
X-APPLE-STRUCTURED-LOCATION;VALUE=URI;X-ADDRESS=Casa de la Barceloneta 1761 Carrer de Sant Carles 6 Barcelona Barcelona 08003 Espanya;X-APPLE-RADIUS=500;X-TITLE=Carrer de Sant Carles\, 6:geo:2.1885735,41.3789003
END:VEVENT
END:VCALENDAR