BEGIN:VCALENDAR
VERSION:2.0
PRODID:-//Caritas Barcelona - ECPv6.15.18//NONSGML v1.0//EN
CALSCALE:GREGORIAN
METHOD:PUBLISH
X-ORIGINAL-URL:https://caritas.barcelona
X-WR-CALDESC:Esdeveniments per Caritas Barcelona
REFRESH-INTERVAL;VALUE=DURATION:PT1H
X-Robots-Tag:noindex
X-PUBLISHED-TTL:PT1H
BEGIN:VTIMEZONE
TZID:Europe/Madrid
BEGIN:DAYLIGHT
TZOFFSETFROM:+0100
TZOFFSETTO:+0200
TZNAME:CEST
DTSTART:20210328T010000
END:DAYLIGHT
BEGIN:STANDARD
TZOFFSETFROM:+0200
TZOFFSETTO:+0100
TZNAME:CET
DTSTART:20211031T010000
END:STANDARD
BEGIN:DAYLIGHT
TZOFFSETFROM:+0100
TZOFFSETTO:+0200
TZNAME:CEST
DTSTART:20220327T010000
END:DAYLIGHT
BEGIN:STANDARD
TZOFFSETFROM:+0200
TZOFFSETTO:+0100
TZNAME:CET
DTSTART:20221030T010000
END:STANDARD
BEGIN:DAYLIGHT
TZOFFSETFROM:+0100
TZOFFSETTO:+0200
TZNAME:CEST
DTSTART:20230326T010000
END:DAYLIGHT
BEGIN:STANDARD
TZOFFSETFROM:+0200
TZOFFSETTO:+0100
TZNAME:CET
DTSTART:20231029T010000
END:STANDARD
END:VTIMEZONE
BEGIN:VEVENT
DTSTART;TZID=Europe/Madrid:20220526T100000
DTEND;TZID=Europe/Madrid:20220630T120000
DTSTAMP:20260425T035915
CREATED:20220307T111817Z
LAST-MODIFIED:20220502T101944Z
UID:10001771-1653559200-1656590400@caritas.barcelona
SUMMARY:Curs bàsic de voluntariat social - matins de 10 a 12h. - 2022/05-VOLBAS04
DESCRIPTION:Curs bàsic de voluntariat social per comprendre i adquirir les competències bàsiques a l’hora d’iniciar-se en l’acció voluntària en una entitat social. \nA càrrec del professorat de l’Escola de formació del voluntariat de CDB. \nPersones destinatàries: persones amb sensibilitat social i que s’inicien o volen iniciar-se en el voluntariat en aquest àmbit. \nHorari: Curs de 12 hores impartit en 6 sessions de dues hores\, dijous 26 de maig i dijous 2\, 9\, 16\, 23 i 30 de juny de 10 a 12 h \nModalitat: Presencial \nLloc: Seminari Conciliar de Barcelona\, carrer Diputació\, 231 \nCal inscripció prèvia. Persones interessades poden inscriure’s clicant en aquest FORMULARI D’INSCRIPCIÓ\nCost d’inscripció: Aportació de 10€. Per a les persones que ja formen part de l’equip de voluntariat de Càritas\, aquesta aportació és totalment lliure i voluntària. (Les persones que no puguin assumir aquest cost\, poden sol·licitar exempció del pagament). \nCodi curs: 2022/05VOLSBAS04 \nCurs reconegut pel Pla de formació de l’associacionsime i el voluntariat de Catalunya (PFAVC)
URL:https://caritas.barcelona/agenda-caritas/curs-basic-de-voluntariat-social-2022-05-volbas04/
LOCATION:Seminari Conciliar de Barcelona\, Diputació\, 231\, Barcelona\, Barcelona\, 08007\, Espanya
ATTACH;FMTTYPE=image/jpeg:https://caritas.barcelona/wp-content/uploads/2021/07/WhatsApp-Image-2021-07-14-at-23.47.57-1.jpeg
ORGANIZER;CN="C%C3%A0ritas Barcelona":MAILTO:caritas@caritas.barcelona
GEO:41.3882329;2.1629603
X-APPLE-STRUCTURED-LOCATION;VALUE=URI;X-ADDRESS=Seminari Conciliar de Barcelona Diputació 231 Barcelona Barcelona 08007 Espanya;X-APPLE-RADIUS=500;X-TITLE=Diputació\, 231:geo:2.1629603,41.3882329
END:VEVENT
BEGIN:VEVENT
DTSTART;TZID=Europe/Madrid:20220613T173000
DTEND;TZID=Europe/Madrid:20220613T183000
DTSTAMP:20260425T035915
CREATED:20220502T083552Z
LAST-MODIFIED:20220629T094725Z
UID:10001793-1655141400-1655145000@caritas.barcelona
SUMMARY:SESSIÓ INFORMATIVA SOBRE VOLUNTARIAT-només per persones que estan cursant actualment Estudis Mitjans o Superiors-Format virtual-13 de juny a les 17.30h
DESCRIPTION:Aquest és el primer pas per ser voluntari o voluntària de Càritas. Des del programa de Voluntariat\, organitzem sessions informatives periòdiques\, per a totes aquelles persones que vulguin ser voluntàries a la nostra institució. \n*Si estàs cursant estudis mitjans o superiors i et vols convalidar crèdits\, apunta’t a aquesta sessió en el següent formulari Fes-te voluntari | Caritas Barcelona i en Descripció Breu indica a quin centre i quins estudis estàs realitzant
URL:https://caritas.barcelona/agenda-caritas/12300/
LOCATION:Barcelona
ATTACH;FMTTYPE=image/jpeg:https://caritas.barcelona/wp-content/uploads/2020/06/header-rrhh.jpg
ORGANIZER;CN="C%C3%A0ritas Barcelona":MAILTO:caritas@caritas.barcelona
END:VEVENT
BEGIN:VEVENT
DTSTART;TZID=Europe/Madrid:20220615T123000
DTEND;TZID=Europe/Madrid:20220615T140000
DTSTAMP:20260425T035915
CREATED:20220404T063051Z
LAST-MODIFIED:20220713T084215Z
UID:10001779-1655296200-1655301600@caritas.barcelona
SUMMARY:SESSIÓ INFORMATIVA SOBRE VOLUNTARIAT-15 de juny a les 12.30h en Format Presencial (sessió en castellà)
DESCRIPTION:Aquest és el primer pas per ser voluntari o voluntària de Càritas. Des del programa de Voluntariat\, organitzem sessions informatives periòdiques\, per a totes aquelles persones que vulguin ser voluntàries a la nostra institució.\nAquesta sessió s’impartirà en castellà\nSi vols apuntar-te a una sessió informativa sobre el voluntariat a Càritas\, inscriu-te a través del formulari Fes-te voluntari | Caritas Barcelona indicant la sessió a la qual vols assistir.\nLloc de realització: Plaça Nova 1 – Barcelona
URL:https://caritas.barcelona/agenda-caritas/sessio-informativa-sobre-voluntariat-18-de-maig-a-les-12-30h-en-format-presencial-sessio-en-catala/
LOCATION:Barcelona
ATTACH;FMTTYPE=image/jpeg:https://caritas.barcelona/wp-content/uploads/2020/06/header-rrhh.jpg
ORGANIZER;CN="C%C3%A0ritas Barcelona":MAILTO:caritas@caritas.barcelona
END:VEVENT
BEGIN:VEVENT
DTSTART;TZID=Europe/Madrid:20220622T120000
DTEND;TZID=Europe/Madrid:20220622T160000
DTSTAMP:20260425T035915
CREATED:20220608T133100Z
LAST-MODIFIED:20220608T133852Z
UID:10001813-1655899200-1655913600@caritas.barcelona
SUMMARY:ACTE DE CLOENDA DEL CURS DE LA FAMÍLIA CÀRITAS
DESCRIPTION:És el moment d’agrair\, de fer balanç\, de veure el futur amb esperança. \nEn aquest acte de cloenda del curs 2021-2022\, que tindrà lloc el 22 de juny a les 12 h\, presentarem les xifres de la memòria 2021 i tindrem al cor sobretot persones concretes amb nom i cognoms\, amb històries viscudes de patiment\, de superació\, d’il·lusió. La nostra atenció i acompanyament a les persones és possible gràcies a l’aportació de tots: voluntariat\, personal contractat\, socis\, donants\, comunitat cristiana. \nL’acte serà presencial a la Sala d’Actes del Seminari Conciliar de Barcelona (C/ Diputació\, 231) i inclou sorpresa final i dinar a peu dret amb l’acompanyament musical de La Petita Àgata. \nCal inscripció prèvia abans del 16 de juny. \nInscriu-te clicant aquí: https://bit.ly/3O3Il7a \nNo hi faltis!
URL:https://caritas.barcelona/agenda-caritas/acte-de-cloenda-del-curs-de-la-familia-caritas/
LOCATION:Seminari Conciliar de Barcelona\, Diputació\, 231\, Barcelona\, Barcelona\, 08007\, Espanya
ATTACH;FMTTYPE=image/png:https://caritas.barcelona/wp-content/uploads/2022/06/Captura-de-pantalla-2022-06-08-a-las-15.30.31.png
GEO:41.3882329;2.1629603
X-APPLE-STRUCTURED-LOCATION;VALUE=URI;X-ADDRESS=Seminari Conciliar de Barcelona Diputació 231 Barcelona Barcelona 08007 Espanya;X-APPLE-RADIUS=500;X-TITLE=Diputació\, 231:geo:2.1629603,41.3882329
END:VEVENT
BEGIN:VEVENT
DTSTART;TZID=Europe/Madrid:20220629T190000
DTEND;TZID=Europe/Madrid:20220629T203000
DTSTAMP:20260425T035915
CREATED:20220627T121911Z
LAST-MODIFIED:20220628T065557Z
UID:10001567-1656529200-1656534600@caritas.barcelona
SUMMARY:La Pau del Cor de La Setmana per la Pau - Arcadi Oliveres
DESCRIPTION:La Pau del Cor tindrà lloc el dimecres 29 de juny\, a les 19 h\, a la Plaça Sant Jaume de Barcelona\, i serà conduït per la periodista Rosa Maria Calaf. \nL’acte està organitzat per Justícia i Pau i compta amb la col·laboració de la Direcció General d’Afers Religiosos del Departament de Justícia de la Generalitat\, l’Ajuntament de Barcelona\, Càritas Diocesana de Barcelona\, la XIP (Xarxa Interreligiosa per la Pau) i AUDIR. \nLa Pau del Cor és un acte interreligiós i interconviccional per reivindicar l’espiritualitat com un camí vers la pau. Es durà a terme al cor de la ciutat\, on es proposa un espai de silenci\, meditació i vetlla per la pau\, amb la participació de les diferents tradicions religioses i espirituals presents a la ciutat. També es llegiran textos per part de diverses entitats socials\, que des de l’humanisme i la defensa del bé comú\, defensen la cultura de la pau. La lectura dels diferents textos anirà acompanyada per la música del handpan de Ravid Goldshmidt.
URL:https://caritas.barcelona/agenda-caritas/la-pau-del-cor-de-la-setmana-per-la-pau-arcadi-oliveres/
LOCATION:Plaça Sant Jaume\, Plaça de Sant Jaume\, 1\, Barcelona\, Barcelona\, 08002\, Espanya
ATTACH;FMTTYPE=image/png:https://caritas.barcelona/wp-content/uploads/2022/06/Captura-1.png
GEO:41.3824792;2.1771411
X-APPLE-STRUCTURED-LOCATION;VALUE=URI;X-ADDRESS=Plaça Sant Jaume Plaça de Sant Jaume 1 Barcelona Barcelona 08002 Espanya;X-APPLE-RADIUS=500;X-TITLE=Plaça de Sant Jaume\, 1:geo:2.1771411,41.3824792
END:VEVENT
BEGIN:VEVENT
DTSTART;TZID=Europe/Madrid:20220629T220000
DTEND;TZID=Europe/Madrid:20220629T233000
DTSTAMP:20260425T035915
CREATED:20220526T133307Z
LAST-MODIFIED:20220526T134857Z
UID:10001811-1656540000-1656545400@caritas.barcelona
SUMMARY:BEACH BOYS: CONCERT SOLIDARI FESTIVAL JARDINS DE PEDRALBES
DESCRIPTION:Càritas Barcelona col·labora amb el Festival dels Jardins de Pedralbes. \nVine a veure els Beach Boys\, amb més de 100 milions de discs venuts a tot el món\, amb una de les 400 entrades solidàries de què disposem. \nEls beneficis de l’entrada aniran destinats al programa de sense llar i habitatge de Càritas Barcelona. Més concretament\, a pal·liar l’exclusió residencial de moltes famílies que atenem. \nCOMPRA LA TEVA ENTRADA
URL:https://caritas.barcelona/agenda-caritas/beach-boys-concert-solidari-festival-jardins-de-pedralbes/
LOCATION:Jardins del Palau de Pedralbes\, Avinguda Diagonal\, 686\, Barcelona\, Barcelona\, 08034\, Espanya
ATTACH;FMTTYPE=image/png:https://caritas.barcelona/wp-content/uploads/2022/05/Captura10.png
GEO:41.3864863;2.1180805
X-APPLE-STRUCTURED-LOCATION;VALUE=URI;X-ADDRESS=Jardins del Palau de Pedralbes Avinguda Diagonal 686 Barcelona Barcelona 08034 Espanya;X-APPLE-RADIUS=500;X-TITLE=Avinguda Diagonal\, 686:geo:2.1180805,41.3864863
END:VEVENT
BEGIN:VEVENT
DTSTART;TZID=Europe/Madrid:20220630T100000
DTEND;TZID=Europe/Madrid:20220630T200000
DTSTAMP:20260425T035915
CREATED:20220627T121146Z
LAST-MODIFIED:20220628T071750Z
UID:10001563-1656583200-1656619200@caritas.barcelona
SUMMARY:La Plaça del Diàleg de la Setmana per la Pau - Arcadi Oliveres
DESCRIPTION:La Plaça del Diàleg tindrà lloc el dijous 30 de juny\, de 10 h a 20 h.  \nLa ubicació serà la Plaça Universitat de Barcelona. L’acte està impulsat per Justícia i Pau Barcelona amb la col·laboració de l’Institut Català Internacional per la Pau\, el Fons Català de Cooperació al Desenvolupament i Lafede.cat. \nA la plaça s’hi instal·larà una gran carpa on es podrà debatre sobre temes com desarmament\, ecologia\, fiscalitat justa\, educació per la pau\, justícia global o desigualtats\, entre altres temes\, amb persones membres de Càritas Barcelona\, Centre Delàs\, Escola Cultura de Pau\, FCVS\, FETS\, Fundació Carta de la Pau dirigida a l’ONU\, Fundipau\, Novact\, Plataforma per una Fiscalitat Justa i Unipau. \n 
URL:https://caritas.barcelona/agenda-caritas/la-placa-del-dialeg-de-la-setmana-per-la-pau-arcadi-oliveres/
LOCATION:Plaça Universitat\, Plaça de la Universitat\, Barcelona\, Barcelona\, 08007\, Espanya
ATTACH;FMTTYPE=image/png:https://caritas.barcelona/wp-content/uploads/2022/06/Captura.png
GEO:41.3856368;2.1642614
X-APPLE-STRUCTURED-LOCATION;VALUE=URI;X-ADDRESS=Plaça Universitat Plaça de la Universitat Barcelona Barcelona 08007 Espanya;X-APPLE-RADIUS=500;X-TITLE=Plaça de la Universitat:geo:2.1642614,41.3856368
END:VEVENT
BEGIN:VEVENT
DTSTART;TZID=Europe/Madrid:20220630T200000
DTEND;TZID=Europe/Madrid:20220630T200000
DTSTAMP:20260425T035915
CREATED:20220629T074854Z
LAST-MODIFIED:20220629T105310Z
UID:10001571-1656619200-1656619200@caritas.barcelona
SUMMARY:MORIR D'ESPERANÇA\, pregària en record de tots els que perden la vida en els viatges cap a Europa
DESCRIPTION:Recordem als 37 immigrants morts a Melilla i tots els que “Moren d’esperança”.  \nEl proper dijous 30 de juny a les 20 h\, us convidem a una pregària en record de tots els que perden la vida en els viatges cap a Europa a la Basílica dels Sants Màrtirs Just i Pastor.  \nL’acte\, organitzat conjuntament per la Comunitat de Sant’Egido\, Càritas Diocesana\, Delegació Diocesana de Pastoral Social i Caritativa\, Justícia i Pau\, Fundació Migra Studium\, Fundació Bayt-al-Thaqafa i Federació Filipina KALIPI\, es celebrarà en ocasió de la Jornada Mundial del Refugiat.
URL:https://caritas.barcelona/agenda-caritas/morir-desperanca-2/
LOCATION:Basílica dels Sants Just i Pastor\, Plaça Sant Just i Pastor\, 1\, Barcelona\, Barcelona\, 08002\, Espanya
ATTACH;FMTTYPE=image/jpeg:https://caritas.barcelona/wp-content/uploads/2022/06/WhatsApp-Image-2022-06-29-at-8.36.38-AM-e1656488627230.jpeg
GEO:41.382834;2.178232
X-APPLE-STRUCTURED-LOCATION;VALUE=URI;X-ADDRESS=Basílica dels Sants Just i Pastor Plaça Sant Just i Pastor 1 Barcelona Barcelona 08002 Espanya;X-APPLE-RADIUS=500;X-TITLE=Plaça Sant Just i Pastor\, 1:geo:2.178232,41.382834
END:VEVENT
END:VCALENDAR