BEGIN:VCALENDAR
VERSION:2.0
PRODID:-//Caritas Barcelona - ECPv6.15.18//NONSGML v1.0//EN
CALSCALE:GREGORIAN
METHOD:PUBLISH
X-ORIGINAL-URL:https://caritas.barcelona
X-WR-CALDESC:Esdeveniments per Caritas Barcelona
REFRESH-INTERVAL;VALUE=DURATION:PT1H
X-Robots-Tag:noindex
X-PUBLISHED-TTL:PT1H
BEGIN:VTIMEZONE
TZID:Europe/Madrid
BEGIN:DAYLIGHT
TZOFFSETFROM:+0100
TZOFFSETTO:+0200
TZNAME:CEST
DTSTART:20250330T010000
END:DAYLIGHT
BEGIN:STANDARD
TZOFFSETFROM:+0200
TZOFFSETTO:+0100
TZNAME:CET
DTSTART:20251026T010000
END:STANDARD
BEGIN:DAYLIGHT
TZOFFSETFROM:+0100
TZOFFSETTO:+0200
TZNAME:CEST
DTSTART:20260329T010000
END:DAYLIGHT
BEGIN:STANDARD
TZOFFSETFROM:+0200
TZOFFSETTO:+0100
TZNAME:CET
DTSTART:20261025T010000
END:STANDARD
BEGIN:DAYLIGHT
TZOFFSETFROM:+0100
TZOFFSETTO:+0200
TZNAME:CEST
DTSTART:20270328T010000
END:DAYLIGHT
BEGIN:STANDARD
TZOFFSETFROM:+0200
TZOFFSETTO:+0100
TZNAME:CET
DTSTART:20271031T010000
END:STANDARD
END:VTIMEZONE
BEGIN:VEVENT
DTSTART;TZID=Europe/Madrid:20260223T170000
DTEND;TZID=Europe/Madrid:20260323T200000
DTSTAMP:20260422T162426
CREATED:20251219T090528Z
LAST-MODIFIED:20260217T174341Z
UID:10002176-1771866000-1774296000@caritas.barcelona
SUMMARY:CURS BÀSIC DE VOLUNTARIAT SOCIAL 2026.02_VOLSBAS02 - Durada 14 hores (5 sessions)
DESCRIPTION:Per comprendre i adquirir les competències bàsiques a l’hora d’iniciar-se en l’acció voluntària en una entitat social. \nA càrrec del professorat de l’Escola de formació del voluntariat de CDB. \nPersones destinatàries: persones amb sensibilitat social i que s’inicien o volen iniciar-se en el voluntariat en aquest àmbit. \nHorari: Curs de 14 hores impartit en 5 sessions de tres hores\, dilluns 23 de febrer i 2\, 9\, 16 i 23 de març de 2026 de 17:00 a 20:00 h. \nModalitat: PRESENCIAL \nCal inscripció prèvia. Places limitades. Persones interessades inscriviu-vos clicant en aquest\nFORMULARI D’INSCRIPCIÓ   \nCost d’inscripció: Gratuït per a persones que formen part de l’equip de Càritas. Aportació de 10€ per a la resta (les persones que no puguin assumir aquest cost\, poden sol·licitar exempció de pagament). \nCodi curs: 2026.02_VOLSBAS02 \nCurs reconegut pel Pla de Formació de l’Associacionsime i el Voluntariat de Catalunya (PFAVC) \nAmb el suport de   
URL:https://caritas.barcelona/agenda-caritas/curs-basic-de-voluntariat-social-2026-02_volsbas02-durada-14-hores-5-sessions/
LOCATION:Seminari Conciliar de Barcelona\, Diputació\, 231\, Barcelona\, Barcelona\, 08007\, Espanya
ATTACH;FMTTYPE=image/jpeg:https://caritas.barcelona/wp-content/uploads/2023/07/VOLSBAS_Proposta.jpg
ORGANIZER;CN="C%C3%A0ritas Barcelona":MAILTO:caritas@caritas.barcelona
GEO:41.3882329;2.1629603
X-APPLE-STRUCTURED-LOCATION;VALUE=URI;X-ADDRESS=Seminari Conciliar de Barcelona Diputació 231 Barcelona Barcelona 08007 Espanya;X-APPLE-RADIUS=500;X-TITLE=Diputació\, 231:geo:2.1629603,41.3882329
END:VEVENT
BEGIN:VEVENT
DTSTART;TZID=Europe/Madrid:20260310T150000
DTEND;TZID=Europe/Madrid:20260310T170000
DTSTAMP:20260422T162426
CREATED:20260224T133353Z
LAST-MODIFIED:20260224T133353Z
UID:10002210-1773154800-1773162000@caritas.barcelona
SUMMARY:XXXII Jornades Blanquerna "Forenteres\, irregularitat i acompanyament des de la interculturalitat"
DESCRIPTION:El dia 10 de març a les 15h\, a l’Aula 103\, tindrà lloc la sessió “Mobilitat humana: Fronteres\, irregularitat i acompanyament des de la interculturalitat”\, a càrrec d’Omaira Beltran\, tècnica en intervenció intercultural de Càritas Diocesana de Barcelona. \n \nEn el marc de les XXXII Jornades Blanquerna\, que tindran lloc els dies 9\, 10 i 11 de març\, se celebra “La ficció com a realitat”\, una edició dedicada al debat o\, combat\, entre ficció i realitat\, una qüestió central per als futurs professionals de la Comunicació i les Relacions Internacionals. \nMobilitat humana “Forenteres\, irregularitat i acompanyament des de la interculturalitat”\nLa xerrada abordarà qüestions vinculades a les fronteres\, les situacions d’irregularitat i l’acompanyament des d’una perspectiva intercultural. Tot seguit\, se celebrarà l’acte de lliurament de la Distinció Honorífica de Càritas al millor TFG/TFM social. La sessió serà presentada per Carlota Monferrer (Alumni 2024) de la Blanquerna – Universitat Ramon Llull. \nDIA I HORA: 10 de març a les 15h \nLLOC: Facultat de Comunicació i RRII Blanquerna-URL (Aula 103) \nPer a més informació de les Jornades CONSULTA TOTA LA PROGRAMACIÓ AQUÍ!
URL:https://caritas.barcelona/agenda-caritas/xxxii-jornades-blanquerna-forenteres-irregularitat-i-acompanyament-des-de-la-interculturalitat/
LOCATION:Facultat de Comunicació i RRII Blanquerna-URL\, Plaça Joan Coromines\, Barcelona\, Barcelona\, 08001\, Espanya
ATTACH;FMTTYPE=image/jpeg:https://caritas.barcelona/wp-content/uploads/2026/02/FCRI-Capsalera-web-Jornades-scaled-1-e1771939979623.jpg
END:VEVENT
BEGIN:VEVENT
DTSTART;TZID=Europe/Madrid:20260311T103000
DTEND;TZID=Europe/Madrid:20260311T120000
DTSTAMP:20260422T162426
CREATED:20260211T133153Z
LAST-MODIFIED:20260211T133153Z
UID:10002202-1773225000-1773230400@caritas.barcelona
SUMMARY:SESSIÓ INFORMATIVA SOBRE VOLUNTARIAT - GENERAL -Format presencial- 11 de març a les 10:30h (en català)
DESCRIPTION:Aquest és el primer pas per ser voluntari o voluntària de Càritas. Des del programa de Voluntariat\, organitzem sessions informatives periòdiques\, per a totes aquelles persones que vulguin ser voluntàries a la nostra institució. \nAquesta sessió s’impartirà en català\nSi vols apuntar-te a una sessió informativa sobre el voluntariat a Càritas\, inscriu-te a través del següent formulari\, indicant la sessió a la qual vols assistir: \nFes-te voluntari | Caritas Barcelona \nLloc: Plaça Nova\, 1\, Barcelona (08002)\n  \nEl programa de voluntariat de Càritas Barcelona compta amb el suport de la Generalitat de Catalunya.
URL:https://caritas.barcelona/agenda-caritas/sessio-informativa-sobre-voluntariat-general-format-presencial-11-de-marc-a-les-1030h-en-catala/
LOCATION:Barcelona 1 – Districtes de Ciutat Vella\, Eixample i barri del Poble-sec\, Plaça Nova\, 1\, Barcelona\, Barcelona\, 08002\, Espanya
ATTACH;FMTTYPE=image/png:https://caritas.barcelona/wp-content/uploads/2025/08/Fes-voluntariat_generic.png
ORGANIZER;CN="C%C3%A0ritas Barcelona":MAILTO:caritas@caritas.barcelona
GEO:41.3840277;2.1751608
X-APPLE-STRUCTURED-LOCATION;VALUE=URI;X-ADDRESS=Barcelona 1 – Districtes de Ciutat Vella Eixample i barri del Poble-sec Plaça Nova 1 Barcelona Barcelona 08002 Espanya;X-APPLE-RADIUS=500;X-TITLE=Plaça Nova\, 1:geo:2.1751608,41.3840277
END:VEVENT
BEGIN:VEVENT
DTSTART;TZID=Europe/Madrid:20260311T183000
DTEND;TZID=Europe/Madrid:20260311T203000
DTSTAMP:20260422T162426
CREATED:20260304T132419Z
LAST-MODIFIED:20260304T133023Z
UID:10002212-1773253800-1773261000@caritas.barcelona
SUMMARY:Lectura creient de l'Informe FOESSA
DESCRIPTION:Cristianisme i Justícia acollirà dimecres 11 de març a les 18.30h una lectura creient de l’Informe Foessa Catalunya\, per reflexionar des de la fe sobre la realitat social actual. \n \nL’acte proposa una mirada creient a l’anàlisi del FOESSA Catalunya\, que dibuixa una societat cada vegada més fragmentada. La trobada vol posar paraules i dades a una realitat que interpel·la profundament i\, alhora\, generar un espai de reflexió\, escolta i discerniment compartit. La jornada s’adreça especialment a entitats\, comunitats i persones vinculades a l’acció social i pastoral de l’Església\, amb la voluntat de respondre-hi des del compromís cristià i l’esperança. \nDIA I HORA: 11 de març a les 18:30h \nLLOC: Sala d’acte de Cristianisme i Justícia (Roger de Llúria\, 13\, Barcelona) \nCal inscripció prèvia a través de: Inscripció Lectura Creient FOESSA
URL:https://caritas.barcelona/agenda-caritas/lectura-creient-de-linforme-foessa/
LOCATION:Cristianisme i Justícia\, Roger de Llúria\, 13\, Barcelona\, Barcelona\, 08010\, Espanya
ATTACH;FMTTYPE=image/png:https://caritas.barcelona/wp-content/uploads/2026/03/c79d3afe-f0cf-44bf-95bb-c40c3ae6ae2b.png
GEO:41.3906452;2.1719173
X-APPLE-STRUCTURED-LOCATION;VALUE=URI;X-ADDRESS=Cristianisme i Justícia Roger de Llúria 13 Barcelona Barcelona 08010 Espanya;X-APPLE-RADIUS=500;X-TITLE=Roger de Llúria\, 13:geo:2.1719173,41.3906452
END:VEVENT
BEGIN:VEVENT
DTSTART;TZID=Europe/Madrid:20260408T180000
DTEND;TZID=Europe/Madrid:20260408T200000
DTSTAMP:20260422T162426
CREATED:20260327T073816Z
LAST-MODIFIED:20260330T140308Z
UID:10002216-1775671200-1775678400@caritas.barcelona
SUMMARY:Acte “Una llei per emparar les persones sense llar”
DESCRIPTION:El sensellarisme és una realitat que exigeix respostes urgents. La tramitació al Parlament de Catalunya d’una proposició de llei específica representa una oportunitat clau per avançar en la garantia de drets. Aquest acte vol generar espai de reflexió al voltant d’aquesta iniciativa legislativa i del seu impacte. \n \nEl 8 d’abril a les 18h\, l’Institut d’Estudis Catalans (Carrer del Carme\, 47\, 08001 Barcelona) acull una sessió\, organitzada per Manuel Castellet i Antoni Milian\, per parlar de la proposició de llei que busca donar resposta al sensellarisme a Catalunya. \nL’acte comptarà amb la participació de:\n– Begoña Román\, cap del Comitè d’Ètica de Serveis Socials de Catalunya.\n– Antoni Milian\, catedràtic honorari de dret administratiu de la Universitat Autònoma de Barcelona.\n– Teresa Cabré\, presidenta de l’IEC.\n– Mònica Martínez Bravo\, consellera de Drets Socials i Inclusió.\n– Josep Rull i Andreu\, president del Parlament de Catalunya. \nLes seves aportacions permetran aproximar-se als fonaments ètics\, jurídics i institucionals d’aquesta futura llei i aprofundir en els reptes i oportunitats. \nINSCRIPCIONS: Les persones interessades podeu confirmar l’assistència AQUI.
URL:https://caritas.barcelona/agenda-caritas/jornada-una-llei-per-emparar-les-persones-sense-llar/
LOCATION:Institut d’Estudis Catalans\, Carrer del Carme\, 47\, Barcelona\, Barcelona\, 08001\, Espanya
ATTACH;FMTTYPE=image/jpeg:https://caritas.barcelona/wp-content/uploads/2026/03/20250506_RECOMPTE_SENSELLAR_BADALONA_@DANI_CODINA-28-1-scaled.jpg
END:VEVENT
BEGIN:VEVENT
DTSTART;TZID=Europe/Madrid:20260416T093000
DTEND;TZID=Europe/Madrid:20260507T130000
DTSTAMP:20260422T162426
CREATED:20260127T125248Z
LAST-MODIFIED:20260217T174646Z
UID:10002198-1776331800-1778158800@caritas.barcelona
SUMMARY:CURS BÀSIC DE VOLUNTARIAT SOCIAL 2026.04_VOLSBAS03 - Durada 14 hores (4 sessions)
DESCRIPTION:Curs bàsic de voluntariat social \nPer comprendre i adquirir les competències bàsiques a l’hora d’iniciar-se en l’acció voluntària en una entitat social. \nA càrrec del professorat de l’Escola de formació del voluntariat de CDB. \nPersones destinatàries: persones amb sensibilitat social i que s’inicien o volen iniciar-se en el voluntariat en aquest àmbit. \nHorari: Curs de 14 hores impartit en 4 sessions de tres hores i mitja\, dijous 16\, 23 i 30 d’abril i 7 de maig de 2026\, de 9.30 a 13.00 h. \nModalitat: PRESENCIAL \nCal inscripció prèvia. Places limitades. Persones interessades inscriviu-vos clicant en aquest\nFORMULARI D’INSCRIPCIÓ   \nCost d’inscripció: Gratuït per a persones que formen part de l’equip de Càritas. Aportació de 10€ per a la resta (les persones que no puguin assumir aquest cost\, poden sol·licitar exempció de pagament). \nCodi curs: 2026.04_VOLSBAS03 \nCurs reconegut pel Pla de Formació de l’Associacionsime i el Voluntariat de Catalunya (PFAVC) \nAmb el suport de   
URL:https://caritas.barcelona/agenda-caritas/curs-basic-de-voluntariat-social-2026-04_volsbas03-durada-14-hores-4-sessions/
LOCATION:Seminari Conciliar de Barcelona\, Diputació\, 231\, Barcelona\, Barcelona\, 08007\, Espanya
ATTACH;FMTTYPE=image/jpeg:https://caritas.barcelona/wp-content/uploads/2023/07/VOLSBAS_Proposta.jpg
ORGANIZER;CN="C%C3%A0ritas Barcelona":MAILTO:caritas@caritas.barcelona
GEO:41.3882329;2.1629603
X-APPLE-STRUCTURED-LOCATION;VALUE=URI;X-ADDRESS=Seminari Conciliar de Barcelona Diputació 231 Barcelona Barcelona 08007 Espanya;X-APPLE-RADIUS=500;X-TITLE=Diputació\, 231:geo:2.1629603,41.3882329
END:VEVENT
BEGIN:VEVENT
DTSTART;TZID=Europe/Madrid:20260416T100000
DTEND;TZID=Europe/Madrid:20260416T120000
DTSTAMP:20260422T162426
CREATED:20260327T104915Z
LAST-MODIFIED:20260327T105115Z
UID:10002218-1776333600-1776340800@caritas.barcelona
SUMMARY:Presentació de l'Informe Foessa a la Universitat Abat Oliva
DESCRIPTION:La radiografia social més completa sobre exclusió i desenvolupament social a la diòcesi de Barcelona. \n \nEt convidem a l’acte de presentació de l’Informe Foessa Barcelona impulsat per Càritas Diocesana de Barcelona en col·laboració amb la Universitat Abat Oliva. Aquest estudi analitza de forma rigorosa i multidimensional les condicions de vida de la població\, identificant els factors que generen exclusió i les palanques necessàries per a la transformació social. \n Data: Dijous 16 d’abril de 2026\n Horari: De 10 a 12 h\n Lloc: Universitat Abat Oliva CEU (Carrer de Bellesguard\, 30\, 08022 Barcelona) \n Cal inscripció prèvia AQUI
URL:https://caritas.barcelona/agenda-caritas/presentacio-de-linforme-foessa-a-la-universitat-abat-oliva/
LOCATION:Universitat Abat Oliva CEU\, Carrer de Bellesguard\, 30\, Barcelona\, Barcelona\, 08022\, Espanya
ATTACH;FMTTYPE=image/jpeg:https://caritas.barcelona/wp-content/uploads/2026/03/WhatsApp-Image-2026-03-27-at-10.56.41-1.jpeg
END:VEVENT
BEGIN:VEVENT
DTSTART;TZID=Europe/Madrid:20260421T180000
DTEND;TZID=Europe/Madrid:20260421T200000
DTSTAMP:20260422T162426
CREATED:20260216T211931Z
LAST-MODIFIED:20260216T211931Z
UID:10002206-1776794400-1776801600@caritas.barcelona
SUMMARY:2026.04_MUSTAFÀ ÉS AL REPLÀ
DESCRIPTION:Obra de teatre social a càrrec de Forn de teatre Pa’tothom\, entitat de Barcelona especialitzada en Teatre de l’Oprimit. \nDirigida per: Jordi Forcadas \nInterpretada per: Judit Saula\, Holga Pallejà\, Elton Canga\, Lluís Cases i Eduard Benito \nSessió dinamitzada per Montse Forcadas \nEn una comunitat de veïns ens trobem amb un problema que afecta tothom. Malgrat que hi ha una convivència normal\, davant certs interessos sorgeixen conflictes on aniran aflorant actituds carregades de prejudicis i estereotips respecte a l’altre. Això crea una barrera comunicativa i una distància que fa impossible trobar una solució conjunta. \nHorari: de 18.00 a 20.00 h \nLloc: Parròquia de Sant Ildefons\, Av. Sant Ildefons\, 15 – 08940 Cornellà de Llobregat \nCom s’hi arriba: Metro Sant Ildefons (L5) \nEntrada gratuïta. Places limitades. Cal inscripció clicant a INSCRIPCIÓ OBRA TEATRE \nAquesta obra és la primera sessió del Curs bàsic en migración i refugi\, organitzat per l’Escola de Formació de Càritas Diocesana de Barcelona. L’assistència a l’obra no comporta el compromís de participar en totes les altres cinc sessions del curs.
URL:https://caritas.barcelona/agenda-caritas/2026-04_mustafa-es-al-repla/
LOCATION:Càritas Diocesana de Barcelona – Zona Pastoral 4\, Av. Sant Ildefons\, 15\, Cornellà de Llobregat\, Barcelona\, 08940\, Espanya
ATTACH;FMTTYPE=image/jpeg:https://caritas.barcelona/wp-content/uploads/2024/02/mustafa.jpg
ORGANIZER;CN="C%C3%A0ritas Barcelona":MAILTO:caritas@caritas.barcelona
GEO:41.3655204;2.1396855
X-APPLE-STRUCTURED-LOCATION;VALUE=URI;X-ADDRESS=Càritas Diocesana de Barcelona – Zona Pastoral 4 Av. Sant Ildefons 15 Cornellà de Llobregat Barcelona 08940 Espanya;X-APPLE-RADIUS=500;X-TITLE=Av. Sant Ildefons\, 15:geo:2.1396855,41.3655204
END:VEVENT
BEGIN:VEVENT
DTSTART;TZID=Europe/Madrid:20260421T180000
DTEND;TZID=Europe/Madrid:20260526T200000
DTSTAMP:20260422T162426
CREATED:20260216T210316Z
LAST-MODIFIED:20260223T191653Z
UID:10002204-1776794400-1779825600@caritas.barcelona
SUMMARY:2026.04_MIGREF01 - Curs bàsic en migració i refugi - Presencial
DESCRIPTION:Des de Càritas Barcelona volem reflexionar sobre la diversitat cultural en la societat actual\, i conèixer i adquirir eines per a la gestió i tractament dels seus estereotips\, prejudicis i rumors. \n \nEl curs anirà a càrrec de Forn de Teatre Pa’tothom i l’equip de formadors de l’Escola de Formació del Voluntariat de CDB i té com a objectius: \n·       Reflexionar sobre el fet de la diversitat cultural en la nostra societat i adquirir claus interpretatives per comprendre la complexitat de la nostra societat des del punt de vista de la diversitat cultural. \n·       Conèixer algunes eines per al treball\, la gestió i el tractament d’estereotips\, prejudicis i rumors sobre diversitat cultural. \nPersones destinatàries: Persones interessades a formar-se en el tema de la gestió de la diversitat cultural. Voluntaris i membres dels grups de Càritas i de les comunitats cristianes que col·laborin en projectes d’acció social\, d’atenció i acompanyament a persones d’origen cultural divers. \nDies: Dimarts 21 i 28 d’abril\, 5\, 12\, 19 i 26 de maig de 2026 \nHorari: de 18.00 a 20.00 h \nLloc: Càritas Diocesana de Barcelona\, Arxiprestat de Llobregat\, Av. Sant Ildefons\, 15 – 08940 Cornellà de Llobregat \nCom s’hi arriba: Metro Sant Ildefons (L5) \nPlaces limitades. Cal inscripció prèvia a través del següent FORMULARI \nCost d’inscripció: Gratuït per a persones que formen part de l’equip de Càritas. Aportació de 10€ per a la resta (les persones que no puguin assumir aquest cost\, poden sol·licitar exempció de pagament). \nEl CURS consta de 6 sessions de dues hores. A les persones que assisteixin com a mínim al 80% de les sessions se’ls expedirà un diploma d’assistència. \nCurs reconegut pel Pla de Formació de l’Associacionsime i el Voluntariat de Catalunya (PFAVC) \nAmb el suport de   
URL:https://caritas.barcelona/agenda-caritas/2026-04_migref01-curs-basic-en-migracio-i-refugi-presencial/
LOCATION:Càritas Diocesana de Barcelona – Zona Pastoral 4\, Av. Sant Ildefons\, 15\, Cornellà de Llobregat\, Barcelona\, 08940\, Espanya
ATTACH;FMTTYPE=image/jpeg:https://caritas.barcelona/wp-content/uploads/2024/02/curs-migracio.jpg
ORGANIZER;CN="C%C3%A0ritas Barcelona":MAILTO:caritas@caritas.barcelona
GEO:41.3655204;2.1396855
X-APPLE-STRUCTURED-LOCATION;VALUE=URI;X-ADDRESS=Càritas Diocesana de Barcelona – Zona Pastoral 4 Av. Sant Ildefons 15 Cornellà de Llobregat Barcelona 08940 Espanya;X-APPLE-RADIUS=500;X-TITLE=Av. Sant Ildefons\, 15:geo:2.1396855,41.3655204
END:VEVENT
BEGIN:VEVENT
DTSTART;TZID=Europe/Madrid:20260423T100000
DTEND;TZID=Europe/Madrid:20260423T190000
DTSTAMP:20260422T162426
CREATED:20260415T080427Z
LAST-MODIFIED:20260417T112632Z
UID:10002224-1776938400-1776970800@caritas.barcelona
SUMMARY:Viu un Sant Jordi solidari amb Càritas
DESCRIPTION:Vine a veure’ns i participa de les activitats solidàries de Càritas durant aquesta Diada. \n \nVine a celebrar Sant Jordi a la parada que tindrem durant tot el dia a plaça Nova\, 1 de Barcelona.\nAquestes són les activitats que hi trobaràs: \n\nDurant tota la jornada: venda de roses solidàries\, II mostra de llibres de temàtica sense llar\, acció ‘planta la llavor de la solidaritat’\, racó de dibuix\, selfies\, i més sorpreses!\nDe 10 a 13 h: Fes una rosa al taller solidari\, dirigit per Glòria Palou\, voluntària de Càritas.\nA les 11.30 h: Presentació i signatura del llibre “Dormo al carrer” de Laia de Ahumada (Akiara books).\nA les 16:30 h: Presentació i signatura del llibre de Javier Martín “Oberta de bat a bat” (Grupo Editorial Círculo Rojo).\nA les 18 h: Taller conta-contes: “Les ulleres del respecte” de Sonia Massó (Edita.cat).\n\nTots els ingressos es destinaran a projectes socials de l’entitat. Ajuda’ns a trencar el cercle de la pobresa. \nHi participen: Taller de Sant Isidre\, Comissió Mixta sense llar\, centre obert Glamparetes\, grup de joves migrants\, espai polivalent Sant Miquel de Singuerlín. \nTambé ens podràs trobar en aquests altres punts:\nBARCELONA (Torre Baró)\nPlaça Roja i plaça Eucaliptus – de 16 a 19:30 h \nBARCELONA (La Barceloneta)\nPepe Rubianes – Joan de Borbó – de 17h a 19h \nSANTA COLOMA DE GRAMANET\nplaça de la Vila  – de 9 a 15 h \nMATARÓ\nLa Riera – de 9 a 14h
URL:https://caritas.barcelona/agenda-caritas/viu-un-sant-jordi-solidari-amb-caritas/
LOCATION:Plaça Nova\, Plaça Nova\, Barcelona\, Barcelona\, 08002\, Espanya
ATTACH;FMTTYPE=image/jpeg:https://caritas.barcelona/wp-content/uploads/2017/03/sant-jordi-caritas-barcelona-llibres-roses-catedral.jpg
GEO:41.3842534;2.1751129
X-APPLE-STRUCTURED-LOCATION;VALUE=URI;X-ADDRESS=Plaça Nova Plaça Nova Barcelona Barcelona 08002 Espanya;X-APPLE-RADIUS=500;X-TITLE=Plaça Nova:geo:2.1751129,41.3842534
END:VEVENT
BEGIN:VEVENT
DTSTART;TZID=Europe/Madrid:20260513T170000
DTEND;TZID=Europe/Madrid:20260513T183000
DTSTAMP:20260422T162426
CREATED:20260403T110141Z
LAST-MODIFIED:20260410T101612Z
UID:10002220-1778691600-1778697000@caritas.barcelona
SUMMARY:SESSIÓ INFORMATIVA SOBRE VOLUNTARIAT - GENERAL -Format presencial- 13 de maig a les 17h (en català)
DESCRIPTION:Aquest és el primer pas per ser voluntari o voluntària de Càritas. Des del programa de Voluntariat\, organitzem sessions informatives periòdiques\, per a totes aquelles persones que vulguin ser voluntàries a la nostra institució. \nAquesta sessió s’impartirà en català\nSi vols apuntar-te a una sessió informativa sobre el voluntariat a Càritas\, inscriu-te a través del següent formulari\, indicant la sessió a la qual vols assistir: \nFes-te voluntari | Caritas Barcelona \nLloc: Centre de Barcelona (Lloc a confirmar)\n  \nEl programa de voluntariat de Càritas Barcelona compta amb el suport de la Generalitat de Catalunya.
URL:https://caritas.barcelona/agenda-caritas/sessio-informativa-sobre-voluntariat-general-format-presencial-13-de-maig-a-les-17h-en-catala/
LOCATION:Barcelona
ATTACH;FMTTYPE=image/png:https://caritas.barcelona/wp-content/uploads/2025/08/Fes-voluntariat_generic.png
ORGANIZER;CN="C%C3%A0ritas Barcelona":MAILTO:caritas@caritas.barcelona
END:VEVENT
BEGIN:VEVENT
DTSTART;TZID=Europe/Madrid:20260520T093000
DTEND;TZID=Europe/Madrid:20260610T130000
DTSTAMP:20260422T162426
CREATED:20260223T192446Z
LAST-MODIFIED:20260223T192446Z
UID:10002208-1779269400-1781096400@caritas.barcelona
SUMMARY:CURS BÀSIC DE VOLUNTARIAT SOCIAL 2026.05_VOLSBAS04 - Durada 14 hores (4 sessions)
DESCRIPTION:Curs bàsic de voluntariat social \nPer comprendre i adquirir les competències bàsiques a l’hora d’iniciar-se en l’acció voluntària en una entitat social. \nA càrrec del professorat de l’Escola de formació del voluntariat de CDB. \nPersones destinatàries: persones amb sensibilitat social i que s’inicien o volen iniciar-se en el voluntariat en aquest àmbit. \nHorari: Curs de 14 hores impartit en 4 sessions de tres hores i mitja\, dimecres 20 i 27 de maig i 3 i 10 de juny de 2026\, de 9.30 a 13.00 h. \nModalitat: PRESENCIAL \nCal inscripció prèvia. Places limitades. Persones interessades inscriviu-vos clicant en aquest\nFORMULARI D’INSCRIPCIÓ   \nCost d’inscripció: Gratuït per a persones que formen part de l’equip de Càritas. Aportació de 10€ per a la resta (les persones que no puguin assumir aquest cost\, poden sol·licitar exempció de pagament). \nCodi curs: 2026.05_VOLSBAS04 \nCurs reconegut pel Pla de Formació de l’Associacionsime i el Voluntariat de Catalunya (PFAVC) \nAmb el suport de   
URL:https://caritas.barcelona/agenda-caritas/curs-basic-de-voluntariat-social-2026-05_volsbas04-durada-14-hores-4-sessions/
LOCATION:Seminari Conciliar de Barcelona\, Diputació\, 231\, Barcelona\, Barcelona\, 08007\, Espanya
ATTACH;FMTTYPE=image/jpeg:https://caritas.barcelona/wp-content/uploads/2023/07/VOLSBAS_Proposta.jpg
ORGANIZER;CN="C%C3%A0ritas Barcelona":MAILTO:caritas@caritas.barcelona
GEO:41.3882329;2.1629603
X-APPLE-STRUCTURED-LOCATION;VALUE=URI;X-ADDRESS=Seminari Conciliar de Barcelona Diputació 231 Barcelona Barcelona 08007 Espanya;X-APPLE-RADIUS=500;X-TITLE=Diputació\, 231:geo:2.1629603,41.3882329
END:VEVENT
BEGIN:VEVENT
DTSTART;TZID=Europe/Madrid:20260602T103000
DTEND;TZID=Europe/Madrid:20260602T120000
DTSTAMP:20260422T162426
CREATED:20260414T104554Z
LAST-MODIFIED:20260414T104554Z
UID:10002222-1780396200-1780401600@caritas.barcelona
SUMMARY:SESSIÓ INFORMATIVA SOBRE VOLUNTARIAT - GENERAL -Format virtual- 2 de juny a les 10.30hs (en castellà)
DESCRIPTION:Aquest és el primer pas per ser voluntari o voluntària de Càritas. Des del programa de Voluntariat\, organitzem sessions informatives periòdiques\, per a totes aquelles persones que vulguin ser voluntàries a la nostra institució.  \nAquesta sessió s’impartirà en castellà\nSi vols apuntar-te a una sessió informativa sobre el voluntariat a Càritas\, inscriu-te a través del següent formulari\, indicant la sessió a la qual vols assistir: \nFes-te voluntari | Caritas Barcelona \n  \nEl programa de voluntariat de Càritas Barcelona compta amb el suport de la Generalitat de Catalunya.
URL:https://caritas.barcelona/agenda-caritas/sessio-informativa-sobre-voluntariat-general-format-virtual-2-de-juny-a-les-10-30hs-en-castella/
LOCATION:Barcelona
ATTACH;FMTTYPE=image/png:https://caritas.barcelona/wp-content/uploads/2025/08/Fes-voluntariat_generic.png
ORGANIZER;CN="C%C3%A0ritas Barcelona":MAILTO:caritas@caritas.barcelona
END:VEVENT
END:VCALENDAR